{"text_format":"1","workbook":"xlsx","n_sheets":5,"sheets":["個人戦","シングルス　選手名簿","ダブルス　選手名簿","選手参照","参照"],"not_rendered":{"charts":0,"images":0,"macros":1,"external_links":0,"defined_names":1,"comments":0,"pivot_tables":0},"unopened":[],"bounds":{"document_bytes":16777216,"sheet_cells":100000,"rows_first":2000,"rows_last":500,"rows_between":2000,"halvings":0,"cell_chars":16384,"cell_head_chars":4096},"cells_cut":0,"cells_raw":0,"read":"whole","date_system":"1900"}

{"sheet":"個人戦","index":0,"n_rows":18,"n_cols":28,"rows_kept":18,"cut":false,"hidden":false,"merged":[[4,4,4,14],[4,15,4,17],[4,1,4,3],[7,7,11,7],[13,1,14,3],[7,8,11,8],[13,4,14,7],[10,1,11,2],[10,4,11,6],[4,18,4,21],[3,1,3,3],[10,3,11,3],[3,26,4,26],[5,23,6,23],[5,24,6,24],[6,26,7,26],[6,1,6,6],[6,8,6,14],[6,16,6,21],[7,9,11,9],[7,15,11,15],[7,23,8,23],[8,1,9,6],[7,1,7,3],[10,23,10,26],[1,1,1,21],[2,20,2,21],[3,7,3,9],[3,11,3,14],[3,15,3,17],[3,18,3,21],[2,6,2,7],[2,16,2,18],[2,9,2,14],[12,23,13,27],[14,23,17,27],[17,1,18,4],[17,5,18,6],[16,1,16,4],[17,17,18,21],[17,9,18,15],[16,5,16,6],[13,15,14,16],[13,17,14,21],[16,9,16,15],[16,17,16,21],[7,13,11,13],[10,18,11,21],[7,14,11,14],[7,16,7,17],[8,16,9,21],[10,16,11,16],[10,17,11,17]]}
[]
[null,{"$f":"X15","v":"平成２３年度　長野県高等学校総合体育大会\n【卓球競技会】"},null,null,null,null,null,null,null,null,null,null,null,null,null,null,null,null,null,null,null,null,null,"　シングルス・・・１\n　ダブルス　・・・２",1]
[null,null,null,null,null,null,"個人戦",null,"（",{"$f":"VLOOKUP($Y$2,参照!$A$3:$B$4,2)","v":"シングルス"},null,null,null,null,null,"）","記録用紙",null,null,null,null,null,null,"　男子・・・１\n　女子・・・２",2]
[null,"性別",null,null,null,null,"（",{"$f":"IF(Y4<=6,VLOOKUP($Y$4,参照!$A$11:$B$19,2),\"\")","v":"１"},null,null,"）","回戦",null,null,null,"試合番号",null,null,"コート番号",null,null,null,null,"　○回戦",1,null,"準決勝：7\n決　勝：8\n決定戦：9"]
[null,{"$f":"VLOOKUP($Y$3,参照!$A$7:$B$8,2)","v":"女子"},null,null,{"$f":"IF($Y$4>=7,VLOOKUP(個人戦!$Y$4,参照!$A$11:$B$19,2),\"\")","v":""},null,null,null,null,null,null,null,null,null,null,{"$f":"Y6","v":"1-32"},null,null,{"$f":"AA7","v":0}]
[null,null,null,null,null,null,null,null,null,null,null,null,null,null,null,null,null,null,null,null,null,null,null,"試合番号","1-32",null,"コート番号"]
[null,"選手名",null,null,null,null,null,"ＳＲ","対戦記録",null,null,null,null,null,null,"ＳＲ","選手名"]
[null,{"$f":"Y8","v":1},null,null,null,null,null,null,null,null,null,"―",null,null,null,null,{"$f":"Y9","v":2},null,null,null,null,null,null,"選手番号",1]
[null,{"$f":"VLOOKUP($Y$2*10000+$Y$3*1000+$Y$8,選手参照!$A$3:$D$1952,2)","v":0},null,null,null,null,null,null,null,null,null,"―",null,null,null,null,{"$f":"VLOOKUP($Y$2*10000+$Y$3*1000+$Y$9,選手参照!$A$3:$D$1952,2)","v":0},null,null,null,null,null,null,null,2]
[null,null,null,null,null,null,null,null,null,null,null,"―"]
[null,{"$f":"VLOOKUP($Y$2*10000+$Y$3*1000+$Y$8,選手参照!$A$3:$D$1952,4)","v":0},null,"県",{"$f":"VLOOKUP($Y$2*10000+$Y$3*1000+$Y$8,選手参照!$A$3:$D$1952,3)","v":0},null,null,null,null,null,null,"―",null,null,null,null,{"$f":"VLOOKUP($Y$2*10000+$Y$3*1000+$Y$9,選手参照!$A$3:$D$1952,4)","v":0},"県",{"$f":"VLOOKUP($Y$2*10000+$Y$3*1000+$Y$9,選手参照!$A$3:$D$1952,3)","v":0},null,null,null,null,"印刷は，『Cｔｒｌ＋P』　を押して下さい。",null,null,null,"※　マクロは有効にしてください。"]
[null,null,null,null,null,null,null,null,null,null,null,"―"]
[null,null,null,null,null,null,null,null,null,null,null,null,null,null,null,null,null,null,null,null,null,null,null,"大会名称"]
[null,"選手サイン",null,null,null,null,null,null,null,null,null,null,null,null,null,"選手サイン"]
[null,null,null,null,null,null,null,null,null,null,null,null,null,null,null,null,null,null,null,null,null,null,null,"平成２３年度　長野県高等学校総合体育大会\n【卓球競技会】"]
[]
[null,"開　始　時　刻",null,null,null,"　終　了　時　刻　",null,null,null,"主審サイン",null,null,null,null,null,null,null,"審判長サイン"]
[null,"　　　　時　　　　分",null,null,null,"　　　　時　　　　分"]

{"sheet":"シングルス　選手名簿","index":1,"n_rows":502,"n_cols":9,"rows_kept":502,"cut":false,"hidden":false,"merged":[[0,0,0,1],[0,5,0,6]]}
["男子シングルス",null,null,null,null,"女子シングルス"]
[null,"氏名","チーム名","県名",null,null,"氏名","チーム名","県名"]
[1,null,null,null,null,1]
[2,null,null,null,null,2]
[3,null,null,null,null,3]
[4,null,null,null,null,4]
[5,null,null,null,null,5]
[6,null,null,null,null,6]
[7,null,null,null,null,7]
[8,null,null,null,null,8]
[9,null,null,null,null,9]
[10,null,null,null,null,10]
[11,null,null,null,null,11]
[12,null,null,null,null,12]
[13,null,null,null,null,13]
[14,null,null,null,null,14]
[15,null,null,null,null,15]
[16,null,null,null,null,16]
[17,null,null,null,null,17]
[18,null,null,null,null,18]
[19,null,null,null,null,19]
[20,null,null,null,null,20]
[21,null,null,null,null,21]
[22,null,null,null,null,22]
[23,null,null,null,null,23]
[24,null,null,null,null,24]
[25,null,null,null,null,25]
[26,null,null,null,null,26]
[27,null,null,null,null,27]
[28,null,null,null,null,28]
[29,null,null,null,null,29]
[30,null,null,null,null,30]
[31,null,null,null,null,31]
[32,null,null,null,null,32]
[33,null,null,null,null,33]
[34,null,null,null,null,34]
[35,null,null,null,null,35]
[36,null,null,null,null,36]
[37,null,null,null,null,37]
[38,null,null,null,null,38]
[39,null,null,null,null,39]
[40,null,null,null,null,40]
[41,null,null,null,null,41]
[42,null,null,null,null,42]
[43,null,null,null,null,43]
[44,null,null,null,null,44]
[45,null,null,null,null,45]
[46,null,null,null,null,46]
[47,null,null,null,null,47]
[48,null,null,null,null,48]
[49,null,null,null,null,49]
[50,null,null,null,null,50]
[51,null,null,null,null,51]
[52,null,null,null,null,52]
[53,null,null,null,null,53]
[54,null,null,null,null,54]
[55,null,null,null,null,55]
[56,null,null,null,null,56]
[57,null,null,null,null,57]
[58,null,null,null,null,58]
[59,null,null,null,null,59]
[60,null,null,null,null,60]
[61,null,null,null,null,61]
[62,null,null,null,null,62]
[63,null,null,null,null,63]
[64,null,null,null,null,64]
[65,null,null,null,null,65]
[66,null,null,null,null,66]
[67,null,null,null,null,67]
[68,null,null,null,null,68]
[69,null,null,null,null,69]
[70,null,null,null,null,70]
[71,null,null,null,null,71]
[72,null,null,null,null,72]
[73,null,null,null,null,73]
[74,null,null,null,null,74]
[75,null,null,null,null,75]
[76,null,null,null,null,76]
[77,null,null,null,null,77]
[78,null,null,null,null,78]
[79,null,null,null,null,79]
[80,null,null,null,null,80]
[81,null,null,null,null,81]
[82,null,null,null,null,82]
[83,null,null,null,null,83]
[84,null,null,null,null,84]
[85,null,null,null,null,85]
[86,null,null,null,null,86]
[87,null,null,null,null,87]
[88,null,null,null,null,88]
[89,null,null,null,null,89]
[90,null,null,null,null,90]
[91,null,null,null,null,91]
[92,null,null,null,null,92]
[93,null,null,null,null,93]
[94,null,null,null,null,94]
[95,null,null,null,null,95]
[96,null,null,null,null,96]
[97,null,null,null,null,97]
[98,null,null,null,null,98]
[99,null,null,null,null,99]
[100,null,null,null,null,100]
[101,null,null,null,null,101]
[102,null,null,null,null,102]
[103,null,null,null,null,103]
[104,null,null,null,null,104]
[105,null,null,null,null,105]
[106,null,null,null,null,106]
[107,null,null,null,null,107]
[108,null,null,null,null,108]
[109,null,null,null,null,109]
[110,null,null,null,null,110]
[111,null,null,null,null,111]
[112,null,null,null,null,112]
[113,null,null,null,null,113]
[114,null,null,null,null,114]
[115,null,null,null,null,115]
[116,null,null,null,null,116]
[117,null,null,null,null,117]
[118,null,null,null,null,118]
[119,null,null,null,null,119]
[120,null,null,null,null,120]
[121,null,null,null,null,121]
[122,null,null,null,null,122]
[123,null,null,null,null,123]
[124,null,null,null,null,124]
[125,null,null,null,null,125]
[126,null,null,null,null,126]
[127,null,null,null,null,127]
[128,null,null,null,null,128]
[129,null,null,null,null,129]
[130,null,null,null,null,130]
[131,null,null,null,null,131]
[132,null,null,null,null,132]
[133,null,null,null,null,133]
[134,null,null,null,null,134]
[135,null,null,null,null,135]
[136,null,null,null,null,136]
[137,null,null,null,null,137]
[138,null,null,null,null,138]
[139,null,null,null,null,139]
[140,null,null,null,null,140]
[141,null,null,null,null,141]
[142,null,null,null,null,142]
[143,null,null,null,null,143]
[144,null,null,null,null,144]
[145,null,null,null,null,145]
[146,null,null,null,null,146]
[147,null,null,null,null,147]
[148,null,null,null,null,148]
[149,null,null,null,null,149]
[150,null,null,null,null,150]
[151,null,null,null,null,151]
[152,null,null,null,null,152]
[153,null,null,null,null,153]
[154,null,null,null,null,154]
[155,null,null,null,null,155]
[156,null,null,null,null,156]
[157,null,null,null,null,157]
[158,null,null,null,null,158]
[159,null,null,null,null,159]
[160,null,null,null,null,160]
[161,null,null,null,null,161]
[162,null,null,null,null,162]
[163,null,null,null,null,163]
[164,null,null,null,null,164]
[165,null,null,null,null,165]
[166,null,null,null,null,166]
[167,null,null,null,null,167]
[168,null,null,null,null,168]
[169,null,null,null,null,169]
[170,null,null,null,null,170]
[171,null,null,null,null,171]
[172,null,null,null,null,172]
[173,null,null,null,null,173]
[174,null,null,null,null,174]
[175,null,null,null,null,175]
[176,null,null,null,null,176]
[177,null,null,null,null,177]
[178,null,null,null,null,178]
[179,null,null,null,null,179]
[180,null,null,null,null,180]
[181,null,null,null,null,181]
[182,null,null,null,null,182]
[183,null,null,null,null,183]
[184,null,null,null,null,184]
[185,null,null,null,null,185]
[186,null,null,null,null,186]
[187,null,null,null,null,187]
[188,null,null,null,null,188]
[189,null,null,null,null,189]
[190,null,null,null,null,190]
[191,null,null,null,null,191]
[192,null,null,null,null,192]
[193,null,null,null,null,193]
[194,null,null,null,null,194]
[195,null,null,null,null,195]
[196,null,null,null,null,196]
[197,null,null,null,null,197]
[198,null,null,null,null,198]
[199,null,null,null,null,199]
[200,null,null,null,null,200]
[201,null,null,null,null,201]
[202,null,null,null,null,202]
[203,null,null,null,null,203]
[204,null,null,null,null,204]
[205,null,null,null,null,205]
[206,null,null,null,null,206]
[207,null,null,null,null,207]
[208,null,null,null,null,208]
[209,null,null,null,null,209]
[210,null,null,null,null,210]
[211,null,null,null,null,211]
[212,null,null,null,null,212]
[213,null,null,null,null,213]
[214,null,null,null,null,214]
[215,null,null,null,null,215]
[216,null,null,null,null,216]
[217,null,null,null,null,217]
[218,null,null,null,null,218]
[219,null,null,null,null,219]
[220,null,null,null,null,220]
[221,null,null,null,null,221]
[222,null,null,null,null,222]
[223,null,null,null,null,223]
[224,null,null,null,null,224]
[225,null,null,null,null,225]
[226,null,null,null,null,226]
[227,null,null,null,null,227]
[228,null,null,null,null,228]
[229,null,null,null,null,229]
[230,null,null,null,null,230]
[231,null,null,null,null,231]
[232,null,null,null,null,232]
[233,null,null,null,null,233]
[234,null,null,null,null,234]
[235,null,null,null,null,235]
[236,null,null,null,null,236]
[237,null,null,null,null,237]
[238,null,null,null,null,238]
[239,null,null,null,null,239]
[240,null,null,null,null,240]
[241,null,null,null,null,241]
[242,null,null,null,null,242]
[243,null,null,null,null,243]
[244,null,null,null,null,244]
[245,null,null,null,null,245]
[246,null,null,null,null,246]
[247,null,null,null,null,247]
[248,null,null,null,null,248]
[249,null,null,null,null,249]
[250,null,null,null,null,250]
[251,null,null,null,null,251]
[252,null,null,null,null,252]
[253,null,null,null,null,253]
[254,null,null,null,null,254]
[255,null,null,null,null,255]
[256,null,null,null,null,256]
[257,null,null,null,null,257]
[258,null,null,null,null,258]
[259,null,null,null,null,259]
[260,null,null,null,null,260]
[261,null,null,null,null,261]
[262,null,null,null,null,262]
[263,null,null,null,null,263]
[264,null,null,null,null,264]
[265,null,null,null,null,265]
[266,null,null,null,null,266]
[267,null,null,null,null,267]
[268,null,null,null,null,268]
[269,null,null,null,null,269]
[270,null,null,null,null,270]
[271,null,null,null,null,271]
[272,null,null,null,null,272]
[273,null,null,null,null,273]
[274,null,null,null,null,274]
[275,null,null,null,null,275]
[276,null,null,null,null,276]
[277,null,null,null,null,277]
[278,null,null,null,null,278]
[279,null,null,null,null,279]
[280,null,null,null,null,280]
[281,null,null,null,null,281]
[282,null,null,null,null,282]
[283,null,null,null,null,283]
[284,null,null,null,null,284]
[285,null,null,null,null,285]
[286,null,null,null,null,286]
[287,null,null,null,null,287]
[288,null,null,null,null,288]
[289,null,null,null,null,289]
[290,null,null,null,null,290]
[291,null,null,null,null,291]
[292,null,null,null,null,292]
[293,null,null,null,null,293]
[294,null,null,null,null,294]
[295,null,null,null,null,295]
[296,null,null,null,null,296]
[297,null,null,null,null,297]
[298,null,null,null,null,298]
[299,null,null,null,null,299]
[300,null,null,null,null,300]
[301,null,null,null,null,301]
[302,null,null,null,null,302]
[303,null,null,null,null,303]
[304,null,null,null,null,304]
[305,null,null,null,null,305]
[306,null,null,null,null,306]
[307,null,null,null,null,307]
[308,null,null,null,null,308]
[309,null,null,null,null,309]
[310,null,null,null,null,310]
[311,null,null,null,null,311]
[312,null,null,null,null,312]
[313,null,null,null,null,313]
[314,null,null,null,null,314]
[315,null,null,null,null,315]
[316,null,null,null,null,316]
[317,null,null,null,null,317]
[318,null,null,null,null,318]
[319,null,null,null,null,319]
[320,null,null,null,null,320]
[321,null,null,null,null,321]
[322,null,null,null,null,322]
[323,null,null,null,null,323]
[324,null,null,null,null,324]
[325,null,null,null,null,325]
[326,null,null,null,null,326]
[327,null,null,null,null,327]
[328,null,null,null,null,328]
[329,null,null,null,null,329]
[330,null,null,null,null,330]
[331,null,null,null,null,331]
[332,null,null,null,null,332]
[333,null,null,null,null,333]
[334,null,null,null,null,334]
[335,null,null,null,null,335]
[336,null,null,null,null,336]
[337,null,null,null,null,337]
[338,null,null,null,null,338]
[339,null,null,null,null,339]
[340,null,null,null,null,340]
[341,null,null,null,null,341]
[342,null,null,null,null,342]
[343,null,null,null,null,343]
[344,null,null,null,null,344]
[345,null,null,null,null,345]
[346,null,null,null,null,346]
[347,null,null,null,null,347]
[348,null,null,null,null,348]
[349,null,null,null,null,349]
[350,null,null,null,null,350]
[351,null,null,null,null,351]
[352,null,null,null,null,352]
[353,null,null,null,null,353]
[354,null,null,null,null,354]
[355,null,null,null,null,355]
[356,null,null,null,null,356]
[357,null,null,null,null,357]
[358,null,null,null,null,358]
[359,null,null,null,null,359]
[360,null,null,null,null,360]
[361,null,null,null,null,361]
[362,null,null,null,null,362]
[363,null,null,null,null,363]
[364,null,null,null,null,364]
[365,null,null,null,null,365]
[366,null,null,null,null,366]
[367,null,null,null,null,367]
[368,null,null,null,null,368]
[369,null,null,null,null,369]
[370,null,null,null,null,370]
[371,null,null,null,null,371]
[372,null,null,null,null,372]
[373,null,null,null,null,373]
[374,null,null,null,null,374]
[375,null,null,null,null,375]
[376,null,null,null,null,376]
[377,null,null,null,null,377]
[378,null,null,null,null,378]
[379,null,null,null,null,379]
[380,null,null,null,null,380]
[381,null,null,null,null,381]
[382,null,null,null,null,382]
[383,null,null,null,null,383]
[384,null,null,null,null,384]
[385,null,null,null,null,385]
[386,null,null,null,null,386]
[387,null,null,null,null,387]
[388,null,null,null,null,388]
[389,null,null,null,null,389]
[390,null,null,null,null,390]
[391,null,null,null,null,391]
[392,null,null,null,null,392]
[393,null,null,null,null,393]
[394,null,null,null,null,394]
[395,null,null,null,null,395]
[396,null,null,null,null,396]
[397,null,null,null,null,397]
[398,null,null,null,null,398]
[399,null,null,null,null,399]
[400,null,null,null,null,400]
[401,null,null,null,null,401]
[402,null,null,null,null,402]
[403,null,null,null,null,403]
[404,null,null,null,null,404]
[405,null,null,null,null,405]
[406,null,null,null,null,406]
[407,null,null,null,null,407]
[408,null,null,null,null,408]
[409,null,null,null,null,409]
[410,null,null,null,null,410]
[411,null,null,null,null,411]
[412,null,null,null,null,412]
[413,null,null,null,null,413]
[414,null,null,null,null,414]
[415,null,null,null,null,415]
[416,null,null,null,null,416]
[417,null,null,null,null,417]
[418,null,null,null,null,418]
[419,null,null,null,null,419]
[420,null,null,null,null,420]
[421,null,null,null,null,421]
[422,null,null,null,null,422]
[423,null,null,null,null,423]
[424,null,null,null,null,424]
[425,null,null,null,null,425]
[426,null,null,null,null,426]
[427,null,null,null,null,427]
[428,null,null,null,null,428]
[429,null,null,null,null,429]
[430,null,null,null,null,430]
[431,null,null,null,null,431]
[432,null,null,null,null,432]
[433,null,null,null,null,433]
[434,null,null,null,null,434]
[435,null,null,null,null,435]
[436,null,null,null,null,436]
[437,null,null,null,null,437]
[438,null,null,null,null,438]
[439,null,null,null,null,439]
[440,null,null,null,null,440]
[441,null,null,null,null,441]
[442,null,null,null,null,442]
[443,null,null,null,null,443]
[444,null,null,null,null,444]
[445,null,null,null,null,445]
[446,null,null,null,null,446]
[447,null,null,null,null,447]
[448,null,null,null,null,448]
[449,null,null,null,null,449]
[450,null,null,null,null,450]
[451,null,null,null,null,451]
[452,null,null,null,null,452]
[453,null,null,null,null,453]
[454,null,null,null,null,454]
[455,null,null,null,null,455]
[456,null,null,null,null,456]
[457,null,null,null,null,457]
[458,null,null,null,null,458]
[459,null,null,null,null,459]
[460,null,null,null,null,460]
[461,null,null,null,null,461]
[462,null,null,null,null,462]
[463,null,null,null,null,463]
[464,null,null,null,null,464]
[465,null,null,null,null,465]
[466,null,null,null,null,466]
[467,null,null,null,null,467]
[468,null,null,null,null,468]
[469,null,null,null,null,469]
[470,null,null,null,null,470]
[471,null,null,null,null,471]
[472,null,null,null,null,472]
[473,null,null,null,null,473]
[474,null,null,null,null,474]
[475,null,null,null,null,475]
[476,null,null,null,null,476]
[477,null,null,null,null,477]
[478,null,null,null,null,478]
[479,null,null,null,null,479]
[480,null,null,null,null,480]
[481,null,null,null,null,481]
[482,null,null,null,null,482]
[483,null,null,null,null,483]
[484,null,null,null,null,484]
[485,null,null,null,null,485]
[486,null,null,null,null,486]
[487,null,null,null,null,487]
[488,null,null,null,null,488]
[489,null,null,null,null,489]
[490,null,null,null,null,490]
[491,null,null,null,null,491]
[492,null,null,null,null,492]
[493,null,null,null,null,493]
[494,null,null,null,null,494]
[495,null,null,null,null,495]
[496,null,null,null,null,496]
[497,null,null,null,null,497]
[498,null,null,null,null,498]
[499,null,null,null,null,499]
[500,null,null,null,null,500]

{"sheet":"ダブルス　選手名簿","index":2,"n_rows":502,"n_cols":11,"rows_kept":502,"cut":false,"hidden":false,"merged":[[0,0,0,1],[0,5,0,6]]}
["男子ダブルス",null,null,null,null,"女子ダブルス"]
[null,"氏名","チーム名","県名",null,null,"氏名","チーム名","県名",null,"※　氏名と氏名の間は，「Alt＋Enter」で改行してください。"]
[1,null,null,null,null,1]
[2,null,null,null,null,2]
[3,null,null,null,null,3]
[4,null,null,null,null,4]
[5,null,null,null,null,5]
[6,null,null,null,null,6]
[7,null,null,null,null,7]
[8,null,null,null,null,8]
[9,null,null,null,null,9]
[10,null,null,null,null,10]
[11,null,null,null,null,11]
[12,null,null,null,null,12]
[13,null,null,null,null,13]
[14,null,null,null,null,14]
[15,null,null,null,null,15]
[16,null,null,null,null,16]
[17,null,null,null,null,17]
[18,null,null,null,null,18]
[19,null,null,null,null,19]
[20,null,null,null,null,20]
[21,null,null,null,null,21]
[22,null,null,null,null,22]
[23,null,null,null,null,23]
[24,null,null,null,null,24]
[25,null,null,null,null,25]
[26,null,null,null,null,26]
[27,null,null,null,null,27]
[28,null,null,null,null,28]
[29,null,null,null,null,29]
[30,null,null,null,null,30]
[31,null,null,null,null,31]
[32,null,null,null,null,32]
[33,null,null,null,null,33]
[34,null,null,null,null,34]
[35,null,null,null,null,35]
[36,null,null,null,null,36]
[37,null,null,null,null,37]
[38,null,null,null,null,38]
[39,null,null,null,null,39]
[40,null,null,null,null,40]
[41,null,null,null,null,41]
[42,null,null,null,null,42]
[43,null,null,null,null,43]
[44,null,null,null,null,44]
[45,null,null,null,null,45]
[46,null,null,null,null,46]
[47,null,null,null,null,47]
[48,null,null,null,null,48]
[49,null,null,null,null,49]
[50,null,null,null,null,50]
[51,null,null,null,null,51]
[52,null,null,null,null,52]
[53,null,null,null,null,53]
[54,null,null,null,null,54]
[55,null,null,null,null,55]
[56,null,null,null,null,56]
[57,null,null,null,null,57]
[58,null,null,null,null,58]
[59,null,null,null,null,59]
[60,null,null,null,null,60]
[61,null,null,null,null,61]
[62,null,null,null,null,62]
[63,null,null,null,null,63]
[64,null,null,null,null,64]
[65,null,null,null,null,65]
[66,null,null,null,null,66]
[67,null,null,null,null,67]
[68,null,null,null,null,68]
[69,null,null,null,null,69]
[70,null,null,null,null,70]
[71,null,null,null,null,71]
[72,null,null,null,null,72]
[73,null,null,null,null,73]
[74,null,null,null,null,74]
[75,null,null,null,null,75]
[76,null,null,null,null,76]
[77,null,null,null,null,77]
[78,null,null,null,null,78]
[79,null,null,null,null,79]
[80,null,null,null,null,80]
[81,null,null,null,null,81]
[82,null,null,null,null,82]
[83,null,null,null,null,83]
[84,null,null,null,null,84]
[85,null,null,null,null,85]
[86,null,null,null,null,86]
[87,null,null,null,null,87]
[88,null,null,null,null,88]
[89,null,null,null,null,89]
[90,null,null,null,null,90]
[91,null,null,null,null,91]
[92,null,null,null,null,92]
[93,null,null,null,null,93]
[94,null,null,null,null,94]
[95,null,null,null,null,95]
[96,null,null,null,null,96]
[97,null,null,null,null,97]
[98,null,null,null,null,98]
[99,null,null,null,null,99]
[100,null,null,null,null,100]
[101,null,null,null,null,101]
[102,null,null,null,null,102]
[103,null,null,null,null,103]
[104,null,null,null,null,104]
[105,null,null,null,null,105]
[106,null,null,null,null,106]
[107,null,null,null,null,107]
[108,null,null,null,null,108]
[109,null,null,null,null,109]
[110,null,null,null,null,110]
[111,null,null,null,null,111]
[112,null,null,null,null,112]
[113,null,null,null,null,113]
[114,null,null,null,null,114]
[115,null,null,null,null,115]
[116,null,null,null,null,116]
[117,null,null,null,null,117]
[118,null,null,null,null,118]
[119,null,null,null,null,119]
[120,null,null,null,null,120]
[121,null,null,null,null,121]
[122,null,null,null,null,122]
[123,null,null,null,null,123]
[124,null,null,null,null,124]
[125,null,null,null,null,125]
[126,null,null,null,null,126]
[127,null,null,null,null,127]
[128,null,null,null,null,128]
[129,null,null,null,null,129]
[130,null,null,null,null,130]
[131,null,null,null,null,131]
[132,null,null,null,null,132]
[133,null,null,null,null,133]
[134,null,null,null,null,134]
[135,null,null,null,null,135]
[136,null,null,null,null,136]
[137,null,null,null,null,137]
[138,null,null,null,null,138]
[139,null,null,null,null,139]
[140,null,null,null,null,140]
[141,null,null,null,null,141]
[142,null,null,null,null,142]
[143,null,null,null,null,143]
[144,null,null,null,null,144]
[145,null,null,null,null,145]
[146,null,null,null,null,146]
[147,null,null,null,null,147]
[148,null,null,null,null,148]
[149,null,null,null,null,149]
[150,null,null,null,null,150]
[151,null,null,null,null,151]
[152,null,null,null,null,152]
[153,null,null,null,null,153]
[154,null,null,null,null,154]
[155,null,null,null,null,155]
[156,null,null,null,null,156]
[157,null,null,null,null,157]
[158,null,null,null,null,158]
[159,null,null,null,null,159]
[160,null,null,null,null,160]
[161,null,null,null,null,161]
[162,null,null,null,null,162]
[163,null,null,null,null,163]
[164,null,null,null,null,164]
[165,null,null,null,null,165]
[166,null,null,null,null,166]
[167,null,null,null,null,167]
[168,null,null,null,null,168]
[169,null,null,null,null,169]
[170,null,null,null,null,170]
[171,null,null,null,null,171]
[172,null,null,null,null,172]
[173,null,null,null,null,173]
[174,null,null,null,null,174]
[175,null,null,null,null,175]
[176,null,null,null,null,176]
[177,null,null,null,null,177]
[178,null,null,null,null,178]
[179,null,null,null,null,179]
[180,null,null,null,null,180]
[181,null,null,null,null,181]
[182,null,null,null,null,182]
[183,null,null,null,null,183]
[184,null,null,null,null,184]
[185,null,null,null,null,185]
[186,null,null,null,null,186]
[187,null,null,null,null,187]
[188,null,null,null,null,188]
[189,null,null,null,null,189]
[190,null,null,null,null,190]
[191,null,null,null,null,191]
[192,null,null,null,null,192]
[193,null,null,null,null,193]
[194,null,null,null,null,194]
[195,null,null,null,null,195]
[196,null,null,null,null,196]
[197,null,null,null,null,197]
[198,null,null,null,null,198]
[199,null,null,null,null,199]
[200,null,null,null,null,200]
[201,null,null,null,null,201]
[202,null,null,null,null,202]
[203,null,null,null,null,203]
[204,null,null,null,null,204]
[205,null,null,null,null,205]
[206,null,null,null,null,206]
[207,null,null,null,null,207]
[208,null,null,null,null,208]
[209,null,null,null,null,209]
[210,null,null,null,null,210]
[211,null,null,null,null,211]
[212,null,null,null,null,212]
[213,null,null,null,null,213]
[214,null,null,null,null,214]
[215,null,null,null,null,215]
[216,null,null,null,null,216]
[217,null,null,null,null,217]
[218,null,null,null,null,218]
[219,null,null,null,null,219]
[220,null,null,null,null,220]
[221,null,null,null,null,221]
[222,null,null,null,null,222]
[223,null,null,null,null,223]
[224,null,null,null,null,224]
[225,null,null,null,null,225]
[226,null,null,null,null,226]
[227,null,null,null,null,227]
[228,null,null,null,null,228]
[229,null,null,null,null,229]
[230,null,null,null,null,230]
[231,null,null,null,null,231]
[232,null,null,null,null,232]
[233,null,null,null,null,233]
[234,null,null,null,null,234]
[235,null,null,null,null,235]
[236,null,null,null,null,236]
[237,null,null,null,null,237]
[238,null,null,null,null,238]
[239,null,null,null,null,239]
[240,null,null,null,null,240]
[241,null,null,null,null,241]
[242,null,null,null,null,242]
[243,null,null,null,null,243]
[244,null,null,null,null,244]
[245,null,null,null,null,245]
[246,null,null,null,null,246]
[247,null,null,null,null,247]
[248,null,null,null,null,248]
[249,null,null,null,null,249]
[250,null,null,null,null,250]
[251,null,null,null,null,251]
[252,null,null,null,null,252]
[253,null,null,null,null,253]
[254,null,null,null,null,254]
[255,null,null,null,null,255]
[256,null,null,null,null,256]
[257,null,null,null,null,257]
[258,null,null,null,null,258]
[259,null,null,null,null,259]
[260,null,null,null,null,260]
[261,null,null,null,null,261]
[262,null,null,null,null,262]
[263,null,null,null,null,263]
[264,null,null,null,null,264]
[265,null,null,null,null,265]
[266,null,null,null,null,266]
[267,null,null,null,null,267]
[268,null,null,null,null,268]
[269,null,null,null,null,269]
[270,null,null,null,null,270]
[271,null,null,null,null,271]
[272,null,null,null,null,272]
[273,null,null,null,null,273]
[274,null,null,null,null,274]
[275,null,null,null,null,275]
[276,null,null,null,null,276]
[277,null,null,null,null,277]
[278,null,null,null,null,278]
[279,null,null,null,null,279]
[280,null,null,null,null,280]
[281,null,null,null,null,281]
[282,null,null,null,null,282]
[283,null,null,null,null,283]
[284,null,null,null,null,284]
[285,null,null,null,null,285]
[286,null,null,null,null,286]
[287,null,null,null,null,287]
[288,null,null,null,null,288]
[289,null,null,null,null,289]
[290,null,null,null,null,290]
[291,null,null,null,null,291]
[292,null,null,null,null,292]
[293,null,null,null,null,293]
[294,null,null,null,null,294]
[295,null,null,null,null,295]
[296,null,null,null,null,296]
[297,null,null,null,null,297]
[298,null,null,null,null,298]
[299,null,null,null,null,299]
[300,null,null,null,null,300]
[301,null,null,null,null,301]
[302,null,null,null,null,302]
[303,null,null,null,null,303]
[304,null,null,null,null,304]
[305,null,null,null,null,305]
[306,null,null,null,null,306]
[307,null,null,null,null,307]
[308,null,null,null,null,308]
[309,null,null,null,null,309]
[310,null,null,null,null,310]
[311,null,null,null,null,311]
[312,null,null,null,null,312]
[313,null,null,null,null,313]
[314,null,null,null,null,314]
[315,null,null,null,null,315]
[316,null,null,null,null,316]
[317,null,null,null,null,317]
[318,null,null,null,null,318]
[319,null,null,null,null,319]
[320,null,null,null,null,320]
[321,null,null,null,null,321]
[322,null,null,null,null,322]
[323,null,null,null,null,323]
[324,null,null,null,null,324]
[325,null,null,null,null,325]
[326,null,null,null,null,326]
[327,null,null,null,null,327]
[328,null,null,null,null,328]
[329,null,null,null,null,329]
[330,null,null,null,null,330]
[331,null,null,null,null,331]
[332,null,null,null,null,332]
[333,null,null,null,null,333]
[334,null,null,null,null,334]
[335,null,null,null,null,335]
[336,null,null,null,null,336]
[337,null,null,null,null,337]
[338,null,null,null,null,338]
[339,null,null,null,null,339]
[340,null,null,null,null,340]
[341,null,null,null,null,341]
[342,null,null,null,null,342]
[343,null,null,null,null,343]
[344,null,null,null,null,344]
[345,null,null,null,null,345]
[346,null,null,null,null,346]
[347,null,null,null,null,347]
[348,null,null,null,null,348]
[349,null,null,null,null,349]
[350,null,null,null,null,350]
[351,null,null,null,null,351]
[352,null,null,null,null,352]
[353,null,null,null,null,353]
[354,null,null,null,null,354]
[355,null,null,null,null,355]
[356,null,null,null,null,356]
[357,null,null,null,null,357]
[358,null,null,null,null,358]
[359,null,null,null,null,359]
[360,null,null,null,null,360]
[361,null,null,null,null,361]
[362,null,null,null,null,362]
[363,null,null,null,null,363]
[364,null,null,null,null,364]
[365,null,null,null,null,365]
[366,null,null,null,null,366]
[367,null,null,null,null,367]
[368,null,null,null,null,368]
[369,null,null,null,null,369]
[370,null,null,null,null,370]
[371,null,null,null,null,371]
[372,null,null,null,null,372]
[373,null,null,null,null,373]
[374,null,null,null,null,374]
[375,null,null,null,null,375]
[376,null,null,null,null,376]
[377,null,null,null,null,377]
[378,null,null,null,null,378]
[379,null,null,null,null,379]
[380,null,null,null,null,380]
[381,null,null,null,null,381]
[382,null,null,null,null,382]
[383,null,null,null,null,383]
[384,null,null,null,null,384]
[385,null,null,null,null,385]
[386,null,null,null,null,386]
[387,null,null,null,null,387]
[388,null,null,null,null,388]
[389,null,null,null,null,389]
[390,null,null,null,null,390]
[391,null,null,null,null,391]
[392,null,null,null,null,392]
[393,null,null,null,null,393]
[394,null,null,null,null,394]
[395,null,null,null,null,395]
[396,null,null,null,null,396]
[397,null,null,null,null,397]
[398,null,null,null,null,398]
[399,null,null,null,null,399]
[400,null,null,null,null,400]
[401,null,null,null,null,401]
[402,null,null,null,null,402]
[403,null,null,null,null,403]
[404,null,null,null,null,404]
[405,null,null,null,null,405]
[406,null,null,null,null,406]
[407,null,null,null,null,407]
[408,null,null,null,null,408]
[409,null,null,null,null,409]
[410,null,null,null,null,410]
[411,null,null,null,null,411]
[412,null,null,null,null,412]
[413,null,null,null,null,413]
[414,null,null,null,null,414]
[415,null,null,null,null,415]
[416,null,null,null,null,416]
[417,null,null,null,null,417]
[418,null,null,null,null,418]
[419,null,null,null,null,419]
[420,null,null,null,null,420]
[421,null,null,null,null,421]
[422,null,null,null,null,422]
[423,null,null,null,null,423]
[424,null,null,null,null,424]
[425,null,null,null,null,425]
[426,null,null,null,null,426]
[427,null,null,null,null,427]
[428,null,null,null,null,428]
[429,null,null,null,null,429]
[430,null,null,null,null,430]
[431,null,null,null,null,431]
[432,null,null,null,null,432]
[433,null,null,null,null,433]
[434,null,null,null,null,434]
[435,null,null,null,null,435]
[436,null,null,null,null,436]
[437,null,null,null,null,437]
[438,null,null,null,null,438]
[439,null,null,null,null,439]
[440,null,null,null,null,440]
[441,null,null,null,null,441]
[442,null,null,null,null,442]
[443,null,null,null,null,443]
[444,null,null,null,null,444]
[445,null,null,null,null,445]
[446,null,null,null,null,446]
[447,null,null,null,null,447]
[448,null,null,null,null,448]
[449,null,null,null,null,449]
[450,null,null,null,null,450]
[451,null,null,null,null,451]
[452,null,null,null,null,452]
[453,null,null,null,null,453]
[454,null,null,null,null,454]
[455,null,null,null,null,455]
[456,null,null,null,null,456]
[457,null,null,null,null,457]
[458,null,null,null,null,458]
[459,null,null,null,null,459]
[460,null,null,null,null,460]
[461,null,null,null,null,461]
[462,null,null,null,null,462]
[463,null,null,null,null,463]
[464,null,null,null,null,464]
[465,null,null,null,null,465]
[466,null,null,null,null,466]
[467,null,null,null,null,467]
[468,null,null,null,null,468]
[469,null,null,null,null,469]
[470,null,null,null,null,470]
[471,null,null,null,null,471]
[472,null,null,null,null,472]
[473,null,null,null,null,473]
[474,null,null,null,null,474]
[475,null,null,null,null,475]
[476,null,null,null,null,476]
[477,null,null,null,null,477]
[478,null,null,null,null,478]
[479,null,null,null,null,479]
[480,null,null,null,null,480]
[481,null,null,null,null,481]
[482,null,null,null,null,482]
[483,null,null,null,null,483]
[484,null,null,null,null,484]
[485,null,null,null,null,485]
[486,null,null,null,null,486]
[487,null,null,null,null,487]
[488,null,null,null,null,488]
[489,null,null,null,null,489]
[490,null,null,null,null,490]
[491,null,null,null,null,491]
[492,null,null,null,null,492]
[493,null,null,null,null,493]
[494,null,null,null,null,494]
[495,null,null,null,null,495]
[496,null,null,null,null,496]
[497,null,null,null,null,497]
[498,null,null,null,null,498]
[499,null,null,null,null,499]
[500,null,null,null,null,500]

{"sheet":"選手参照","index":3,"n_rows":1952,"n_cols":4,"rows_kept":1952,"cut":false,"hidden":true,"merged":[]}
[]
[]
[11001,{"$f":"'シングルス　選手名簿'!B3","v":0},{"$f":"'シングルス　選手名簿'!C3","v":0},{"$f":"'シングルス　選手名簿'!D3","v":0}]
[11002,{"$f":"'シングルス　選手名簿'!B4","v":0},{"$f":"'シングルス　選手名簿'!C4","v":0},{"$f":"'シングルス　選手名簿'!D4","v":0}]
[11003,{"$f":"'シングルス　選手名簿'!B5","v":0},{"$f":"'シングルス　選手名簿'!C5","v":0},{"$f":"'シングルス　選手名簿'!D5","v":0}]
[11004,{"$f":"'シングルス　選手名簿'!B6","v":0},{"$f":"'シングルス　選手名簿'!C6","v":0},{"$f":"'シングルス　選手名簿'!D6","v":0}]
[11005,{"$f":"'シングルス　選手名簿'!B7","v":0},{"$f":"'シングルス　選手名簿'!C7","v":0},{"$f":"'シングルス　選手名簿'!D7","v":0}]
[11006,{"$f":"'シングルス　選手名簿'!B8","v":0},{"$f":"'シングルス　選手名簿'!C8","v":0},{"$f":"'シングルス　選手名簿'!D8","v":0}]
[11007,{"$f":"'シングルス　選手名簿'!B9","v":0},{"$f":"'シングルス　選手名簿'!C9","v":0},{"$f":"'シングルス　選手名簿'!D9","v":0}]
[11008,{"$f":"'シングルス　選手名簿'!B10","v":0},{"$f":"'シングルス　選手名簿'!C10","v":0},{"$f":"'シングルス　選手名簿'!D10","v":0}]
[11009,{"$f":"'シングルス　選手名簿'!B11","v":0},{"$f":"'シングルス　選手名簿'!C11","v":0},{"$f":"'シングルス　選手名簿'!D11","v":0}]
[11010,{"$f":"'シングルス　選手名簿'!B12","v":0},{"$f":"'シングルス　選手名簿'!C12","v":0},{"$f":"'シングルス　選手名簿'!D12","v":0}]
[11011,{"$f":"'シングルス　選手名簿'!B13","v":0},{"$f":"'シングルス　選手名簿'!C13","v":0},{"$f":"'シングルス　選手名簿'!D13","v":0}]
[11012,{"$f":"'シングルス　選手名簿'!B14","v":0},{"$f":"'シングルス　選手名簿'!C14","v":0},{"$f":"'シングルス　選手名簿'!D14","v":0}]
[11013,{"$f":"'シングルス　選手名簿'!B15","v":0},{"$f":"'シングルス　選手名簿'!C15","v":0},{"$f":"'シングルス　選手名簿'!D15","v":0}]
[11014,{"$f":"'シングルス　選手名簿'!B16","v":0},{"$f":"'シングルス　選手名簿'!C16","v":0},{"$f":"'シングルス　選手名簿'!D16","v":0}]
[11015,{"$f":"'シングルス　選手名簿'!B17","v":0},{"$f":"'シングルス　選手名簿'!C17","v":0},{"$f":"'シングルス　選手名簿'!D17","v":0}]
[11016,{"$f":"'シングルス　選手名簿'!B18","v":0},{"$f":"'シングルス　選手名簿'!C18","v":0},{"$f":"'シングルス　選手名簿'!D18","v":0}]
[11017,{"$f":"'シングルス　選手名簿'!B19","v":0},{"$f":"'シングルス　選手名簿'!C19","v":0},{"$f":"'シングルス　選手名簿'!D19","v":0}]
[11018,{"$f":"'シングルス　選手名簿'!B20","v":0},{"$f":"'シングルス　選手名簿'!C20","v":0},{"$f":"'シングルス　選手名簿'!D20","v":0}]
[11019,{"$f":"'シングルス　選手名簿'!B21","v":0},{"$f":"'シングルス　選手名簿'!C21","v":0},{"$f":"'シングルス　選手名簿'!D21","v":0}]
[11020,{"$f":"'シングルス　選手名簿'!B22","v":0},{"$f":"'シングルス　選手名簿'!C22","v":0},{"$f":"'シングルス　選手名簿'!D22","v":0}]
[11021,{"$f":"'シングルス　選手名簿'!B23","v":0},{"$f":"'シングルス　選手名簿'!C23","v":0},{"$f":"'シングルス　選手名簿'!D23","v":0}]
[11022,{"$f":"'シングルス　選手名簿'!B24","v":0},{"$f":"'シングルス　選手名簿'!C24","v":0},{"$f":"'シングルス　選手名簿'!D24","v":0}]
[11023,{"$f":"'シングルス　選手名簿'!B25","v":0},{"$f":"'シングルス　選手名簿'!C25","v":0},{"$f":"'シングルス　選手名簿'!D25","v":0}]
[11024,{"$f":"'シングルス　選手名簿'!B26","v":0},{"$f":"'シングルス　選手名簿'!C26","v":0},{"$f":"'シングルス　選手名簿'!D26","v":0}]
[11025,{"$f":"'シングルス　選手名簿'!B27","v":0},{"$f":"'シングルス　選手名簿'!C27","v":0},{"$f":"'シングルス　選手名簿'!D27","v":0}]
[11026,{"$f":"'シングルス　選手名簿'!B28","v":0},{"$f":"'シングルス　選手名簿'!C28","v":0},{"$f":"'シングルス　選手名簿'!D28","v":0}]
[11027,{"$f":"'シングルス　選手名簿'!B29","v":0},{"$f":"'シングルス　選手名簿'!C29","v":0},{"$f":"'シングルス　選手名簿'!D29","v":0}]
[11028,{"$f":"'シングルス　選手名簿'!B30","v":0},{"$f":"'シングルス　選手名簿'!C30","v":0},{"$f":"'シングルス　選手名簿'!D30","v":0}]
[11029,{"$f":"'シングルス　選手名簿'!B31","v":0},{"$f":"'シングルス　選手名簿'!C31","v":0},{"$f":"'シングルス　選手名簿'!D31","v":0}]
[11030,{"$f":"'シングルス　選手名簿'!B32","v":0},{"$f":"'シングルス　選手名簿'!C32","v":0},{"$f":"'シングルス　選手名簿'!D32","v":0}]
[11031,{"$f":"'シングルス　選手名簿'!B33","v":0},{"$f":"'シングルス　選手名簿'!C33","v":0},{"$f":"'シングルス　選手名簿'!D33","v":0}]
[11032,{"$f":"'シングルス　選手名簿'!B34","v":0},{"$f":"'シングルス　選手名簿'!C34","v":0},{"$f":"'シングルス　選手名簿'!D34","v":0}]
[11033,{"$f":"'シングルス　選手名簿'!B35","v":0},{"$f":"'シングルス　選手名簿'!C35","v":0},{"$f":"'シングルス　選手名簿'!D35","v":0}]
[11034,{"$f":"'シングルス　選手名簿'!B36","v":0},{"$f":"'シングルス　選手名簿'!C36","v":0},{"$f":"'シングルス　選手名簿'!D36","v":0}]
[11035,{"$f":"'シングルス　選手名簿'!B37","v":0},{"$f":"'シングルス　選手名簿'!C37","v":0},{"$f":"'シングルス　選手名簿'!D37","v":0}]
[11036,{"$f":"'シングルス　選手名簿'!B38","v":0},{"$f":"'シングルス　選手名簿'!C38","v":0},{"$f":"'シングルス　選手名簿'!D38","v":0}]
[11037,{"$f":"'シングルス　選手名簿'!B39","v":0},{"$f":"'シングルス　選手名簿'!C39","v":0},{"$f":"'シングルス　選手名簿'!D39","v":0}]
[11038,{"$f":"'シングルス　選手名簿'!B40","v":0},{"$f":"'シングルス　選手名簿'!C40","v":0},{"$f":"'シングルス　選手名簿'!D40","v":0}]
[11039,{"$f":"'シングルス　選手名簿'!B41","v":0},{"$f":"'シングルス　選手名簿'!C41","v":0},{"$f":"'シングルス　選手名簿'!D41","v":0}]
[11040,{"$f":"'シングルス　選手名簿'!B42","v":0},{"$f":"'シングルス　選手名簿'!C42","v":0},{"$f":"'シングルス　選手名簿'!D42","v":0}]
[11041,{"$f":"'シングルス　選手名簿'!B43","v":0},{"$f":"'シングルス　選手名簿'!C43","v":0},{"$f":"'シングルス　選手名簿'!D43","v":0}]
[11042,{"$f":"'シングルス　選手名簿'!B44","v":0},{"$f":"'シングルス　選手名簿'!C44","v":0},{"$f":"'シングルス　選手名簿'!D44","v":0}]
[11043,{"$f":"'シングルス　選手名簿'!B45","v":0},{"$f":"'シングルス　選手名簿'!C45","v":0},{"$f":"'シングルス　選手名簿'!D45","v":0}]
[11044,{"$f":"'シングルス　選手名簿'!B46","v":0},{"$f":"'シングルス　選手名簿'!C46","v":0},{"$f":"'シングルス　選手名簿'!D46","v":0}]
[11045,{"$f":"'シングルス　選手名簿'!B47","v":0},{"$f":"'シングルス　選手名簿'!C47","v":0},{"$f":"'シングルス　選手名簿'!D47","v":0}]
[11046,{"$f":"'シングルス　選手名簿'!B48","v":0},{"$f":"'シングルス　選手名簿'!C48","v":0},{"$f":"'シングルス　選手名簿'!D48","v":0}]
[11047,{"$f":"'シングルス　選手名簿'!B49","v":0},{"$f":"'シングルス　選手名簿'!C49","v":0},{"$f":"'シングルス　選手名簿'!D49","v":0}]
[11048,{"$f":"'シングルス　選手名簿'!B50","v":0},{"$f":"'シングルス　選手名簿'!C50","v":0},{"$f":"'シングルス　選手名簿'!D50","v":0}]
[11049,{"$f":"'シングルス　選手名簿'!B51","v":0},{"$f":"'シングルス　選手名簿'!C51","v":0},{"$f":"'シングルス　選手名簿'!D51","v":0}]
[11050,{"$f":"'シングルス　選手名簿'!B52","v":0},{"$f":"'シングルス　選手名簿'!C52","v":0},{"$f":"'シングルス　選手名簿'!D52","v":0}]
[11051,{"$f":"'シングルス　選手名簿'!B53","v":0},{"$f":"'シングルス　選手名簿'!C53","v":0},{"$f":"'シングルス　選手名簿'!D53","v":0}]
[11052,{"$f":"'シングルス　選手名簿'!B54","v":0},{"$f":"'シングルス　選手名簿'!C54","v":0},{"$f":"'シングルス　選手名簿'!D54","v":0}]
[11053,{"$f":"'シングルス　選手名簿'!B55","v":0},{"$f":"'シングルス　選手名簿'!C55","v":0},{"$f":"'シングルス　選手名簿'!D55","v":0}]
[11054,{"$f":"'シングルス　選手名簿'!B56","v":0},{"$f":"'シングルス　選手名簿'!C56","v":0},{"$f":"'シングルス　選手名簿'!D56","v":0}]
[11055,{"$f":"'シングルス　選手名簿'!B57","v":0},{"$f":"'シングルス　選手名簿'!C57","v":0},{"$f":"'シングルス　選手名簿'!D57","v":0}]
[11056,{"$f":"'シングルス　選手名簿'!B58","v":0},{"$f":"'シングルス　選手名簿'!C58","v":0},{"$f":"'シングルス　選手名簿'!D58","v":0}]
[11057,{"$f":"'シングルス　選手名簿'!B59","v":0},{"$f":"'シングルス　選手名簿'!C59","v":0},{"$f":"'シングルス　選手名簿'!D59","v":0}]
[11058,{"$f":"'シングルス　選手名簿'!B60","v":0},{"$f":"'シングルス　選手名簿'!C60","v":0},{"$f":"'シングルス　選手名簿'!D60","v":0}]
[11059,{"$f":"'シングルス　選手名簿'!B61","v":0},{"$f":"'シングルス　選手名簿'!C61","v":0},{"$f":"'シングルス　選手名簿'!D61","v":0}]
[11060,{"$f":"'シングルス　選手名簿'!B62","v":0},{"$f":"'シングルス　選手名簿'!C62","v":0},{"$f":"'シングルス　選手名簿'!D62","v":0}]
[11061,{"$f":"'シングルス　選手名簿'!B63","v":0},{"$f":"'シングルス　選手名簿'!C63","v":0},{"$f":"'シングルス　選手名簿'!D63","v":0}]
[11062,{"$f":"'シングルス　選手名簿'!B64","v":0},{"$f":"'シングルス　選手名簿'!C64","v":0},{"$f":"'シングルス　選手名簿'!D64","v":0}]
[11063,{"$f":"'シングルス　選手名簿'!B65","v":0},{"$f":"'シングルス　選手名簿'!C65","v":0},{"$f":"'シングルス　選手名簿'!D65","v":0}]
[11064,{"$f":"'シングルス　選手名簿'!B66","v":0},{"$f":"'シングルス　選手名簿'!C66","v":0},{"$f":"'シングルス　選手名簿'!D66","v":0}]
[11065,{"$f":"'シングルス　選手名簿'!B67","v":0},{"$f":"'シングルス　選手名簿'!C67","v":0},{"$f":"'シングルス　選手名簿'!D67","v":0}]
[11066,{"$f":"'シングルス　選手名簿'!B68","v":0},{"$f":"'シングルス　選手名簿'!C68","v":0},{"$f":"'シングルス　選手名簿'!D68","v":0}]
[11067,{"$f":"'シングルス　選手名簿'!B69","v":0},{"$f":"'シングルス　選手名簿'!C69","v":0},{"$f":"'シングルス　選手名簿'!D69","v":0}]
[11068,{"$f":"'シングルス　選手名簿'!B70","v":0},{"$f":"'シングルス　選手名簿'!C70","v":0},{"$f":"'シングルス　選手名簿'!D70","v":0}]
[11069,{"$f":"'シングルス　選手名簿'!B71","v":0},{"$f":"'シングルス　選手名簿'!C71","v":0},{"$f":"'シングルス　選手名簿'!D71","v":0}]
[11070,{"$f":"'シングルス　選手名簿'!B72","v":0},{"$f":"'シングルス　選手名簿'!C72","v":0},{"$f":"'シングルス　選手名簿'!D72","v":0}]
[11071,{"$f":"'シングルス　選手名簿'!B73","v":0},{"$f":"'シングルス　選手名簿'!C73","v":0},{"$f":"'シングルス　選手名簿'!D73","v":0}]
[11072,{"$f":"'シングルス　選手名簿'!B74","v":0},{"$f":"'シングルス　選手名簿'!C74","v":0},{"$f":"'シングルス　選手名簿'!D74","v":0}]
[11073,{"$f":"'シングルス　選手名簿'!B75","v":0},{"$f":"'シングルス　選手名簿'!C75","v":0},{"$f":"'シングルス　選手名簿'!D75","v":0}]
[11074,{"$f":"'シングルス　選手名簿'!B76","v":0},{"$f":"'シングルス　選手名簿'!C76","v":0},{"$f":"'シングルス　選手名簿'!D76","v":0}]
[11075,{"$f":"'シングルス　選手名簿'!B77","v":0},{"$f":"'シングルス　選手名簿'!C77","v":0},{"$f":"'シングルス　選手名簿'!D77","v":0}]
[11076,{"$f":"'シングルス　選手名簿'!B78","v":0},{"$f":"'シングルス　選手名簿'!C78","v":0},{"$f":"'シングルス　選手名簿'!D78","v":0}]
[11077,{"$f":"'シングルス　選手名簿'!B79","v":0},{"$f":"'シングルス　選手名簿'!C79","v":0},{"$f":"'シングルス　選手名簿'!D79","v":0}]
[11078,{"$f":"'シングルス　選手名簿'!B80","v":0},{"$f":"'シングルス　選手名簿'!C80","v":0},{"$f":"'シングルス　選手名簿'!D80","v":0}]
[11079,{"$f":"'シングルス　選手名簿'!B81","v":0},{"$f":"'シングルス　選手名簿'!C81","v":0},{"$f":"'シングルス　選手名簿'!D81","v":0}]
[11080,{"$f":"'シングルス　選手名簿'!B82","v":0},{"$f":"'シングルス　選手名簿'!C82","v":0},{"$f":"'シングルス　選手名簿'!D82","v":0}]
[11081,{"$f":"'シングルス　選手名簿'!B83","v":0},{"$f":"'シングルス　選手名簿'!C83","v":0},{"$f":"'シングルス　選手名簿'!D83","v":0}]
[11082,{"$f":"'シングルス　選手名簿'!B84","v":0},{"$f":"'シングルス　選手名簿'!C84","v":0},{"$f":"'シングルス　選手名簿'!D84","v":0}]
[11083,{"$f":"'シングルス　選手名簿'!B85","v":0},{"$f":"'シングルス　選手名簿'!C85","v":0},{"$f":"'シングルス　選手名簿'!D85","v":0}]
[11084,{"$f":"'シングルス　選手名簿'!B86","v":0},{"$f":"'シングルス　選手名簿'!C86","v":0},{"$f":"'シングルス　選手名簿'!D86","v":0}]
[11085,{"$f":"'シングルス　選手名簿'!B87","v":0},{"$f":"'シングルス　選手名簿'!C87","v":0},{"$f":"'シングルス　選手名簿'!D87","v":0}]
[11086,{"$f":"'シングルス　選手名簿'!B88","v":0},{"$f":"'シングルス　選手名簿'!C88","v":0},{"$f":"'シングルス　選手名簿'!D88","v":0}]
[11087,{"$f":"'シングルス　選手名簿'!B89","v":0},{"$f":"'シングルス　選手名簿'!C89","v":0},{"$f":"'シングルス　選手名簿'!D89","v":0}]
[11088,{"$f":"'シングルス　選手名簿'!B90","v":0},{"$f":"'シングルス　選手名簿'!C90","v":0},{"$f":"'シングルス　選手名簿'!D90","v":0}]
[11089,{"$f":"'シングルス　選手名簿'!B91","v":0},{"$f":"'シングルス　選手名簿'!C91","v":0},{"$f":"'シングルス　選手名簿'!D91","v":0}]
[11090,{"$f":"'シングルス　選手名簿'!B92","v":0},{"$f":"'シングルス　選手名簿'!C92","v":0},{"$f":"'シングルス　選手名簿'!D92","v":0}]
[11091,{"$f":"'シングルス　選手名簿'!B93","v":0},{"$f":"'シングルス　選手名簿'!C93","v":0},{"$f":"'シングルス　選手名簿'!D93","v":0}]
[11092,{"$f":"'シングルス　選手名簿'!B94","v":0},{"$f":"'シングルス　選手名簿'!C94","v":0},{"$f":"'シングルス　選手名簿'!D94","v":0}]
[11093,{"$f":"'シングルス　選手名簿'!B95","v":0},{"$f":"'シングルス　選手名簿'!C95","v":0},{"$f":"'シングルス　選手名簿'!D95","v":0}]
[11094,{"$f":"'シングルス　選手名簿'!B96","v":0},{"$f":"'シングルス　選手名簿'!C96","v":0},{"$f":"'シングルス　選手名簿'!D96","v":0}]
[11095,{"$f":"'シングルス　選手名簿'!B97","v":0},{"$f":"'シングルス　選手名簿'!C97","v":0},{"$f":"'シングルス　選手名簿'!D97","v":0}]
[11096,{"$f":"'シングルス　選手名簿'!B98","v":0},{"$f":"'シングルス　選手名簿'!C98","v":0},{"$f":"'シングルス　選手名簿'!D98","v":0}]
[11097,{"$f":"'シングルス　選手名簿'!B99","v":0},{"$f":"'シングルス　選手名簿'!C99","v":0},{"$f":"'シングルス　選手名簿'!D99","v":0}]
[11098,{"$f":"'シングルス　選手名簿'!B100","v":0},{"$f":"'シングルス　選手名簿'!C100","v":0},{"$f":"'シングルス　選手名簿'!D100","v":0}]
[11099,{"$f":"'シングルス　選手名簿'!B101","v":0},{"$f":"'シングルス　選手名簿'!C101","v":0},{"$f":"'シングルス　選手名簿'!D101","v":0}]
[11100,{"$f":"'シングルス　選手名簿'!B102","v":0},{"$f":"'シングルス　選手名簿'!C102","v":0},{"$f":"'シングルス　選手名簿'!D102","v":0}]
[11101,{"$f":"'シングルス　選手名簿'!B103","v":0},{"$f":"'シングルス　選手名簿'!C103","v":0},{"$f":"'シングルス　選手名簿'!D103","v":0}]
[11102,{"$f":"'シングルス　選手名簿'!B104","v":0},{"$f":"'シングルス　選手名簿'!C104","v":0},{"$f":"'シングルス　選手名簿'!D104","v":0}]
[11103,{"$f":"'シングルス　選手名簿'!B105","v":0},{"$f":"'シングルス　選手名簿'!C105","v":0},{"$f":"'シングルス　選手名簿'!D105","v":0}]
[11104,{"$f":"'シングルス　選手名簿'!B106","v":0},{"$f":"'シングルス　選手名簿'!C106","v":0},{"$f":"'シングルス　選手名簿'!D106","v":0}]
[11105,{"$f":"'シングルス　選手名簿'!B107","v":0},{"$f":"'シングルス　選手名簿'!C107","v":0},{"$f":"'シングルス　選手名簿'!D107","v":0}]
[11106,{"$f":"'シングルス　選手名簿'!B108","v":0},{"$f":"'シングルス　選手名簿'!C108","v":0},{"$f":"'シングルス　選手名簿'!D108","v":0}]
[11107,{"$f":"'シングルス　選手名簿'!B109","v":0},{"$f":"'シングルス　選手名簿'!C109","v":0},{"$f":"'シングルス　選手名簿'!D109","v":0}]
[11108,{"$f":"'シングルス　選手名簿'!B110","v":0},{"$f":"'シングルス　選手名簿'!C110","v":0},{"$f":"'シングルス　選手名簿'!D110","v":0}]
[11109,{"$f":"'シングルス　選手名簿'!B111","v":0},{"$f":"'シングルス　選手名簿'!C111","v":0},{"$f":"'シングルス　選手名簿'!D111","v":0}]
[11110,{"$f":"'シングルス　選手名簿'!B112","v":0},{"$f":"'シングルス　選手名簿'!C112","v":0},{"$f":"'シングルス　選手名簿'!D112","v":0}]
[11111,{"$f":"'シングルス　選手名簿'!B113","v":0},{"$f":"'シングルス　選手名簿'!C113","v":0},{"$f":"'シングルス　選手名簿'!D113","v":0}]
[11112,{"$f":"'シングルス　選手名簿'!B114","v":0},{"$f":"'シングルス　選手名簿'!C114","v":0},{"$f":"'シングルス　選手名簿'!D114","v":0}]
[11113,{"$f":"'シングルス　選手名簿'!B115","v":0},{"$f":"'シングルス　選手名簿'!C115","v":0},{"$f":"'シングルス　選手名簿'!D115","v":0}]
[11114,{"$f":"'シングルス　選手名簿'!B116","v":0},{"$f":"'シングルス　選手名簿'!C116","v":0},{"$f":"'シングルス　選手名簿'!D116","v":0}]
[11115,{"$f":"'シングルス　選手名簿'!B117","v":0},{"$f":"'シングルス　選手名簿'!C117","v":0},{"$f":"'シングルス　選手名簿'!D117","v":0}]
[11116,{"$f":"'シングルス　選手名簿'!B118","v":0},{"$f":"'シングルス　選手名簿'!C118","v":0},{"$f":"'シングルス　選手名簿'!D118","v":0}]
[11117,{"$f":"'シングルス　選手名簿'!B119","v":0},{"$f":"'シングルス　選手名簿'!C119","v":0},{"$f":"'シングルス　選手名簿'!D119","v":0}]
[11118,{"$f":"'シングルス　選手名簿'!B120","v":0},{"$f":"'シングルス　選手名簿'!C120","v":0},{"$f":"'シングルス　選手名簿'!D120","v":0}]
[11119,{"$f":"'シングルス　選手名簿'!B121","v":0},{"$f":"'シングルス　選手名簿'!C121","v":0},{"$f":"'シングルス　選手名簿'!D121","v":0}]
[11120,{"$f":"'シングルス　選手名簿'!B122","v":0},{"$f":"'シングルス　選手名簿'!C122","v":0},{"$f":"'シングルス　選手名簿'!D122","v":0}]
[11121,{"$f":"'シングルス　選手名簿'!B123","v":0},{"$f":"'シングルス　選手名簿'!C123","v":0},{"$f":"'シングルス　選手名簿'!D123","v":0}]
[11122,{"$f":"'シングルス　選手名簿'!B124","v":0},{"$f":"'シングルス　選手名簿'!C124","v":0},{"$f":"'シングルス　選手名簿'!D124","v":0}]
[11123,{"$f":"'シングルス　選手名簿'!B125","v":0},{"$f":"'シングルス　選手名簿'!C125","v":0},{"$f":"'シングルス　選手名簿'!D125","v":0}]
[11124,{"$f":"'シングルス　選手名簿'!B126","v":0},{"$f":"'シングルス　選手名簿'!C126","v":0},{"$f":"'シングルス　選手名簿'!D126","v":0}]
[11125,{"$f":"'シングルス　選手名簿'!B127","v":0},{"$f":"'シングルス　選手名簿'!C127","v":0},{"$f":"'シングルス　選手名簿'!D127","v":0}]
[11126,{"$f":"'シングルス　選手名簿'!B128","v":0},{"$f":"'シングルス　選手名簿'!C128","v":0},{"$f":"'シングルス　選手名簿'!D128","v":0}]
[11127,{"$f":"'シングルス　選手名簿'!B129","v":0},{"$f":"'シングルス　選手名簿'!C129","v":0},{"$f":"'シングルス　選手名簿'!D129","v":0}]
[11128,{"$f":"'シングルス　選手名簿'!B130","v":0},{"$f":"'シングルス　選手名簿'!C130","v":0},{"$f":"'シングルス　選手名簿'!D130","v":0}]
[11129,{"$f":"'シングルス　選手名簿'!B131","v":0},{"$f":"'シングルス　選手名簿'!C131","v":0},{"$f":"'シングルス　選手名簿'!D131","v":0}]
[11130,{"$f":"'シングルス　選手名簿'!B132","v":0},{"$f":"'シングルス　選手名簿'!C132","v":0},{"$f":"'シングルス　選手名簿'!D132","v":0}]
[11131,{"$f":"'シングルス　選手名簿'!B133","v":0},{"$f":"'シングルス　選手名簿'!C133","v":0},{"$f":"'シングルス　選手名簿'!D133","v":0}]
[11132,{"$f":"'シングルス　選手名簿'!B134","v":0},{"$f":"'シングルス　選手名簿'!C134","v":0},{"$f":"'シングルス　選手名簿'!D134","v":0}]
[11133,{"$f":"'シングルス　選手名簿'!B135","v":0},{"$f":"'シングルス　選手名簿'!C135","v":0},{"$f":"'シングルス　選手名簿'!D135","v":0}]
[11134,{"$f":"'シングルス　選手名簿'!B136","v":0},{"$f":"'シングルス　選手名簿'!C136","v":0},{"$f":"'シングルス　選手名簿'!D136","v":0}]
[11135,{"$f":"'シングルス　選手名簿'!B137","v":0},{"$f":"'シングルス　選手名簿'!C137","v":0},{"$f":"'シングルス　選手名簿'!D137","v":0}]
[11136,{"$f":"'シングルス　選手名簿'!B138","v":0},{"$f":"'シングルス　選手名簿'!C138","v":0},{"$f":"'シングルス　選手名簿'!D138","v":0}]
[11137,{"$f":"'シングルス　選手名簿'!B139","v":0},{"$f":"'シングルス　選手名簿'!C139","v":0},{"$f":"'シングルス　選手名簿'!D139","v":0}]
[11138,{"$f":"'シングルス　選手名簿'!B140","v":0},{"$f":"'シングルス　選手名簿'!C140","v":0},{"$f":"'シングルス　選手名簿'!D140","v":0}]
[11139,{"$f":"'シングルス　選手名簿'!B141","v":0},{"$f":"'シングルス　選手名簿'!C141","v":0},{"$f":"'シングルス　選手名簿'!D141","v":0}]
[11140,{"$f":"'シングルス　選手名簿'!B142","v":0},{"$f":"'シングルス　選手名簿'!C142","v":0},{"$f":"'シングルス　選手名簿'!D142","v":0}]
[11141,{"$f":"'シングルス　選手名簿'!B143","v":0},{"$f":"'シングルス　選手名簿'!C143","v":0},{"$f":"'シングルス　選手名簿'!D143","v":0}]
[11142,{"$f":"'シングルス　選手名簿'!B144","v":0},{"$f":"'シングルス　選手名簿'!C144","v":0},{"$f":"'シングルス　選手名簿'!D144","v":0}]
[11143,{"$f":"'シングルス　選手名簿'!B145","v":0},{"$f":"'シングルス　選手名簿'!C145","v":0},{"$f":"'シングルス　選手名簿'!D145","v":0}]
[11144,{"$f":"'シングルス　選手名簿'!B146","v":0},{"$f":"'シングルス　選手名簿'!C146","v":0},{"$f":"'シングルス　選手名簿'!D146","v":0}]
[11145,{"$f":"'シングルス　選手名簿'!B147","v":0},{"$f":"'シングルス　選手名簿'!C147","v":0},{"$f":"'シングルス　選手名簿'!D147","v":0}]
[11146,{"$f":"'シングルス　選手名簿'!B148","v":0},{"$f":"'シングルス　選手名簿'!C148","v":0},{"$f":"'シングルス　選手名簿'!D148","v":0}]
[11147,{"$f":"'シングルス　選手名簿'!B149","v":0},{"$f":"'シングルス　選手名簿'!C149","v":0},{"$f":"'シングルス　選手名簿'!D149","v":0}]
[11148,{"$f":"'シングルス　選手名簿'!B150","v":0},{"$f":"'シングルス　選手名簿'!C150","v":0},{"$f":"'シングルス　選手名簿'!D150","v":0}]
[11149,{"$f":"'シングルス　選手名簿'!B151","v":0},{"$f":"'シングルス　選手名簿'!C151","v":0},{"$f":"'シングルス　選手名簿'!D151","v":0}]
[11150,{"$f":"'シングルス　選手名簿'!B152","v":0},{"$f":"'シングルス　選手名簿'!C152","v":0},{"$f":"'シングルス　選手名簿'!D152","v":0}]
[11151,{"$f":"'シングルス　選手名簿'!B153","v":0},{"$f":"'シングルス　選手名簿'!C153","v":0},{"$f":"'シングルス　選手名簿'!D153","v":0}]
[11152,{"$f":"'シングルス　選手名簿'!B154","v":0},{"$f":"'シングルス　選手名簿'!C154","v":0},{"$f":"'シングルス　選手名簿'!D154","v":0}]
[11153,{"$f":"'シングルス　選手名簿'!B155","v":0},{"$f":"'シングルス　選手名簿'!C155","v":0},{"$f":"'シングルス　選手名簿'!D155","v":0}]
[11154,{"$f":"'シングルス　選手名簿'!B156","v":0},{"$f":"'シングルス　選手名簿'!C156","v":0},{"$f":"'シングルス　選手名簿'!D156","v":0}]
[11155,{"$f":"'シングルス　選手名簿'!B157","v":0},{"$f":"'シングルス　選手名簿'!C157","v":0},{"$f":"'シングルス　選手名簿'!D157","v":0}]
[11156,{"$f":"'シングルス　選手名簿'!B158","v":0},{"$f":"'シングルス　選手名簿'!C158","v":0},{"$f":"'シングルス　選手名簿'!D158","v":0}]
[11157,{"$f":"'シングルス　選手名簿'!B159","v":0},{"$f":"'シングルス　選手名簿'!C159","v":0},{"$f":"'シングルス　選手名簿'!D159","v":0}]
[11158,{"$f":"'シングルス　選手名簿'!B160","v":0},{"$f":"'シングルス　選手名簿'!C160","v":0},{"$f":"'シングルス　選手名簿'!D160","v":0}]
[11159,{"$f":"'シングルス　選手名簿'!B161","v":0},{"$f":"'シングルス　選手名簿'!C161","v":0},{"$f":"'シングルス　選手名簿'!D161","v":0}]
[11160,{"$f":"'シングルス　選手名簿'!B162","v":0},{"$f":"'シングルス　選手名簿'!C162","v":0},{"$f":"'シングルス　選手名簿'!D162","v":0}]
[11161,{"$f":"'シングルス　選手名簿'!B163","v":0},{"$f":"'シングルス　選手名簿'!C163","v":0},{"$f":"'シングルス　選手名簿'!D163","v":0}]
[11162,{"$f":"'シングルス　選手名簿'!B164","v":0},{"$f":"'シングルス　選手名簿'!C164","v":0},{"$f":"'シングルス　選手名簿'!D164","v":0}]
[11163,{"$f":"'シングルス　選手名簿'!B165","v":0},{"$f":"'シングルス　選手名簿'!C165","v":0},{"$f":"'シングルス　選手名簿'!D165","v":0}]
[11164,{"$f":"'シングルス　選手名簿'!B166","v":0},{"$f":"'シングルス　選手名簿'!C166","v":0},{"$f":"'シングルス　選手名簿'!D166","v":0}]
[11165,{"$f":"'シングルス　選手名簿'!B167","v":0},{"$f":"'シングルス　選手名簿'!C167","v":0},{"$f":"'シングルス　選手名簿'!D167","v":0}]
[11166,{"$f":"'シングルス　選手名簿'!B168","v":0},{"$f":"'シングルス　選手名簿'!C168","v":0},{"$f":"'シングルス　選手名簿'!D168","v":0}]
[11167,{"$f":"'シングルス　選手名簿'!B169","v":0},{"$f":"'シングルス　選手名簿'!C169","v":0},{"$f":"'シングルス　選手名簿'!D169","v":0}]
[11168,{"$f":"'シングルス　選手名簿'!B170","v":0},{"$f":"'シングルス　選手名簿'!C170","v":0},{"$f":"'シングルス　選手名簿'!D170","v":0}]
[11169,{"$f":"'シングルス　選手名簿'!B171","v":0},{"$f":"'シングルス　選手名簿'!C171","v":0},{"$f":"'シングルス　選手名簿'!D171","v":0}]
[11170,{"$f":"'シングルス　選手名簿'!B172","v":0},{"$f":"'シングルス　選手名簿'!C172","v":0},{"$f":"'シングルス　選手名簿'!D172","v":0}]
[11171,{"$f":"'シングルス　選手名簿'!B173","v":0},{"$f":"'シングルス　選手名簿'!C173","v":0},{"$f":"'シングルス　選手名簿'!D173","v":0}]
[11172,{"$f":"'シングルス　選手名簿'!B174","v":0},{"$f":"'シングルス　選手名簿'!C174","v":0},{"$f":"'シングルス　選手名簿'!D174","v":0}]
[11173,{"$f":"'シングルス　選手名簿'!B175","v":0},{"$f":"'シングルス　選手名簿'!C175","v":0},{"$f":"'シングルス　選手名簿'!D175","v":0}]
[11174,{"$f":"'シングルス　選手名簿'!B176","v":0},{"$f":"'シングルス　選手名簿'!C176","v":0},{"$f":"'シングルス　選手名簿'!D176","v":0}]
[11175,{"$f":"'シングルス　選手名簿'!B177","v":0},{"$f":"'シングルス　選手名簿'!C177","v":0},{"$f":"'シングルス　選手名簿'!D177","v":0}]
[11176,{"$f":"'シングルス　選手名簿'!B178","v":0},{"$f":"'シングルス　選手名簿'!C178","v":0},{"$f":"'シングルス　選手名簿'!D178","v":0}]
[11177,{"$f":"'シングルス　選手名簿'!B179","v":0},{"$f":"'シングルス　選手名簿'!C179","v":0},{"$f":"'シングルス　選手名簿'!D179","v":0}]
[11178,{"$f":"'シングルス　選手名簿'!B180","v":0},{"$f":"'シングルス　選手名簿'!C180","v":0},{"$f":"'シングルス　選手名簿'!D180","v":0}]
[11179,{"$f":"'シングルス　選手名簿'!B181","v":0},{"$f":"'シングルス　選手名簿'!C181","v":0},{"$f":"'シングルス　選手名簿'!D181","v":0}]
[11180,{"$f":"'シングルス　選手名簿'!B182","v":0},{"$f":"'シングルス　選手名簿'!C182","v":0},{"$f":"'シングルス　選手名簿'!D182","v":0}]
[11181,{"$f":"'シングルス　選手名簿'!B183","v":0},{"$f":"'シングルス　選手名簿'!C183","v":0},{"$f":"'シングルス　選手名簿'!D183","v":0}]
[11182,{"$f":"'シングルス　選手名簿'!B184","v":0},{"$f":"'シングルス　選手名簿'!C184","v":0},{"$f":"'シングルス　選手名簿'!D184","v":0}]
[11183,{"$f":"'シングルス　選手名簿'!B185","v":0},{"$f":"'シングルス　選手名簿'!C185","v":0},{"$f":"'シングルス　選手名簿'!D185","v":0}]
[11184,{"$f":"'シングルス　選手名簿'!B186","v":0},{"$f":"'シングルス　選手名簿'!C186","v":0},{"$f":"'シングルス　選手名簿'!D186","v":0}]
[11185,{"$f":"'シングルス　選手名簿'!B187","v":0},{"$f":"'シングルス　選手名簿'!C187","v":0},{"$f":"'シングルス　選手名簿'!D187","v":0}]
[11186,{"$f":"'シングルス　選手名簿'!B188","v":0},{"$f":"'シングルス　選手名簿'!C188","v":0},{"$f":"'シングルス　選手名簿'!D188","v":0}]
[11187,{"$f":"'シングルス　選手名簿'!B189","v":0},{"$f":"'シングルス　選手名簿'!C189","v":0},{"$f":"'シングルス　選手名簿'!D189","v":0}]
[11188,{"$f":"'シングルス　選手名簿'!B190","v":0},{"$f":"'シングルス　選手名簿'!C190","v":0},{"$f":"'シングルス　選手名簿'!D190","v":0}]
[11189,{"$f":"'シングルス　選手名簿'!B191","v":0},{"$f":"'シングルス　選手名簿'!C191","v":0},{"$f":"'シングルス　選手名簿'!D191","v":0}]
[11190,{"$f":"'シングルス　選手名簿'!B192","v":0},{"$f":"'シングルス　選手名簿'!C192","v":0},{"$f":"'シングルス　選手名簿'!D192","v":0}]
[11191,{"$f":"'シングルス　選手名簿'!B193","v":0},{"$f":"'シングルス　選手名簿'!C193","v":0},{"$f":"'シングルス　選手名簿'!D193","v":0}]
[11192,{"$f":"'シングルス　選手名簿'!B194","v":0},{"$f":"'シングルス　選手名簿'!C194","v":0},{"$f":"'シングルス　選手名簿'!D194","v":0}]
[11193,{"$f":"'シングルス　選手名簿'!B195","v":0},{"$f":"'シングルス　選手名簿'!C195","v":0},{"$f":"'シングルス　選手名簿'!D195","v":0}]
[11194,{"$f":"'シングルス　選手名簿'!B196","v":0},{"$f":"'シングルス　選手名簿'!C196","v":0},{"$f":"'シングルス　選手名簿'!D196","v":0}]
[11195,{"$f":"'シングルス　選手名簿'!B197","v":0},{"$f":"'シングルス　選手名簿'!C197","v":0},{"$f":"'シングルス　選手名簿'!D197","v":0}]
[11196,{"$f":"'シングルス　選手名簿'!B198","v":0},{"$f":"'シングルス　選手名簿'!C198","v":0},{"$f":"'シングルス　選手名簿'!D198","v":0}]
[11197,{"$f":"'シングルス　選手名簿'!B199","v":0},{"$f":"'シングルス　選手名簿'!C199","v":0},{"$f":"'シングルス　選手名簿'!D199","v":0}]
[11198,{"$f":"'シングルス　選手名簿'!B200","v":0},{"$f":"'シングルス　選手名簿'!C200","v":0},{"$f":"'シングルス　選手名簿'!D200","v":0}]
[11199,{"$f":"'シングルス　選手名簿'!B201","v":0},{"$f":"'シングルス　選手名簿'!C201","v":0},{"$f":"'シングルス　選手名簿'!D201","v":0}]
[11200,{"$f":"'シングルス　選手名簿'!B202","v":0},{"$f":"'シングルス　選手名簿'!C202","v":0},{"$f":"'シングルス　選手名簿'!D202","v":0}]
[11201,{"$f":"'シングルス　選手名簿'!B203","v":0},{"$f":"'シングルス　選手名簿'!C203","v":0},{"$f":"'シングルス　選手名簿'!D203","v":0}]
[11202,{"$f":"'シングルス　選手名簿'!B204","v":0},{"$f":"'シングルス　選手名簿'!C204","v":0},{"$f":"'シングルス　選手名簿'!D204","v":0}]
[11203,{"$f":"'シングルス　選手名簿'!B205","v":0},{"$f":"'シングルス　選手名簿'!C205","v":0},{"$f":"'シングルス　選手名簿'!D205","v":0}]
[11204,{"$f":"'シングルス　選手名簿'!B206","v":0},{"$f":"'シングルス　選手名簿'!C206","v":0},{"$f":"'シングルス　選手名簿'!D206","v":0}]
[11205,{"$f":"'シングルス　選手名簿'!B207","v":0},{"$f":"'シングルス　選手名簿'!C207","v":0},{"$f":"'シングルス　選手名簿'!D207","v":0}]
[11206,{"$f":"'シングルス　選手名簿'!B208","v":0},{"$f":"'シングルス　選手名簿'!C208","v":0},{"$f":"'シングルス　選手名簿'!D208","v":0}]
[11207,{"$f":"'シングルス　選手名簿'!B209","v":0},{"$f":"'シングルス　選手名簿'!C209","v":0},{"$f":"'シングルス　選手名簿'!D209","v":0}]
[11208,{"$f":"'シングルス　選手名簿'!B210","v":0},{"$f":"'シングルス　選手名簿'!C210","v":0},{"$f":"'シングルス　選手名簿'!D210","v":0}]
[11209,{"$f":"'シングルス　選手名簿'!B211","v":0},{"$f":"'シングルス　選手名簿'!C211","v":0},{"$f":"'シングルス　選手名簿'!D211","v":0}]
[11210,{"$f":"'シングルス　選手名簿'!B212","v":0},{"$f":"'シングルス　選手名簿'!C212","v":0},{"$f":"'シングルス　選手名簿'!D212","v":0}]
[11211,{"$f":"'シングルス　選手名簿'!B213","v":0},{"$f":"'シングルス　選手名簿'!C213","v":0},{"$f":"'シングルス　選手名簿'!D213","v":0}]
[11212,{"$f":"'シングルス　選手名簿'!B214","v":0},{"$f":"'シングルス　選手名簿'!C214","v":0},{"$f":"'シングルス　選手名簿'!D214","v":0}]
[11213,{"$f":"'シングルス　選手名簿'!B215","v":0},{"$f":"'シングルス　選手名簿'!C215","v":0},{"$f":"'シングルス　選手名簿'!D215","v":0}]
[11214,{"$f":"'シングルス　選手名簿'!B216","v":0},{"$f":"'シングルス　選手名簿'!C216","v":0},{"$f":"'シングルス　選手名簿'!D216","v":0}]
[11215,{"$f":"'シングルス　選手名簿'!B217","v":0},{"$f":"'シングルス　選手名簿'!C217","v":0},{"$f":"'シングルス　選手名簿'!D217","v":0}]
[11216,{"$f":"'シングルス　選手名簿'!B218","v":0},{"$f":"'シングルス　選手名簿'!C218","v":0},{"$f":"'シングルス　選手名簿'!D218","v":0}]
[11217,{"$f":"'シングルス　選手名簿'!B219","v":0},{"$f":"'シングルス　選手名簿'!C219","v":0},{"$f":"'シングルス　選手名簿'!D219","v":0}]
[11218,{"$f":"'シングルス　選手名簿'!B220","v":0},{"$f":"'シングルス　選手名簿'!C220","v":0},{"$f":"'シングルス　選手名簿'!D220","v":0}]
[11219,{"$f":"'シングルス　選手名簿'!B221","v":0},{"$f":"'シングルス　選手名簿'!C221","v":0},{"$f":"'シングルス　選手名簿'!D221","v":0}]
[11220,{"$f":"'シングルス　選手名簿'!B222","v":0},{"$f":"'シングルス　選手名簿'!C222","v":0},{"$f":"'シングルス　選手名簿'!D222","v":0}]
[11221,{"$f":"'シングルス　選手名簿'!B223","v":0},{"$f":"'シングルス　選手名簿'!C223","v":0},{"$f":"'シングルス　選手名簿'!D223","v":0}]
[11222,{"$f":"'シングルス　選手名簿'!B224","v":0},{"$f":"'シングルス　選手名簿'!C224","v":0},{"$f":"'シングルス　選手名簿'!D224","v":0}]
[11223,{"$f":"'シングルス　選手名簿'!B225","v":0},{"$f":"'シングルス　選手名簿'!C225","v":0},{"$f":"'シングルス　選手名簿'!D225","v":0}]
[11224,{"$f":"'シングルス　選手名簿'!B226","v":0},{"$f":"'シングルス　選手名簿'!C226","v":0},{"$f":"'シングルス　選手名簿'!D226","v":0}]
[11225,{"$f":"'シングルス　選手名簿'!B227","v":0},{"$f":"'シングルス　選手名簿'!C227","v":0},{"$f":"'シングルス　選手名簿'!D227","v":0}]
[11226,{"$f":"'シングルス　選手名簿'!B228","v":0},{"$f":"'シングルス　選手名簿'!C228","v":0},{"$f":"'シングルス　選手名簿'!D228","v":0}]
[11227,{"$f":"'シングルス　選手名簿'!B229","v":0},{"$f":"'シングルス　選手名簿'!C229","v":0},{"$f":"'シングルス　選手名簿'!D229","v":0}]
[11228,{"$f":"'シングルス　選手名簿'!B230","v":0},{"$f":"'シングルス　選手名簿'!C230","v":0},{"$f":"'シングルス　選手名簿'!D230","v":0}]
[11229,{"$f":"'シングルス　選手名簿'!B231","v":0},{"$f":"'シングルス　選手名簿'!C231","v":0},{"$f":"'シングルス　選手名簿'!D231","v":0}]
[11230,{"$f":"'シングルス　選手名簿'!B232","v":0},{"$f":"'シングルス　選手名簿'!C232","v":0},{"$f":"'シングルス　選手名簿'!D232","v":0}]
[11231,{"$f":"'シングルス　選手名簿'!B233","v":0},{"$f":"'シングルス　選手名簿'!C233","v":0},{"$f":"'シングルス　選手名簿'!D233","v":0}]
[11232,{"$f":"'シングルス　選手名簿'!B234","v":0},{"$f":"'シングルス　選手名簿'!C234","v":0},{"$f":"'シングルス　選手名簿'!D234","v":0}]
[11233,{"$f":"'シングルス　選手名簿'!B235","v":0},{"$f":"'シングルス　選手名簿'!C235","v":0},{"$f":"'シングルス　選手名簿'!D235","v":0}]
[11234,{"$f":"'シングルス　選手名簿'!B236","v":0},{"$f":"'シングルス　選手名簿'!C236","v":0},{"$f":"'シングルス　選手名簿'!D236","v":0}]
[11235,{"$f":"'シングルス　選手名簿'!B237","v":0},{"$f":"'シングルス　選手名簿'!C237","v":0},{"$f":"'シングルス　選手名簿'!D237","v":0}]
[11236,{"$f":"'シングルス　選手名簿'!B238","v":0},{"$f":"'シングルス　選手名簿'!C238","v":0},{"$f":"'シングルス　選手名簿'!D238","v":0}]
[11237,{"$f":"'シングルス　選手名簿'!B239","v":0},{"$f":"'シングルス　選手名簿'!C239","v":0},{"$f":"'シングルス　選手名簿'!D239","v":0}]
[11238,{"$f":"'シングルス　選手名簿'!B240","v":0},{"$f":"'シングルス　選手名簿'!C240","v":0},{"$f":"'シングルス　選手名簿'!D240","v":0}]
[11239,{"$f":"'シングルス　選手名簿'!B241","v":0},{"$f":"'シングルス　選手名簿'!C241","v":0},{"$f":"'シングルス　選手名簿'!D241","v":0}]
[11240,{"$f":"'シングルス　選手名簿'!B242","v":0},{"$f":"'シングルス　選手名簿'!C242","v":0},{"$f":"'シングルス　選手名簿'!D242","v":0}]
[11241,{"$f":"'シングルス　選手名簿'!B243","v":0},{"$f":"'シングルス　選手名簿'!C243","v":0},{"$f":"'シングルス　選手名簿'!D243","v":0}]
[11242,{"$f":"'シングルス　選手名簿'!B244","v":0},{"$f":"'シングルス　選手名簿'!C244","v":0},{"$f":"'シングルス　選手名簿'!D244","v":0}]
[11243,{"$f":"'シングルス　選手名簿'!B245","v":0},{"$f":"'シングルス　選手名簿'!C245","v":0},{"$f":"'シングルス　選手名簿'!D245","v":0}]
[11244,{"$f":"'シングルス　選手名簿'!B246","v":0},{"$f":"'シングルス　選手名簿'!C246","v":0},{"$f":"'シングルス　選手名簿'!D246","v":0}]
[11245,{"$f":"'シングルス　選手名簿'!B247","v":0},{"$f":"'シングルス　選手名簿'!C247","v":0},{"$f":"'シングルス　選手名簿'!D247","v":0}]
[11246,{"$f":"'シングルス　選手名簿'!B248","v":0},{"$f":"'シングルス　選手名簿'!C248","v":0},{"$f":"'シングルス　選手名簿'!D248","v":0}]
[11247,{"$f":"'シングルス　選手名簿'!B249","v":0},{"$f":"'シングルス　選手名簿'!C249","v":0},{"$f":"'シングルス　選手名簿'!D249","v":0}]
[11248,{"$f":"'シングルス　選手名簿'!B250","v":0},{"$f":"'シングルス　選手名簿'!C250","v":0},{"$f":"'シングルス　選手名簿'!D250","v":0}]
[11249,{"$f":"'シングルス　選手名簿'!B251","v":0},{"$f":"'シングルス　選手名簿'!C251","v":0},{"$f":"'シングルス　選手名簿'!D251","v":0}]
[11250,{"$f":"'シングルス　選手名簿'!B252","v":0},{"$f":"'シングルス　選手名簿'!C252","v":0},{"$f":"'シングルス　選手名簿'!D252","v":0}]
[11251,{"$f":"'シングルス　選手名簿'!B253","v":0},{"$f":"'シングルス　選手名簿'!C253","v":0},{"$f":"'シングルス　選手名簿'!D253","v":0}]
[11252,{"$f":"'シングルス　選手名簿'!B254","v":0},{"$f":"'シングルス　選手名簿'!C254","v":0},{"$f":"'シングルス　選手名簿'!D254","v":0}]
[11253,{"$f":"'シングルス　選手名簿'!B255","v":0},{"$f":"'シングルス　選手名簿'!C255","v":0},{"$f":"'シングルス　選手名簿'!D255","v":0}]
[11254,{"$f":"'シングルス　選手名簿'!B256","v":0},{"$f":"'シングルス　選手名簿'!C256","v":0},{"$f":"'シングルス　選手名簿'!D256","v":0}]
[11255,{"$f":"'シングルス　選手名簿'!B257","v":0},{"$f":"'シングルス　選手名簿'!C257","v":0},{"$f":"'シングルス　選手名簿'!D257","v":0}]
[11256,{"$f":"'シングルス　選手名簿'!B258","v":0},{"$f":"'シングルス　選手名簿'!C258","v":0},{"$f":"'シングルス　選手名簿'!D258","v":0}]
[11257,{"$f":"'シングルス　選手名簿'!B259","v":0},{"$f":"'シングルス　選手名簿'!C259","v":0},{"$f":"'シングルス　選手名簿'!D259","v":0}]
[11258,{"$f":"'シングルス　選手名簿'!B260","v":0},{"$f":"'シングルス　選手名簿'!C260","v":0},{"$f":"'シングルス　選手名簿'!D260","v":0}]
[11259,{"$f":"'シングルス　選手名簿'!B261","v":0},{"$f":"'シングルス　選手名簿'!C261","v":0},{"$f":"'シングルス　選手名簿'!D261","v":0}]
[11260,{"$f":"'シングルス　選手名簿'!B262","v":0},{"$f":"'シングルス　選手名簿'!C262","v":0},{"$f":"'シングルス　選手名簿'!D262","v":0}]
[11261,{"$f":"'シングルス　選手名簿'!B263","v":0},{"$f":"'シングルス　選手名簿'!C263","v":0},{"$f":"'シングルス　選手名簿'!D263","v":0}]
[11262,{"$f":"'シングルス　選手名簿'!B264","v":0},{"$f":"'シングルス　選手名簿'!C264","v":0},{"$f":"'シングルス　選手名簿'!D264","v":0}]
[11263,{"$f":"'シングルス　選手名簿'!B265","v":0},{"$f":"'シングルス　選手名簿'!C265","v":0},{"$f":"'シングルス　選手名簿'!D265","v":0}]
[11264,{"$f":"'シングルス　選手名簿'!B266","v":0},{"$f":"'シングルス　選手名簿'!C266","v":0},{"$f":"'シングルス　選手名簿'!D266","v":0}]
[11265,{"$f":"'シングルス　選手名簿'!B267","v":0},{"$f":"'シングルス　選手名簿'!C267","v":0},{"$f":"'シングルス　選手名簿'!D267","v":0}]
[11266,{"$f":"'シングルス　選手名簿'!B268","v":0},{"$f":"'シングルス　選手名簿'!C268","v":0},{"$f":"'シングルス　選手名簿'!D268","v":0}]
[11267,{"$f":"'シングルス　選手名簿'!B269","v":0},{"$f":"'シングルス　選手名簿'!C269","v":0},{"$f":"'シングルス　選手名簿'!D269","v":0}]
[11268,{"$f":"'シングルス　選手名簿'!B270","v":0},{"$f":"'シングルス　選手名簿'!C270","v":0},{"$f":"'シングルス　選手名簿'!D270","v":0}]
[11269,{"$f":"'シングルス　選手名簿'!B271","v":0},{"$f":"'シングルス　選手名簿'!C271","v":0},{"$f":"'シングルス　選手名簿'!D271","v":0}]
[11270,{"$f":"'シングルス　選手名簿'!B272","v":0},{"$f":"'シングルス　選手名簿'!C272","v":0},{"$f":"'シングルス　選手名簿'!D272","v":0}]
[11271,{"$f":"'シングルス　選手名簿'!B273","v":0},{"$f":"'シングルス　選手名簿'!C273","v":0},{"$f":"'シングルス　選手名簿'!D273","v":0}]
[11272,{"$f":"'シングルス　選手名簿'!B274","v":0},{"$f":"'シングルス　選手名簿'!C274","v":0},{"$f":"'シングルス　選手名簿'!D274","v":0}]
[11273,{"$f":"'シングルス　選手名簿'!B275","v":0},{"$f":"'シングルス　選手名簿'!C275","v":0},{"$f":"'シングルス　選手名簿'!D275","v":0}]
[11274,{"$f":"'シングルス　選手名簿'!B276","v":0},{"$f":"'シングルス　選手名簿'!C276","v":0},{"$f":"'シングルス　選手名簿'!D276","v":0}]
[11275,{"$f":"'シングルス　選手名簿'!B277","v":0},{"$f":"'シングルス　選手名簿'!C277","v":0},{"$f":"'シングルス　選手名簿'!D277","v":0}]
[11276,{"$f":"'シングルス　選手名簿'!B278","v":0},{"$f":"'シングルス　選手名簿'!C278","v":0},{"$f":"'シングルス　選手名簿'!D278","v":0}]
[11277,{"$f":"'シングルス　選手名簿'!B279","v":0},{"$f":"'シングルス　選手名簿'!C279","v":0},{"$f":"'シングルス　選手名簿'!D279","v":0}]
[11278,{"$f":"'シングルス　選手名簿'!B280","v":0},{"$f":"'シングルス　選手名簿'!C280","v":0},{"$f":"'シングルス　選手名簿'!D280","v":0}]
[11279,{"$f":"'シングルス　選手名簿'!B281","v":0},{"$f":"'シングルス　選手名簿'!C281","v":0},{"$f":"'シングルス　選手名簿'!D281","v":0}]
[11280,{"$f":"'シングルス　選手名簿'!B282","v":0},{"$f":"'シングルス　選手名簿'!C282","v":0},{"$f":"'シングルス　選手名簿'!D282","v":0}]
[11281,{"$f":"'シングルス　選手名簿'!B283","v":0},{"$f":"'シングルス　選手名簿'!C283","v":0},{"$f":"'シングルス　選手名簿'!D283","v":0}]
[11282,{"$f":"'シングルス　選手名簿'!B284","v":0},{"$f":"'シングルス　選手名簿'!C284","v":0},{"$f":"'シングルス　選手名簿'!D284","v":0}]
[11283,{"$f":"'シングルス　選手名簿'!B285","v":0},{"$f":"'シングルス　選手名簿'!C285","v":0},{"$f":"'シングルス　選手名簿'!D285","v":0}]
[11284,{"$f":"'シングルス　選手名簿'!B286","v":0},{"$f":"'シングルス　選手名簿'!C286","v":0},{"$f":"'シングルス　選手名簿'!D286","v":0}]
[11285,{"$f":"'シングルス　選手名簿'!B287","v":0},{"$f":"'シングルス　選手名簿'!C287","v":0},{"$f":"'シングルス　選手名簿'!D287","v":0}]
[11286,{"$f":"'シングルス　選手名簿'!B288","v":0},{"$f":"'シングルス　選手名簿'!C288","v":0},{"$f":"'シングルス　選手名簿'!D288","v":0}]
[11287,{"$f":"'シングルス　選手名簿'!B289","v":0},{"$f":"'シングルス　選手名簿'!C289","v":0},{"$f":"'シングルス　選手名簿'!D289","v":0}]
[11288,{"$f":"'シングルス　選手名簿'!B290","v":0},{"$f":"'シングルス　選手名簿'!C290","v":0},{"$f":"'シングルス　選手名簿'!D290","v":0}]
[11289,{"$f":"'シングルス　選手名簿'!B291","v":0},{"$f":"'シングルス　選手名簿'!C291","v":0},{"$f":"'シングルス　選手名簿'!D291","v":0}]
[11290,{"$f":"'シングルス　選手名簿'!B292","v":0},{"$f":"'シングルス　選手名簿'!C292","v":0},{"$f":"'シングルス　選手名簿'!D292","v":0}]
[11291,{"$f":"'シングルス　選手名簿'!B293","v":0},{"$f":"'シングルス　選手名簿'!C293","v":0},{"$f":"'シングルス　選手名簿'!D293","v":0}]
[11292,{"$f":"'シングルス　選手名簿'!B294","v":0},{"$f":"'シングルス　選手名簿'!C294","v":0},{"$f":"'シングルス　選手名簿'!D294","v":0}]
[11293,{"$f":"'シングルス　選手名簿'!B295","v":0},{"$f":"'シングルス　選手名簿'!C295","v":0},{"$f":"'シングルス　選手名簿'!D295","v":0}]
[11294,{"$f":"'シングルス　選手名簿'!B296","v":0},{"$f":"'シングルス　選手名簿'!C296","v":0},{"$f":"'シングルス　選手名簿'!D296","v":0}]
[11295,{"$f":"'シングルス　選手名簿'!B297","v":0},{"$f":"'シングルス　選手名簿'!C297","v":0},{"$f":"'シングルス　選手名簿'!D297","v":0}]
[11296,{"$f":"'シングルス　選手名簿'!B298","v":0},{"$f":"'シングルス　選手名簿'!C298","v":0},{"$f":"'シングルス　選手名簿'!D298","v":0}]
[11297,{"$f":"'シングルス　選手名簿'!B299","v":0},{"$f":"'シングルス　選手名簿'!C299","v":0},{"$f":"'シングルス　選手名簿'!D299","v":0}]
[11298,{"$f":"'シングルス　選手名簿'!B300","v":0},{"$f":"'シングルス　選手名簿'!C300","v":0},{"$f":"'シングルス　選手名簿'!D300","v":0}]
[11299,{"$f":"'シングルス　選手名簿'!B301","v":0},{"$f":"'シングルス　選手名簿'!C301","v":0},{"$f":"'シングルス　選手名簿'!D301","v":0}]
[11300,{"$f":"'シングルス　選手名簿'!B302","v":0},{"$f":"'シングルス　選手名簿'!C302","v":0},{"$f":"'シングルス　選手名簿'!D302","v":0}]
[11301,{"$f":"'シングルス　選手名簿'!B303","v":0},{"$f":"'シングルス　選手名簿'!C303","v":0},{"$f":"'シングルス　選手名簿'!D303","v":0}]
[11302,{"$f":"'シングルス　選手名簿'!B304","v":0},{"$f":"'シングルス　選手名簿'!C304","v":0},{"$f":"'シングルス　選手名簿'!D304","v":0}]
[11303,{"$f":"'シングルス　選手名簿'!B305","v":0},{"$f":"'シングルス　選手名簿'!C305","v":0},{"$f":"'シングルス　選手名簿'!D305","v":0}]
[11304,{"$f":"'シングルス　選手名簿'!B306","v":0},{"$f":"'シングルス　選手名簿'!C306","v":0},{"$f":"'シングルス　選手名簿'!D306","v":0}]
[11305,{"$f":"'シングルス　選手名簿'!B307","v":0},{"$f":"'シングルス　選手名簿'!C307","v":0},{"$f":"'シングルス　選手名簿'!D307","v":0}]
[11306,{"$f":"'シングルス　選手名簿'!B308","v":0},{"$f":"'シングルス　選手名簿'!C308","v":0},{"$f":"'シングルス　選手名簿'!D308","v":0}]
[11307,{"$f":"'シングルス　選手名簿'!B309","v":0},{"$f":"'シングルス　選手名簿'!C309","v":0},{"$f":"'シングルス　選手名簿'!D309","v":0}]
[11308,{"$f":"'シングルス　選手名簿'!B310","v":0},{"$f":"'シングルス　選手名簿'!C310","v":0},{"$f":"'シングルス　選手名簿'!D310","v":0}]
[11309,{"$f":"'シングルス　選手名簿'!B311","v":0},{"$f":"'シングルス　選手名簿'!C311","v":0},{"$f":"'シングルス　選手名簿'!D311","v":0}]
[11310,{"$f":"'シングルス　選手名簿'!B312","v":0},{"$f":"'シングルス　選手名簿'!C312","v":0},{"$f":"'シングルス　選手名簿'!D312","v":0}]
[11311,{"$f":"'シングルス　選手名簿'!B313","v":0},{"$f":"'シングルス　選手名簿'!C313","v":0},{"$f":"'シングルス　選手名簿'!D313","v":0}]
[11312,{"$f":"'シングルス　選手名簿'!B314","v":0},{"$f":"'シングルス　選手名簿'!C314","v":0},{"$f":"'シングルス　選手名簿'!D314","v":0}]
[11313,{"$f":"'シングルス　選手名簿'!B315","v":0},{"$f":"'シングルス　選手名簿'!C315","v":0},{"$f":"'シングルス　選手名簿'!D315","v":0}]
[11314,{"$f":"'シングルス　選手名簿'!B316","v":0},{"$f":"'シングルス　選手名簿'!C316","v":0},{"$f":"'シングルス　選手名簿'!D316","v":0}]
[11315,{"$f":"'シングルス　選手名簿'!B317","v":0},{"$f":"'シングルス　選手名簿'!C317","v":0},{"$f":"'シングルス　選手名簿'!D317","v":0}]
[11316,{"$f":"'シングルス　選手名簿'!B318","v":0},{"$f":"'シングルス　選手名簿'!C318","v":0},{"$f":"'シングルス　選手名簿'!D318","v":0}]
[11317,{"$f":"'シングルス　選手名簿'!B319","v":0},{"$f":"'シングルス　選手名簿'!C319","v":0},{"$f":"'シングルス　選手名簿'!D319","v":0}]
[11318,{"$f":"'シングルス　選手名簿'!B320","v":0},{"$f":"'シングルス　選手名簿'!C320","v":0},{"$f":"'シングルス　選手名簿'!D320","v":0}]
[11319,{"$f":"'シングルス　選手名簿'!B321","v":0},{"$f":"'シングルス　選手名簿'!C321","v":0},{"$f":"'シングルス　選手名簿'!D321","v":0}]
[11320,{"$f":"'シングルス　選手名簿'!B322","v":0},{"$f":"'シングルス　選手名簿'!C322","v":0},{"$f":"'シングルス　選手名簿'!D322","v":0}]
[11321,{"$f":"'シングルス　選手名簿'!B323","v":0},{"$f":"'シングルス　選手名簿'!C323","v":0},{"$f":"'シングルス　選手名簿'!D323","v":0}]
[11322,{"$f":"'シングルス　選手名簿'!B324","v":0},{"$f":"'シングルス　選手名簿'!C324","v":0},{"$f":"'シングルス　選手名簿'!D324","v":0}]
[11323,{"$f":"'シングルス　選手名簿'!B325","v":0},{"$f":"'シングルス　選手名簿'!C325","v":0},{"$f":"'シングルス　選手名簿'!D325","v":0}]
[11324,{"$f":"'シングルス　選手名簿'!B326","v":0},{"$f":"'シングルス　選手名簿'!C326","v":0},{"$f":"'シングルス　選手名簿'!D326","v":0}]
[11325,{"$f":"'シングルス　選手名簿'!B327","v":0},{"$f":"'シングルス　選手名簿'!C327","v":0},{"$f":"'シングルス　選手名簿'!D327","v":0}]
[11326,{"$f":"'シングルス　選手名簿'!B328","v":0},{"$f":"'シングルス　選手名簿'!C328","v":0},{"$f":"'シングルス　選手名簿'!D328","v":0}]
[11327,{"$f":"'シングルス　選手名簿'!B329","v":0},{"$f":"'シングルス　選手名簿'!C329","v":0},{"$f":"'シングルス　選手名簿'!D329","v":0}]
[11328,{"$f":"'シングルス　選手名簿'!B330","v":0},{"$f":"'シングルス　選手名簿'!C330","v":0},{"$f":"'シングルス　選手名簿'!D330","v":0}]
[11329,{"$f":"'シングルス　選手名簿'!B331","v":0},{"$f":"'シングルス　選手名簿'!C331","v":0},{"$f":"'シングルス　選手名簿'!D331","v":0}]
[11330,{"$f":"'シングルス　選手名簿'!B332","v":0},{"$f":"'シングルス　選手名簿'!C332","v":0},{"$f":"'シングルス　選手名簿'!D332","v":0}]
[11331,{"$f":"'シングルス　選手名簿'!B333","v":0},{"$f":"'シングルス　選手名簿'!C333","v":0},{"$f":"'シングルス　選手名簿'!D333","v":0}]
[11332,{"$f":"'シングルス　選手名簿'!B334","v":0},{"$f":"'シングルス　選手名簿'!C334","v":0},{"$f":"'シングルス　選手名簿'!D334","v":0}]
[11333,{"$f":"'シングルス　選手名簿'!B335","v":0},{"$f":"'シングルス　選手名簿'!C335","v":0},{"$f":"'シングルス　選手名簿'!D335","v":0}]
[11334,{"$f":"'シングルス　選手名簿'!B336","v":0},{"$f":"'シングルス　選手名簿'!C336","v":0},{"$f":"'シングルス　選手名簿'!D336","v":0}]
[11335,{"$f":"'シングルス　選手名簿'!B337","v":0},{"$f":"'シングルス　選手名簿'!C337","v":0},{"$f":"'シングルス　選手名簿'!D337","v":0}]
[11336,{"$f":"'シングルス　選手名簿'!B338","v":0},{"$f":"'シングルス　選手名簿'!C338","v":0},{"$f":"'シングルス　選手名簿'!D338","v":0}]
[11337,{"$f":"'シングルス　選手名簿'!B339","v":0},{"$f":"'シングルス　選手名簿'!C339","v":0},{"$f":"'シングルス　選手名簿'!D339","v":0}]
[11338,{"$f":"'シングルス　選手名簿'!B340","v":0},{"$f":"'シングルス　選手名簿'!C340","v":0},{"$f":"'シングルス　選手名簿'!D340","v":0}]
[11339,{"$f":"'シングルス　選手名簿'!B341","v":0},{"$f":"'シングルス　選手名簿'!C341","v":0},{"$f":"'シングルス　選手名簿'!D341","v":0}]
[11340,{"$f":"'シングルス　選手名簿'!B342","v":0},{"$f":"'シングルス　選手名簿'!C342","v":0},{"$f":"'シングルス　選手名簿'!D342","v":0}]
[11341,{"$f":"'シングルス　選手名簿'!B343","v":0},{"$f":"'シングルス　選手名簿'!C343","v":0},{"$f":"'シングルス　選手名簿'!D343","v":0}]
[11342,{"$f":"'シングルス　選手名簿'!B344","v":0},{"$f":"'シングルス　選手名簿'!C344","v":0},{"$f":"'シングルス　選手名簿'!D344","v":0}]
[11343,{"$f":"'シングルス　選手名簿'!B345","v":0},{"$f":"'シングルス　選手名簿'!C345","v":0},{"$f":"'シングルス　選手名簿'!D345","v":0}]
[11344,{"$f":"'シングルス　選手名簿'!B346","v":0},{"$f":"'シングルス　選手名簿'!C346","v":0},{"$f":"'シングルス　選手名簿'!D346","v":0}]
[11345,{"$f":"'シングルス　選手名簿'!B347","v":0},{"$f":"'シングルス　選手名簿'!C347","v":0},{"$f":"'シングルス　選手名簿'!D347","v":0}]
[11346,{"$f":"'シングルス　選手名簿'!B348","v":0},{"$f":"'シングルス　選手名簿'!C348","v":0},{"$f":"'シングルス　選手名簿'!D348","v":0}]
[11347,{"$f":"'シングルス　選手名簿'!B349","v":0},{"$f":"'シングルス　選手名簿'!C349","v":0},{"$f":"'シングルス　選手名簿'!D349","v":0}]
[11348,{"$f":"'シングルス　選手名簿'!B350","v":0},{"$f":"'シングルス　選手名簿'!C350","v":0},{"$f":"'シングルス　選手名簿'!D350","v":0}]
[11349,{"$f":"'シングルス　選手名簿'!B351","v":0},{"$f":"'シングルス　選手名簿'!C351","v":0},{"$f":"'シングルス　選手名簿'!D351","v":0}]
[11350,{"$f":"'シングルス　選手名簿'!B352","v":0},{"$f":"'シングルス　選手名簿'!C352","v":0},{"$f":"'シングルス　選手名簿'!D352","v":0}]
[11351,{"$f":"'シングルス　選手名簿'!B353","v":0},{"$f":"'シングルス　選手名簿'!C353","v":0},{"$f":"'シングルス　選手名簿'!D353","v":0}]
[11352,{"$f":"'シングルス　選手名簿'!B354","v":0},{"$f":"'シングルス　選手名簿'!C354","v":0},{"$f":"'シングルス　選手名簿'!D354","v":0}]
[11353,{"$f":"'シングルス　選手名簿'!B355","v":0},{"$f":"'シングルス　選手名簿'!C355","v":0},{"$f":"'シングルス　選手名簿'!D355","v":0}]
[11354,{"$f":"'シングルス　選手名簿'!B356","v":0},{"$f":"'シングルス　選手名簿'!C356","v":0},{"$f":"'シングルス　選手名簿'!D356","v":0}]
[11355,{"$f":"'シングルス　選手名簿'!B357","v":0},{"$f":"'シングルス　選手名簿'!C357","v":0},{"$f":"'シングルス　選手名簿'!D357","v":0}]
[11356,{"$f":"'シングルス　選手名簿'!B358","v":0},{"$f":"'シングルス　選手名簿'!C358","v":0},{"$f":"'シングルス　選手名簿'!D358","v":0}]
[11357,{"$f":"'シングルス　選手名簿'!B359","v":0},{"$f":"'シングルス　選手名簿'!C359","v":0},{"$f":"'シングルス　選手名簿'!D359","v":0}]
[11358,{"$f":"'シングルス　選手名簿'!B360","v":0},{"$f":"'シングルス　選手名簿'!C360","v":0},{"$f":"'シングルス　選手名簿'!D360","v":0}]
[11359,{"$f":"'シングルス　選手名簿'!B361","v":0},{"$f":"'シングルス　選手名簿'!C361","v":0},{"$f":"'シングルス　選手名簿'!D361","v":0}]
[11360,{"$f":"'シングルス　選手名簿'!B362","v":0},{"$f":"'シングルス　選手名簿'!C362","v":0},{"$f":"'シングルス　選手名簿'!D362","v":0}]
[11361,{"$f":"'シングルス　選手名簿'!B363","v":0},{"$f":"'シングルス　選手名簿'!C363","v":0},{"$f":"'シングルス　選手名簿'!D363","v":0}]
[11362,{"$f":"'シングルス　選手名簿'!B364","v":0},{"$f":"'シングルス　選手名簿'!C364","v":0},{"$f":"'シングルス　選手名簿'!D364","v":0}]
[11363,{"$f":"'シングルス　選手名簿'!B365","v":0},{"$f":"'シングルス　選手名簿'!C365","v":0},{"$f":"'シングルス　選手名簿'!D365","v":0}]
[11364,{"$f":"'シングルス　選手名簿'!B366","v":0},{"$f":"'シングルス　選手名簿'!C366","v":0},{"$f":"'シングルス　選手名簿'!D366","v":0}]
[11365,{"$f":"'シングルス　選手名簿'!B367","v":0},{"$f":"'シングルス　選手名簿'!C367","v":0},{"$f":"'シングルス　選手名簿'!D367","v":0}]
[11366,{"$f":"'シングルス　選手名簿'!B368","v":0},{"$f":"'シングルス　選手名簿'!C368","v":0},{"$f":"'シングルス　選手名簿'!D368","v":0}]
[11367,{"$f":"'シングルス　選手名簿'!B369","v":0},{"$f":"'シングルス　選手名簿'!C369","v":0},{"$f":"'シングルス　選手名簿'!D369","v":0}]
[11368,{"$f":"'シングルス　選手名簿'!B370","v":0},{"$f":"'シングルス　選手名簿'!C370","v":0},{"$f":"'シングルス　選手名簿'!D370","v":0}]
[11369,{"$f":"'シングルス　選手名簿'!B371","v":0},{"$f":"'シングルス　選手名簿'!C371","v":0},{"$f":"'シングルス　選手名簿'!D371","v":0}]
[11370,{"$f":"'シングルス　選手名簿'!B372","v":0},{"$f":"'シングルス　選手名簿'!C372","v":0},{"$f":"'シングルス　選手名簿'!D372","v":0}]
[11371,{"$f":"'シングルス　選手名簿'!B373","v":0},{"$f":"'シングルス　選手名簿'!C373","v":0},{"$f":"'シングルス　選手名簿'!D373","v":0}]
[11372,{"$f":"'シングルス　選手名簿'!B374","v":0},{"$f":"'シングルス　選手名簿'!C374","v":0},{"$f":"'シングルス　選手名簿'!D374","v":0}]
[11373,{"$f":"'シングルス　選手名簿'!B375","v":0},{"$f":"'シングルス　選手名簿'!C375","v":0},{"$f":"'シングルス　選手名簿'!D375","v":0}]
[11374,{"$f":"'シングルス　選手名簿'!B376","v":0},{"$f":"'シングルス　選手名簿'!C376","v":0},{"$f":"'シングルス　選手名簿'!D376","v":0}]
[11375,{"$f":"'シングルス　選手名簿'!B377","v":0},{"$f":"'シングルス　選手名簿'!C377","v":0},{"$f":"'シングルス　選手名簿'!D377","v":0}]
[11376,{"$f":"'シングルス　選手名簿'!B378","v":0},{"$f":"'シングルス　選手名簿'!C378","v":0},{"$f":"'シングルス　選手名簿'!D378","v":0}]
[11377,{"$f":"'シングルス　選手名簿'!B379","v":0},{"$f":"'シングルス　選手名簿'!C379","v":0},{"$f":"'シングルス　選手名簿'!D379","v":0}]
[11378,{"$f":"'シングルス　選手名簿'!B380","v":0},{"$f":"'シングルス　選手名簿'!C380","v":0},{"$f":"'シングルス　選手名簿'!D380","v":0}]
[11379,{"$f":"'シングルス　選手名簿'!B381","v":0},{"$f":"'シングルス　選手名簿'!C381","v":0},{"$f":"'シングルス　選手名簿'!D381","v":0}]
[11380,{"$f":"'シングルス　選手名簿'!B382","v":0},{"$f":"'シングルス　選手名簿'!C382","v":0},{"$f":"'シングルス　選手名簿'!D382","v":0}]
[11381,{"$f":"'シングルス　選手名簿'!B383","v":0},{"$f":"'シングルス　選手名簿'!C383","v":0},{"$f":"'シングルス　選手名簿'!D383","v":0}]
[11382,{"$f":"'シングルス　選手名簿'!B384","v":0},{"$f":"'シングルス　選手名簿'!C384","v":0},{"$f":"'シングルス　選手名簿'!D384","v":0}]
[11383,{"$f":"'シングルス　選手名簿'!B385","v":0},{"$f":"'シングルス　選手名簿'!C385","v":0},{"$f":"'シングルス　選手名簿'!D385","v":0}]
[11384,{"$f":"'シングルス　選手名簿'!B386","v":0},{"$f":"'シングルス　選手名簿'!C386","v":0},{"$f":"'シングルス　選手名簿'!D386","v":0}]
[11385,{"$f":"'シングルス　選手名簿'!B387","v":0},{"$f":"'シングルス　選手名簿'!C387","v":0},{"$f":"'シングルス　選手名簿'!D387","v":0}]
[11386,{"$f":"'シングルス　選手名簿'!B388","v":0},{"$f":"'シングルス　選手名簿'!C388","v":0},{"$f":"'シングルス　選手名簿'!D388","v":0}]
[11387,{"$f":"'シングルス　選手名簿'!B389","v":0},{"$f":"'シングルス　選手名簿'!C389","v":0},{"$f":"'シングルス　選手名簿'!D389","v":0}]
[11388,{"$f":"'シングルス　選手名簿'!B390","v":0},{"$f":"'シングルス　選手名簿'!C390","v":0},{"$f":"'シングルス　選手名簿'!D390","v":0}]
[11389,{"$f":"'シングルス　選手名簿'!B391","v":0},{"$f":"'シングルス　選手名簿'!C391","v":0},{"$f":"'シングルス　選手名簿'!D391","v":0}]
[11390,{"$f":"'シングルス　選手名簿'!B392","v":0},{"$f":"'シングルス　選手名簿'!C392","v":0},{"$f":"'シングルス　選手名簿'!D392","v":0}]
[11391,{"$f":"'シングルス　選手名簿'!B393","v":0},{"$f":"'シングルス　選手名簿'!C393","v":0},{"$f":"'シングルス　選手名簿'!D393","v":0}]
[11392,{"$f":"'シングルス　選手名簿'!B394","v":0},{"$f":"'シングルス　選手名簿'!C394","v":0},{"$f":"'シングルス　選手名簿'!D394","v":0}]
[11393,{"$f":"'シングルス　選手名簿'!B395","v":0},{"$f":"'シングルス　選手名簿'!C395","v":0},{"$f":"'シングルス　選手名簿'!D395","v":0}]
[11394,{"$f":"'シングルス　選手名簿'!B396","v":0},{"$f":"'シングルス　選手名簿'!C396","v":0},{"$f":"'シングルス　選手名簿'!D396","v":0}]
[11395,{"$f":"'シングルス　選手名簿'!B397","v":0},{"$f":"'シングルス　選手名簿'!C397","v":0},{"$f":"'シングルス　選手名簿'!D397","v":0}]
[11396,{"$f":"'シングルス　選手名簿'!B398","v":0},{"$f":"'シングルス　選手名簿'!C398","v":0},{"$f":"'シングルス　選手名簿'!D398","v":0}]
[11397,{"$f":"'シングルス　選手名簿'!B399","v":0},{"$f":"'シングルス　選手名簿'!C399","v":0},{"$f":"'シングルス　選手名簿'!D399","v":0}]
[11398,{"$f":"'シングルス　選手名簿'!B400","v":0},{"$f":"'シングルス　選手名簿'!C400","v":0},{"$f":"'シングルス　選手名簿'!D400","v":0}]
[11399,{"$f":"'シングルス　選手名簿'!B401","v":0},{"$f":"'シングルス　選手名簿'!C401","v":0},{"$f":"'シングルス　選手名簿'!D401","v":0}]
[11400,{"$f":"'シングルス　選手名簿'!B402","v":0},{"$f":"'シングルス　選手名簿'!C402","v":0},{"$f":"'シングルス　選手名簿'!D402","v":0}]
[11401,{"$f":"'シングルス　選手名簿'!B403","v":0},{"$f":"'シングルス　選手名簿'!C403","v":0},{"$f":"'シングルス　選手名簿'!D403","v":0}]
[11402,{"$f":"'シングルス　選手名簿'!B404","v":0},{"$f":"'シングルス　選手名簿'!C404","v":0},{"$f":"'シングルス　選手名簿'!D404","v":0}]
[11403,{"$f":"'シングルス　選手名簿'!B405","v":0},{"$f":"'シングルス　選手名簿'!C405","v":0},{"$f":"'シングルス　選手名簿'!D405","v":0}]
[11404,{"$f":"'シングルス　選手名簿'!B406","v":0},{"$f":"'シングルス　選手名簿'!C406","v":0},{"$f":"'シングルス　選手名簿'!D406","v":0}]
[11405,{"$f":"'シングルス　選手名簿'!B407","v":0},{"$f":"'シングルス　選手名簿'!C407","v":0},{"$f":"'シングルス　選手名簿'!D407","v":0}]
[11406,{"$f":"'シングルス　選手名簿'!B408","v":0},{"$f":"'シングルス　選手名簿'!C408","v":0},{"$f":"'シングルス　選手名簿'!D408","v":0}]
[11407,{"$f":"'シングルス　選手名簿'!B409","v":0},{"$f":"'シングルス　選手名簿'!C409","v":0},{"$f":"'シングルス　選手名簿'!D409","v":0}]
[11408,{"$f":"'シングルス　選手名簿'!B410","v":0},{"$f":"'シングルス　選手名簿'!C410","v":0},{"$f":"'シングルス　選手名簿'!D410","v":0}]
[11409,{"$f":"'シングルス　選手名簿'!B411","v":0},{"$f":"'シングルス　選手名簿'!C411","v":0},{"$f":"'シングルス　選手名簿'!D411","v":0}]
[11410,{"$f":"'シングルス　選手名簿'!B412","v":0},{"$f":"'シングルス　選手名簿'!C412","v":0},{"$f":"'シングルス　選手名簿'!D412","v":0}]
[11411,{"$f":"'シングルス　選手名簿'!B413","v":0},{"$f":"'シングルス　選手名簿'!C413","v":0},{"$f":"'シングルス　選手名簿'!D413","v":0}]
[11412,{"$f":"'シングルス　選手名簿'!B414","v":0},{"$f":"'シングルス　選手名簿'!C414","v":0},{"$f":"'シングルス　選手名簿'!D414","v":0}]
[11413,{"$f":"'シングルス　選手名簿'!B415","v":0},{"$f":"'シングルス　選手名簿'!C415","v":0},{"$f":"'シングルス　選手名簿'!D415","v":0}]
[11414,{"$f":"'シングルス　選手名簿'!B416","v":0},{"$f":"'シングルス　選手名簿'!C416","v":0},{"$f":"'シングルス　選手名簿'!D416","v":0}]
[11415,{"$f":"'シングルス　選手名簿'!B417","v":0},{"$f":"'シングルス　選手名簿'!C417","v":0},{"$f":"'シングルス　選手名簿'!D417","v":0}]
[11416,{"$f":"'シングルス　選手名簿'!B418","v":0},{"$f":"'シングルス　選手名簿'!C418","v":0},{"$f":"'シングルス　選手名簿'!D418","v":0}]
[11417,{"$f":"'シングルス　選手名簿'!B419","v":0},{"$f":"'シングルス　選手名簿'!C419","v":0},{"$f":"'シングルス　選手名簿'!D419","v":0}]
[11418,{"$f":"'シングルス　選手名簿'!B420","v":0},{"$f":"'シングルス　選手名簿'!C420","v":0},{"$f":"'シングルス　選手名簿'!D420","v":0}]
[11419,{"$f":"'シングルス　選手名簿'!B421","v":0},{"$f":"'シングルス　選手名簿'!C421","v":0},{"$f":"'シングルス　選手名簿'!D421","v":0}]
[11420,{"$f":"'シングルス　選手名簿'!B422","v":0},{"$f":"'シングルス　選手名簿'!C422","v":0},{"$f":"'シングルス　選手名簿'!D422","v":0}]
[11421,{"$f":"'シングルス　選手名簿'!B423","v":0},{"$f":"'シングルス　選手名簿'!C423","v":0},{"$f":"'シングルス　選手名簿'!D423","v":0}]
[11422,{"$f":"'シングルス　選手名簿'!B424","v":0},{"$f":"'シングルス　選手名簿'!C424","v":0},{"$f":"'シングルス　選手名簿'!D424","v":0}]
[11423,{"$f":"'シングルス　選手名簿'!B425","v":0},{"$f":"'シングルス　選手名簿'!C425","v":0},{"$f":"'シングルス　選手名簿'!D425","v":0}]
[11424,{"$f":"'シングルス　選手名簿'!B426","v":0},{"$f":"'シングルス　選手名簿'!C426","v":0},{"$f":"'シングルス　選手名簿'!D426","v":0}]
[11425,{"$f":"'シングルス　選手名簿'!B427","v":0},{"$f":"'シングルス　選手名簿'!C427","v":0},{"$f":"'シングルス　選手名簿'!D427","v":0}]
[11426,{"$f":"'シングルス　選手名簿'!B428","v":0},{"$f":"'シングルス　選手名簿'!C428","v":0},{"$f":"'シングルス　選手名簿'!D428","v":0}]
[11427,{"$f":"'シングルス　選手名簿'!B429","v":0},{"$f":"'シングルス　選手名簿'!C429","v":0},{"$f":"'シングルス　選手名簿'!D429","v":0}]
[11428,{"$f":"'シングルス　選手名簿'!B430","v":0},{"$f":"'シングルス　選手名簿'!C430","v":0},{"$f":"'シングルス　選手名簿'!D430","v":0}]
[11429,{"$f":"'シングルス　選手名簿'!B431","v":0},{"$f":"'シングルス　選手名簿'!C431","v":0},{"$f":"'シングルス　選手名簿'!D431","v":0}]
[11430,{"$f":"'シングルス　選手名簿'!B432","v":0},{"$f":"'シングルス　選手名簿'!C432","v":0},{"$f":"'シングルス　選手名簿'!D432","v":0}]
[11431,{"$f":"'シングルス　選手名簿'!B433","v":0},{"$f":"'シングルス　選手名簿'!C433","v":0},{"$f":"'シングルス　選手名簿'!D433","v":0}]
[11432,{"$f":"'シングルス　選手名簿'!B434","v":0},{"$f":"'シングルス　選手名簿'!C434","v":0},{"$f":"'シングルス　選手名簿'!D434","v":0}]
[11433,{"$f":"'シングルス　選手名簿'!B435","v":0},{"$f":"'シングルス　選手名簿'!C435","v":0},{"$f":"'シングルス　選手名簿'!D435","v":0}]
[11434,{"$f":"'シングルス　選手名簿'!B436","v":0},{"$f":"'シングルス　選手名簿'!C436","v":0},{"$f":"'シングルス　選手名簿'!D436","v":0}]
[11435,{"$f":"'シングルス　選手名簿'!B437","v":0},{"$f":"'シングルス　選手名簿'!C437","v":0},{"$f":"'シングルス　選手名簿'!D437","v":0}]
[11436,{"$f":"'シングルス　選手名簿'!B438","v":0},{"$f":"'シングルス　選手名簿'!C438","v":0},{"$f":"'シングルス　選手名簿'!D438","v":0}]
[11437,{"$f":"'シングルス　選手名簿'!B439","v":0},{"$f":"'シングルス　選手名簿'!C439","v":0},{"$f":"'シングルス　選手名簿'!D439","v":0}]
[11438,{"$f":"'シングルス　選手名簿'!B440","v":0},{"$f":"'シングルス　選手名簿'!C440","v":0},{"$f":"'シングルス　選手名簿'!D440","v":0}]
[11439,{"$f":"'シングルス　選手名簿'!B441","v":0},{"$f":"'シングルス　選手名簿'!C441","v":0},{"$f":"'シングルス　選手名簿'!D441","v":0}]
[11440,{"$f":"'シングルス　選手名簿'!B442","v":0},{"$f":"'シングルス　選手名簿'!C442","v":0},{"$f":"'シングルス　選手名簿'!D442","v":0}]
[11441,{"$f":"'シングルス　選手名簿'!B443","v":0},{"$f":"'シングルス　選手名簿'!C443","v":0},{"$f":"'シングルス　選手名簿'!D443","v":0}]
[11442,{"$f":"'シングルス　選手名簿'!B444","v":0},{"$f":"'シングルス　選手名簿'!C444","v":0},{"$f":"'シングルス　選手名簿'!D444","v":0}]
[11443,{"$f":"'シングルス　選手名簿'!B445","v":0},{"$f":"'シングルス　選手名簿'!C445","v":0},{"$f":"'シングルス　選手名簿'!D445","v":0}]
[11444,{"$f":"'シングルス　選手名簿'!B446","v":0},{"$f":"'シングルス　選手名簿'!C446","v":0},{"$f":"'シングルス　選手名簿'!D446","v":0}]
[11445,{"$f":"'シングルス　選手名簿'!B447","v":0},{"$f":"'シングルス　選手名簿'!C447","v":0},{"$f":"'シングルス　選手名簿'!D447","v":0}]
[11446,{"$f":"'シングルス　選手名簿'!B448","v":0},{"$f":"'シングルス　選手名簿'!C448","v":0},{"$f":"'シングルス　選手名簿'!D448","v":0}]
[11447,{"$f":"'シングルス　選手名簿'!B449","v":0},{"$f":"'シングルス　選手名簿'!C449","v":0},{"$f":"'シングルス　選手名簿'!D449","v":0}]
[11448,{"$f":"'シングルス　選手名簿'!B450","v":0},{"$f":"'シングルス　選手名簿'!C450","v":0},{"$f":"'シングルス　選手名簿'!D450","v":0}]
[11449,{"$f":"'シングルス　選手名簿'!B451","v":0},{"$f":"'シングルス　選手名簿'!C451","v":0},{"$f":"'シングルス　選手名簿'!D451","v":0}]
[11450,{"$f":"'シングルス　選手名簿'!B452","v":0},{"$f":"'シングルス　選手名簿'!C452","v":0},{"$f":"'シングルス　選手名簿'!D452","v":0}]
[11451,{"$f":"'シングルス　選手名簿'!B453","v":0},{"$f":"'シングルス　選手名簿'!C453","v":0},{"$f":"'シングルス　選手名簿'!D453","v":0}]
[11452,{"$f":"'シングルス　選手名簿'!B454","v":0},{"$f":"'シングルス　選手名簿'!C454","v":0},{"$f":"'シングルス　選手名簿'!D454","v":0}]
[11453,{"$f":"'シングルス　選手名簿'!B455","v":0},{"$f":"'シングルス　選手名簿'!C455","v":0},{"$f":"'シングルス　選手名簿'!D455","v":0}]
[11454,{"$f":"'シングルス　選手名簿'!B456","v":0},{"$f":"'シングルス　選手名簿'!C456","v":0},{"$f":"'シングルス　選手名簿'!D456","v":0}]
[11455,{"$f":"'シングルス　選手名簿'!B457","v":0},{"$f":"'シングルス　選手名簿'!C457","v":0},{"$f":"'シングルス　選手名簿'!D457","v":0}]
[11456,{"$f":"'シングルス　選手名簿'!B458","v":0},{"$f":"'シングルス　選手名簿'!C458","v":0},{"$f":"'シングルス　選手名簿'!D458","v":0}]
[11457,{"$f":"'シングルス　選手名簿'!B459","v":0},{"$f":"'シングルス　選手名簿'!C459","v":0},{"$f":"'シングルス　選手名簿'!D459","v":0}]
[11458,{"$f":"'シングルス　選手名簿'!B460","v":0},{"$f":"'シングルス　選手名簿'!C460","v":0},{"$f":"'シングルス　選手名簿'!D460","v":0}]
[11459,{"$f":"'シングルス　選手名簿'!B461","v":0},{"$f":"'シングルス　選手名簿'!C461","v":0},{"$f":"'シングルス　選手名簿'!D461","v":0}]
[11460,{"$f":"'シングルス　選手名簿'!B462","v":0},{"$f":"'シングルス　選手名簿'!C462","v":0},{"$f":"'シングルス　選手名簿'!D462","v":0}]
[11461,{"$f":"'シングルス　選手名簿'!B463","v":0},{"$f":"'シングルス　選手名簿'!C463","v":0},{"$f":"'シングルス　選手名簿'!D463","v":0}]
[11462,{"$f":"'シングルス　選手名簿'!B464","v":0},{"$f":"'シングルス　選手名簿'!C464","v":0},{"$f":"'シングルス　選手名簿'!D464","v":0}]
[11463,{"$f":"'シングルス　選手名簿'!B465","v":0},{"$f":"'シングルス　選手名簿'!C465","v":0},{"$f":"'シングルス　選手名簿'!D465","v":0}]
[11464,{"$f":"'シングルス　選手名簿'!B466","v":0},{"$f":"'シングルス　選手名簿'!C466","v":0},{"$f":"'シングルス　選手名簿'!D466","v":0}]
[11465,{"$f":"'シングルス　選手名簿'!B467","v":0},{"$f":"'シングルス　選手名簿'!C467","v":0},{"$f":"'シングルス　選手名簿'!D467","v":0}]
[11466,{"$f":"'シングルス　選手名簿'!B468","v":0},{"$f":"'シングルス　選手名簿'!C468","v":0},{"$f":"'シングルス　選手名簿'!D468","v":0}]
[11467,{"$f":"'シングルス　選手名簿'!B469","v":0},{"$f":"'シングルス　選手名簿'!C469","v":0},{"$f":"'シングルス　選手名簿'!D469","v":0}]
[11468,{"$f":"'シングルス　選手名簿'!B470","v":0},{"$f":"'シングルス　選手名簿'!C470","v":0},{"$f":"'シングルス　選手名簿'!D470","v":0}]
[11469,{"$f":"'シングルス　選手名簿'!B471","v":0},{"$f":"'シングルス　選手名簿'!C471","v":0},{"$f":"'シングルス　選手名簿'!D471","v":0}]
[11470,{"$f":"'シングルス　選手名簿'!B472","v":0},{"$f":"'シングルス　選手名簿'!C472","v":0},{"$f":"'シングルス　選手名簿'!D472","v":0}]
[11471,{"$f":"'シングルス　選手名簿'!B473","v":0},{"$f":"'シングルス　選手名簿'!C473","v":0},{"$f":"'シングルス　選手名簿'!D473","v":0}]
[11472,{"$f":"'シングルス　選手名簿'!B474","v":0},{"$f":"'シングルス　選手名簿'!C474","v":0},{"$f":"'シングルス　選手名簿'!D474","v":0}]
[11473,{"$f":"'シングルス　選手名簿'!B475","v":0},{"$f":"'シングルス　選手名簿'!C475","v":0},{"$f":"'シングルス　選手名簿'!D475","v":0}]
[11474,{"$f":"'シングルス　選手名簿'!B476","v":0},{"$f":"'シングルス　選手名簿'!C476","v":0},{"$f":"'シングルス　選手名簿'!D476","v":0}]
[11475,{"$f":"'シングルス　選手名簿'!B477","v":0},{"$f":"'シングルス　選手名簿'!C477","v":0},{"$f":"'シングルス　選手名簿'!D477","v":0}]
[11476,{"$f":"'シングルス　選手名簿'!B478","v":0},{"$f":"'シングルス　選手名簿'!C478","v":0},{"$f":"'シングルス　選手名簿'!D478","v":0}]
[11477,{"$f":"'シングルス　選手名簿'!B479","v":0},{"$f":"'シングルス　選手名簿'!C479","v":0},{"$f":"'シングルス　選手名簿'!D479","v":0}]
[11478,{"$f":"'シングルス　選手名簿'!B480","v":0},{"$f":"'シングルス　選手名簿'!C480","v":0},{"$f":"'シングルス　選手名簿'!D480","v":0}]
[11479,{"$f":"'シングルス　選手名簿'!B481","v":0},{"$f":"'シングルス　選手名簿'!C481","v":0},{"$f":"'シングルス　選手名簿'!D481","v":0}]
[11480,{"$f":"'シングルス　選手名簿'!B482","v":0},{"$f":"'シングルス　選手名簿'!C482","v":0},{"$f":"'シングルス　選手名簿'!D482","v":0}]
[11481,{"$f":"'シングルス　選手名簿'!B483","v":0},{"$f":"'シングルス　選手名簿'!C483","v":0},{"$f":"'シングルス　選手名簿'!D483","v":0}]
[11482,{"$f":"'シングルス　選手名簿'!B484","v":0},{"$f":"'シングルス　選手名簿'!C484","v":0},{"$f":"'シングルス　選手名簿'!D484","v":0}]
[11483,{"$f":"'シングルス　選手名簿'!B485","v":0},{"$f":"'シングルス　選手名簿'!C485","v":0},{"$f":"'シングルス　選手名簿'!D485","v":0}]
[11484,{"$f":"'シングルス　選手名簿'!B486","v":0},{"$f":"'シングルス　選手名簿'!C486","v":0},{"$f":"'シングルス　選手名簿'!D486","v":0}]
[11485,{"$f":"'シングルス　選手名簿'!B487","v":0},{"$f":"'シングルス　選手名簿'!C487","v":0},{"$f":"'シングルス　選手名簿'!D487","v":0}]
[11486,{"$f":"'シングルス　選手名簿'!B488","v":0},{"$f":"'シングルス　選手名簿'!C488","v":0},{"$f":"'シングルス　選手名簿'!D488","v":0}]
[11487,{"$f":"'シングルス　選手名簿'!B489","v":0},{"$f":"'シングルス　選手名簿'!C489","v":0},{"$f":"'シングルス　選手名簿'!D489","v":0}]
[11488,{"$f":"'シングルス　選手名簿'!B490","v":0},{"$f":"'シングルス　選手名簿'!C490","v":0},{"$f":"'シングルス　選手名簿'!D490","v":0}]
[11489,{"$f":"'シングルス　選手名簿'!B491","v":0},{"$f":"'シングルス　選手名簿'!C491","v":0},{"$f":"'シングルス　選手名簿'!D491","v":0}]
[11490,{"$f":"'シングルス　選手名簿'!B492","v":0},{"$f":"'シングルス　選手名簿'!C492","v":0},{"$f":"'シングルス　選手名簿'!D492","v":0}]
[11491,{"$f":"'シングルス　選手名簿'!B493","v":0},{"$f":"'シングルス　選手名簿'!C493","v":0},{"$f":"'シングルス　選手名簿'!D493","v":0}]
[11492,{"$f":"'シングルス　選手名簿'!B494","v":0},{"$f":"'シングルス　選手名簿'!C494","v":0},{"$f":"'シングルス　選手名簿'!D494","v":0}]
[11493,{"$f":"'シングルス　選手名簿'!B495","v":0},{"$f":"'シングルス　選手名簿'!C495","v":0},{"$f":"'シングルス　選手名簿'!D495","v":0}]
[11494,{"$f":"'シングルス　選手名簿'!B496","v":0},{"$f":"'シングルス　選手名簿'!C496","v":0},{"$f":"'シングルス　選手名簿'!D496","v":0}]
[11495,{"$f":"'シングルス　選手名簿'!B497","v":0},{"$f":"'シングルス　選手名簿'!C497","v":0},{"$f":"'シングルス　選手名簿'!D497","v":0}]
[11496,{"$f":"'シングルス　選手名簿'!B498","v":0},{"$f":"'シングルス　選手名簿'!C498","v":0},{"$f":"'シングルス　選手名簿'!D498","v":0}]
[11497,{"$f":"'シングルス　選手名簿'!B499","v":0},{"$f":"'シングルス　選手名簿'!C499","v":0},{"$f":"'シングルス　選手名簿'!D499","v":0}]
[11498,{"$f":"'シングルス　選手名簿'!B500","v":0},{"$f":"'シングルス　選手名簿'!C500","v":0},{"$f":"'シングルス　選手名簿'!D500","v":0}]
[11499,{"$f":"'シングルス　選手名簿'!B501","v":0},{"$f":"'シングルス　選手名簿'!C501","v":0},{"$f":"'シングルス　選手名簿'!D501","v":0}]
[11500,{"$f":"'シングルス　選手名簿'!B502","v":0},{"$f":"'シングルス　選手名簿'!C502","v":0},{"$f":"'シングルス　選手名簿'!D502","v":0}]
[12001,{"$f":"'シングルス　選手名簿'!G3","v":0},{"$f":"'シングルス　選手名簿'!H3","v":0},{"$f":"'シングルス　選手名簿'!I3","v":0}]
[12002,{"$f":"'シングルス　選手名簿'!G4","v":0},{"$f":"'シングルス　選手名簿'!H4","v":0},{"$f":"'シングルス　選手名簿'!I4","v":0}]
[12003,{"$f":"'シングルス　選手名簿'!G5","v":0},{"$f":"'シングルス　選手名簿'!H5","v":0},{"$f":"'シングルス　選手名簿'!I5","v":0}]
[12004,{"$f":"'シングルス　選手名簿'!G6","v":0},{"$f":"'シングルス　選手名簿'!H6","v":0},{"$f":"'シングルス　選手名簿'!I6","v":0}]
[12005,{"$f":"'シングルス　選手名簿'!G7","v":0},{"$f":"'シングルス　選手名簿'!H7","v":0},{"$f":"'シングルス　選手名簿'!I7","v":0}]
[12006,{"$f":"'シングルス　選手名簿'!G8","v":0},{"$f":"'シングルス　選手名簿'!H8","v":0},{"$f":"'シングルス　選手名簿'!I8","v":0}]
[12007,{"$f":"'シングルス　選手名簿'!G9","v":0},{"$f":"'シングルス　選手名簿'!H9","v":0},{"$f":"'シングルス　選手名簿'!I9","v":0}]
[12008,{"$f":"'シングルス　選手名簿'!G10","v":0},{"$f":"'シングルス　選手名簿'!H10","v":0},{"$f":"'シングルス　選手名簿'!I10","v":0}]
[12009,{"$f":"'シングルス　選手名簿'!G11","v":0},{"$f":"'シングルス　選手名簿'!H11","v":0},{"$f":"'シングルス　選手名簿'!I11","v":0}]
[12010,{"$f":"'シングルス　選手名簿'!G12","v":0},{"$f":"'シングルス　選手名簿'!H12","v":0},{"$f":"'シングルス　選手名簿'!I12","v":0}]
[12011,{"$f":"'シングルス　選手名簿'!G13","v":0},{"$f":"'シングルス　選手名簿'!H13","v":0},{"$f":"'シングルス　選手名簿'!I13","v":0}]
[12012,{"$f":"'シングルス　選手名簿'!G14","v":0},{"$f":"'シングルス　選手名簿'!H14","v":0},{"$f":"'シングルス　選手名簿'!I14","v":0}]
[12013,{"$f":"'シングルス　選手名簿'!G15","v":0},{"$f":"'シングルス　選手名簿'!H15","v":0},{"$f":"'シングルス　選手名簿'!I15","v":0}]
[12014,{"$f":"'シングルス　選手名簿'!G16","v":0},{"$f":"'シングルス　選手名簿'!H16","v":0},{"$f":"'シングルス　選手名簿'!I16","v":0}]
[12015,{"$f":"'シングルス　選手名簿'!G17","v":0},{"$f":"'シングルス　選手名簿'!H17","v":0},{"$f":"'シングルス　選手名簿'!I17","v":0}]
[12016,{"$f":"'シングルス　選手名簿'!G18","v":0},{"$f":"'シングルス　選手名簿'!H18","v":0},{"$f":"'シングルス　選手名簿'!I18","v":0}]
[12017,{"$f":"'シングルス　選手名簿'!G19","v":0},{"$f":"'シングルス　選手名簿'!H19","v":0},{"$f":"'シングルス　選手名簿'!I19","v":0}]
[12018,{"$f":"'シングルス　選手名簿'!G20","v":0},{"$f":"'シングルス　選手名簿'!H20","v":0},{"$f":"'シングルス　選手名簿'!I20","v":0}]
[12019,{"$f":"'シングルス　選手名簿'!G21","v":0},{"$f":"'シングルス　選手名簿'!H21","v":0},{"$f":"'シングルス　選手名簿'!I21","v":0}]
[12020,{"$f":"'シングルス　選手名簿'!G22","v":0},{"$f":"'シングルス　選手名簿'!H22","v":0},{"$f":"'シングルス　選手名簿'!I22","v":0}]
[12021,{"$f":"'シングルス　選手名簿'!G23","v":0},{"$f":"'シングルス　選手名簿'!H23","v":0},{"$f":"'シングルス　選手名簿'!I23","v":0}]
[12022,{"$f":"'シングルス　選手名簿'!G24","v":0},{"$f":"'シングルス　選手名簿'!H24","v":0},{"$f":"'シングルス　選手名簿'!I24","v":0}]
[12023,{"$f":"'シングルス　選手名簿'!G25","v":0},{"$f":"'シングルス　選手名簿'!H25","v":0},{"$f":"'シングルス　選手名簿'!I25","v":0}]
[12024,{"$f":"'シングルス　選手名簿'!G26","v":0},{"$f":"'シングルス　選手名簿'!H26","v":0},{"$f":"'シングルス　選手名簿'!I26","v":0}]
[12025,{"$f":"'シングルス　選手名簿'!G27","v":0},{"$f":"'シングルス　選手名簿'!H27","v":0},{"$f":"'シングルス　選手名簿'!I27","v":0}]
[12026,{"$f":"'シングルス　選手名簿'!G28","v":0},{"$f":"'シングルス　選手名簿'!H28","v":0},{"$f":"'シングルス　選手名簿'!I28","v":0}]
[12027,{"$f":"'シングルス　選手名簿'!G29","v":0},{"$f":"'シングルス　選手名簿'!H29","v":0},{"$f":"'シングルス　選手名簿'!I29","v":0}]
[12028,{"$f":"'シングルス　選手名簿'!G30","v":0},{"$f":"'シングルス　選手名簿'!H30","v":0},{"$f":"'シングルス　選手名簿'!I30","v":0}]
[12029,{"$f":"'シングルス　選手名簿'!G31","v":0},{"$f":"'シングルス　選手名簿'!H31","v":0},{"$f":"'シングルス　選手名簿'!I31","v":0}]
[12030,{"$f":"'シングルス　選手名簿'!G32","v":0},{"$f":"'シングルス　選手名簿'!H32","v":0},{"$f":"'シングルス　選手名簿'!I32","v":0}]
[12031,{"$f":"'シングルス　選手名簿'!G33","v":0},{"$f":"'シングルス　選手名簿'!H33","v":0},{"$f":"'シングルス　選手名簿'!I33","v":0}]
[12032,{"$f":"'シングルス　選手名簿'!G34","v":0},{"$f":"'シングルス　選手名簿'!H34","v":0},{"$f":"'シングルス　選手名簿'!I34","v":0}]
[12033,{"$f":"'シングルス　選手名簿'!G35","v":0},{"$f":"'シングルス　選手名簿'!H35","v":0},{"$f":"'シングルス　選手名簿'!I35","v":0}]
[12034,{"$f":"'シングルス　選手名簿'!G36","v":0},{"$f":"'シングルス　選手名簿'!H36","v":0},{"$f":"'シングルス　選手名簿'!I36","v":0}]
[12035,{"$f":"'シングルス　選手名簿'!G37","v":0},{"$f":"'シングルス　選手名簿'!H37","v":0},{"$f":"'シングルス　選手名簿'!I37","v":0}]
[12036,{"$f":"'シングルス　選手名簿'!G38","v":0},{"$f":"'シングルス　選手名簿'!H38","v":0},{"$f":"'シングルス　選手名簿'!I38","v":0}]
[12037,{"$f":"'シングルス　選手名簿'!G39","v":0},{"$f":"'シングルス　選手名簿'!H39","v":0},{"$f":"'シングルス　選手名簿'!I39","v":0}]
[12038,{"$f":"'シングルス　選手名簿'!G40","v":0},{"$f":"'シングルス　選手名簿'!H40","v":0},{"$f":"'シングルス　選手名簿'!I40","v":0}]
[12039,{"$f":"'シングルス　選手名簿'!G41","v":0},{"$f":"'シングルス　選手名簿'!H41","v":0},{"$f":"'シングルス　選手名簿'!I41","v":0}]
[12040,{"$f":"'シングルス　選手名簿'!G42","v":0},{"$f":"'シングルス　選手名簿'!H42","v":0},{"$f":"'シングルス　選手名簿'!I42","v":0}]
[12041,{"$f":"'シングルス　選手名簿'!G43","v":0},{"$f":"'シングルス　選手名簿'!H43","v":0},{"$f":"'シングルス　選手名簿'!I43","v":0}]
[12042,{"$f":"'シングルス　選手名簿'!G44","v":0},{"$f":"'シングルス　選手名簿'!H44","v":0},{"$f":"'シングルス　選手名簿'!I44","v":0}]
[12043,{"$f":"'シングルス　選手名簿'!G45","v":0},{"$f":"'シングルス　選手名簿'!H45","v":0},{"$f":"'シングルス　選手名簿'!I45","v":0}]
[12044,{"$f":"'シングルス　選手名簿'!G46","v":0},{"$f":"'シングルス　選手名簿'!H46","v":0},{"$f":"'シングルス　選手名簿'!I46","v":0}]
[12045,{"$f":"'シングルス　選手名簿'!G47","v":0},{"$f":"'シングルス　選手名簿'!H47","v":0},{"$f":"'シングルス　選手名簿'!I47","v":0}]
[12046,{"$f":"'シングルス　選手名簿'!G48","v":0},{"$f":"'シングルス　選手名簿'!H48","v":0},{"$f":"'シングルス　選手名簿'!I48","v":0}]
[12047,{"$f":"'シングルス　選手名簿'!G49","v":0},{"$f":"'シングルス　選手名簿'!H49","v":0},{"$f":"'シングルス　選手名簿'!I49","v":0}]
[12048,{"$f":"'シングルス　選手名簿'!G50","v":0},{"$f":"'シングルス　選手名簿'!H50","v":0},{"$f":"'シングルス　選手名簿'!I50","v":0}]
[12049,{"$f":"'シングルス　選手名簿'!G51","v":0},{"$f":"'シングルス　選手名簿'!H51","v":0},{"$f":"'シングルス　選手名簿'!I51","v":0}]
[12050,{"$f":"'シングルス　選手名簿'!G52","v":0},{"$f":"'シングルス　選手名簿'!H52","v":0},{"$f":"'シングルス　選手名簿'!I52","v":0}]
[12051,{"$f":"'シングルス　選手名簿'!G53","v":0},{"$f":"'シングルス　選手名簿'!H53","v":0},{"$f":"'シングルス　選手名簿'!I53","v":0}]
[12052,{"$f":"'シングルス　選手名簿'!G54","v":0},{"$f":"'シングルス　選手名簿'!H54","v":0},{"$f":"'シングルス　選手名簿'!I54","v":0}]
[12053,{"$f":"'シングルス　選手名簿'!G55","v":0},{"$f":"'シングルス　選手名簿'!H55","v":0},{"$f":"'シングルス　選手名簿'!I55","v":0}]
[12054,{"$f":"'シングルス　選手名簿'!G56","v":0},{"$f":"'シングルス　選手名簿'!H56","v":0},{"$f":"'シングルス　選手名簿'!I56","v":0}]
[12055,{"$f":"'シングルス　選手名簿'!G57","v":0},{"$f":"'シングルス　選手名簿'!H57","v":0},{"$f":"'シングルス　選手名簿'!I57","v":0}]
[12056,{"$f":"'シングルス　選手名簿'!G58","v":0},{"$f":"'シングルス　選手名簿'!H58","v":0},{"$f":"'シングルス　選手名簿'!I58","v":0}]
[12057,{"$f":"'シングルス　選手名簿'!G59","v":0},{"$f":"'シングルス　選手名簿'!H59","v":0},{"$f":"'シングルス　選手名簿'!I59","v":0}]
[12058,{"$f":"'シングルス　選手名簿'!G60","v":0},{"$f":"'シングルス　選手名簿'!H60","v":0},{"$f":"'シングルス　選手名簿'!I60","v":0}]
[12059,{"$f":"'シングルス　選手名簿'!G61","v":0},{"$f":"'シングルス　選手名簿'!H61","v":0},{"$f":"'シングルス　選手名簿'!I61","v":0}]
[12060,{"$f":"'シングルス　選手名簿'!G62","v":0},{"$f":"'シングルス　選手名簿'!H62","v":0},{"$f":"'シングルス　選手名簿'!I62","v":0}]
[12061,{"$f":"'シングルス　選手名簿'!G63","v":0},{"$f":"'シングルス　選手名簿'!H63","v":0},{"$f":"'シングルス　選手名簿'!I63","v":0}]
[12062,{"$f":"'シングルス　選手名簿'!G64","v":0},{"$f":"'シングルス　選手名簿'!H64","v":0},{"$f":"'シングルス　選手名簿'!I64","v":0}]
[12063,{"$f":"'シングルス　選手名簿'!G65","v":0},{"$f":"'シングルス　選手名簿'!H65","v":0},{"$f":"'シングルス　選手名簿'!I65","v":0}]
[12064,{"$f":"'シングルス　選手名簿'!G66","v":0},{"$f":"'シングルス　選手名簿'!H66","v":0},{"$f":"'シングルス　選手名簿'!I66","v":0}]
[12065,{"$f":"'シングルス　選手名簿'!G67","v":0},{"$f":"'シングルス　選手名簿'!H67","v":0},{"$f":"'シングルス　選手名簿'!I67","v":0}]
[12066,{"$f":"'シングルス　選手名簿'!G68","v":0},{"$f":"'シングルス　選手名簿'!H68","v":0},{"$f":"'シングルス　選手名簿'!I68","v":0}]
[12067,{"$f":"'シングルス　選手名簿'!G69","v":0},{"$f":"'シングルス　選手名簿'!H69","v":0},{"$f":"'シングルス　選手名簿'!I69","v":0}]
[12068,{"$f":"'シングルス　選手名簿'!G70","v":0},{"$f":"'シングルス　選手名簿'!H70","v":0},{"$f":"'シングルス　選手名簿'!I70","v":0}]
[12069,{"$f":"'シングルス　選手名簿'!G71","v":0},{"$f":"'シングルス　選手名簿'!H71","v":0},{"$f":"'シングルス　選手名簿'!I71","v":0}]
[12070,{"$f":"'シングルス　選手名簿'!G72","v":0},{"$f":"'シングルス　選手名簿'!H72","v":0},{"$f":"'シングルス　選手名簿'!I72","v":0}]
[12071,{"$f":"'シングルス　選手名簿'!G73","v":0},{"$f":"'シングルス　選手名簿'!H73","v":0},{"$f":"'シングルス　選手名簿'!I73","v":0}]
[12072,{"$f":"'シングルス　選手名簿'!G74","v":0},{"$f":"'シングルス　選手名簿'!H74","v":0},{"$f":"'シングルス　選手名簿'!I74","v":0}]
[12073,{"$f":"'シングルス　選手名簿'!G75","v":0},{"$f":"'シングルス　選手名簿'!H75","v":0},{"$f":"'シングルス　選手名簿'!I75","v":0}]
[12074,{"$f":"'シングルス　選手名簿'!G76","v":0},{"$f":"'シングルス　選手名簿'!H76","v":0},{"$f":"'シングルス　選手名簿'!I76","v":0}]
[12075,{"$f":"'シングルス　選手名簿'!G77","v":0},{"$f":"'シングルス　選手名簿'!H77","v":0},{"$f":"'シングルス　選手名簿'!I77","v":0}]
[12076,{"$f":"'シングルス　選手名簿'!G78","v":0},{"$f":"'シングルス　選手名簿'!H78","v":0},{"$f":"'シングルス　選手名簿'!I78","v":0}]
[12077,{"$f":"'シングルス　選手名簿'!G79","v":0},{"$f":"'シングルス　選手名簿'!H79","v":0},{"$f":"'シングルス　選手名簿'!I79","v":0}]
[12078,{"$f":"'シングルス　選手名簿'!G80","v":0},{"$f":"'シングルス　選手名簿'!H80","v":0},{"$f":"'シングルス　選手名簿'!I80","v":0}]
[12079,{"$f":"'シングルス　選手名簿'!G81","v":0},{"$f":"'シングルス　選手名簿'!H81","v":0},{"$f":"'シングルス　選手名簿'!I81","v":0}]
[12080,{"$f":"'シングルス　選手名簿'!G82","v":0},{"$f":"'シングルス　選手名簿'!H82","v":0},{"$f":"'シングルス　選手名簿'!I82","v":0}]
[12081,{"$f":"'シングルス　選手名簿'!G83","v":0},{"$f":"'シングルス　選手名簿'!H83","v":0},{"$f":"'シングルス　選手名簿'!I83","v":0}]
[12082,{"$f":"'シングルス　選手名簿'!G84","v":0},{"$f":"'シングルス　選手名簿'!H84","v":0},{"$f":"'シングルス　選手名簿'!I84","v":0}]
[12083,{"$f":"'シングルス　選手名簿'!G85","v":0},{"$f":"'シングルス　選手名簿'!H85","v":0},{"$f":"'シングルス　選手名簿'!I85","v":0}]
[12084,{"$f":"'シングルス　選手名簿'!G86","v":0},{"$f":"'シングルス　選手名簿'!H86","v":0},{"$f":"'シングルス　選手名簿'!I86","v":0}]
[12085,{"$f":"'シングルス　選手名簿'!G87","v":0},{"$f":"'シングルス　選手名簿'!H87","v":0},{"$f":"'シングルス　選手名簿'!I87","v":0}]
[12086,{"$f":"'シングルス　選手名簿'!G88","v":0},{"$f":"'シングルス　選手名簿'!H88","v":0},{"$f":"'シングルス　選手名簿'!I88","v":0}]
[12087,{"$f":"'シングルス　選手名簿'!G89","v":0},{"$f":"'シングルス　選手名簿'!H89","v":0},{"$f":"'シングルス　選手名簿'!I89","v":0}]
[12088,{"$f":"'シングルス　選手名簿'!G90","v":0},{"$f":"'シングルス　選手名簿'!H90","v":0},{"$f":"'シングルス　選手名簿'!I90","v":0}]
[12089,{"$f":"'シングルス　選手名簿'!G91","v":0},{"$f":"'シングルス　選手名簿'!H91","v":0},{"$f":"'シングルス　選手名簿'!I91","v":0}]
[12090,{"$f":"'シングルス　選手名簿'!G92","v":0},{"$f":"'シングルス　選手名簿'!H92","v":0},{"$f":"'シングルス　選手名簿'!I92","v":0}]
[12091,{"$f":"'シングルス　選手名簿'!G93","v":0},{"$f":"'シングルス　選手名簿'!H93","v":0},{"$f":"'シングルス　選手名簿'!I93","v":0}]
[12092,{"$f":"'シングルス　選手名簿'!G94","v":0},{"$f":"'シングルス　選手名簿'!H94","v":0},{"$f":"'シングルス　選手名簿'!I94","v":0}]
[12093,{"$f":"'シングルス　選手名簿'!G95","v":0},{"$f":"'シングルス　選手名簿'!H95","v":0},{"$f":"'シングルス　選手名簿'!I95","v":0}]
[12094,{"$f":"'シングルス　選手名簿'!G96","v":0},{"$f":"'シングルス　選手名簿'!H96","v":0},{"$f":"'シングルス　選手名簿'!I96","v":0}]
[12095,{"$f":"'シングルス　選手名簿'!G97","v":0},{"$f":"'シングルス　選手名簿'!H97","v":0},{"$f":"'シングルス　選手名簿'!I97","v":0}]
[12096,{"$f":"'シングルス　選手名簿'!G98","v":0},{"$f":"'シングルス　選手名簿'!H98","v":0},{"$f":"'シングルス　選手名簿'!I98","v":0}]
[12097,{"$f":"'シングルス　選手名簿'!G99","v":0},{"$f":"'シングルス　選手名簿'!H99","v":0},{"$f":"'シングルス　選手名簿'!I99","v":0}]
[12098,{"$f":"'シングルス　選手名簿'!G100","v":0},{"$f":"'シングルス　選手名簿'!H100","v":0},{"$f":"'シングルス　選手名簿'!I100","v":0}]
[12099,{"$f":"'シングルス　選手名簿'!G101","v":0},{"$f":"'シングルス　選手名簿'!H101","v":0},{"$f":"'シングルス　選手名簿'!I101","v":0}]
[12100,{"$f":"'シングルス　選手名簿'!G102","v":0},{"$f":"'シングルス　選手名簿'!H102","v":0},{"$f":"'シングルス　選手名簿'!I102","v":0}]
[12101,{"$f":"'シングルス　選手名簿'!G103","v":0},{"$f":"'シングルス　選手名簿'!H103","v":0},{"$f":"'シングルス　選手名簿'!I103","v":0}]
[12102,{"$f":"'シングルス　選手名簿'!G104","v":0},{"$f":"'シングルス　選手名簿'!H104","v":0},{"$f":"'シングルス　選手名簿'!I104","v":0}]
[12103,{"$f":"'シングルス　選手名簿'!G105","v":0},{"$f":"'シングルス　選手名簿'!H105","v":0},{"$f":"'シングルス　選手名簿'!I105","v":0}]
[12104,{"$f":"'シングルス　選手名簿'!G106","v":0},{"$f":"'シングルス　選手名簿'!H106","v":0},{"$f":"'シングルス　選手名簿'!I106","v":0}]
[12105,{"$f":"'シングルス　選手名簿'!G107","v":0},{"$f":"'シングルス　選手名簿'!H107","v":0},{"$f":"'シングルス　選手名簿'!I107","v":0}]
[12106,{"$f":"'シングルス　選手名簿'!G108","v":0},{"$f":"'シングルス　選手名簿'!H108","v":0},{"$f":"'シングルス　選手名簿'!I108","v":0}]
[12107,{"$f":"'シングルス　選手名簿'!G109","v":0},{"$f":"'シングルス　選手名簿'!H109","v":0},{"$f":"'シングルス　選手名簿'!I109","v":0}]
[12108,{"$f":"'シングルス　選手名簿'!G110","v":0},{"$f":"'シングルス　選手名簿'!H110","v":0},{"$f":"'シングルス　選手名簿'!I110","v":0}]
[12109,{"$f":"'シングルス　選手名簿'!G111","v":0},{"$f":"'シングルス　選手名簿'!H111","v":0},{"$f":"'シングルス　選手名簿'!I111","v":0}]
[12110,{"$f":"'シングルス　選手名簿'!G112","v":0},{"$f":"'シングルス　選手名簿'!H112","v":0},{"$f":"'シングルス　選手名簿'!I112","v":0}]
[12111,{"$f":"'シングルス　選手名簿'!G113","v":0},{"$f":"'シングルス　選手名簿'!H113","v":0},{"$f":"'シングルス　選手名簿'!I113","v":0}]
[12112,{"$f":"'シングルス　選手名簿'!G114","v":0},{"$f":"'シングルス　選手名簿'!H114","v":0},{"$f":"'シングルス　選手名簿'!I114","v":0}]
[12113,{"$f":"'シングルス　選手名簿'!G115","v":0},{"$f":"'シングルス　選手名簿'!H115","v":0},{"$f":"'シングルス　選手名簿'!I115","v":0}]
[12114,{"$f":"'シングルス　選手名簿'!G116","v":0},{"$f":"'シングルス　選手名簿'!H116","v":0},{"$f":"'シングルス　選手名簿'!I116","v":0}]
[12115,{"$f":"'シングルス　選手名簿'!G117","v":0},{"$f":"'シングルス　選手名簿'!H117","v":0},{"$f":"'シングルス　選手名簿'!I117","v":0}]
[12116,{"$f":"'シングルス　選手名簿'!G118","v":0},{"$f":"'シングルス　選手名簿'!H118","v":0},{"$f":"'シングルス　選手名簿'!I118","v":0}]
[12117,{"$f":"'シングルス　選手名簿'!G119","v":0},{"$f":"'シングルス　選手名簿'!H119","v":0},{"$f":"'シングルス　選手名簿'!I119","v":0}]
[12118,{"$f":"'シングルス　選手名簿'!G120","v":0},{"$f":"'シングルス　選手名簿'!H120","v":0},{"$f":"'シングルス　選手名簿'!I120","v":0}]
[12119,{"$f":"'シングルス　選手名簿'!G121","v":0},{"$f":"'シングルス　選手名簿'!H121","v":0},{"$f":"'シングルス　選手名簿'!I121","v":0}]
[12120,{"$f":"'シングルス　選手名簿'!G122","v":0},{"$f":"'シングルス　選手名簿'!H122","v":0},{"$f":"'シングルス　選手名簿'!I122","v":0}]
[12121,{"$f":"'シングルス　選手名簿'!G123","v":0},{"$f":"'シングルス　選手名簿'!H123","v":0},{"$f":"'シングルス　選手名簿'!I123","v":0}]
[12122,{"$f":"'シングルス　選手名簿'!G124","v":0},{"$f":"'シングルス　選手名簿'!H124","v":0},{"$f":"'シングルス　選手名簿'!I124","v":0}]
[12123,{"$f":"'シングルス　選手名簿'!G125","v":0},{"$f":"'シングルス　選手名簿'!H125","v":0},{"$f":"'シングルス　選手名簿'!I125","v":0}]
[12124,{"$f":"'シングルス　選手名簿'!G126","v":0},{"$f":"'シングルス　選手名簿'!H126","v":0},{"$f":"'シングルス　選手名簿'!I126","v":0}]
[12125,{"$f":"'シングルス　選手名簿'!G127","v":0},{"$f":"'シングルス　選手名簿'!H127","v":0},{"$f":"'シングルス　選手名簿'!I127","v":0}]
[12126,{"$f":"'シングルス　選手名簿'!G128","v":0},{"$f":"'シングルス　選手名簿'!H128","v":0},{"$f":"'シングルス　選手名簿'!I128","v":0}]
[12127,{"$f":"'シングルス　選手名簿'!G129","v":0},{"$f":"'シングルス　選手名簿'!H129","v":0},{"$f":"'シングルス　選手名簿'!I129","v":0}]
[12128,{"$f":"'シングルス　選手名簿'!G130","v":0},{"$f":"'シングルス　選手名簿'!H130","v":0},{"$f":"'シングルス　選手名簿'!I130","v":0}]
[12129,{"$f":"'シングルス　選手名簿'!G131","v":0},{"$f":"'シングルス　選手名簿'!H131","v":0},{"$f":"'シングルス　選手名簿'!I131","v":0}]
[12130,{"$f":"'シングルス　選手名簿'!G132","v":0},{"$f":"'シングルス　選手名簿'!H132","v":0},{"$f":"'シングルス　選手名簿'!I132","v":0}]
[12131,{"$f":"'シングルス　選手名簿'!G133","v":0},{"$f":"'シングルス　選手名簿'!H133","v":0},{"$f":"'シングルス　選手名簿'!I133","v":0}]
[12132,{"$f":"'シングルス　選手名簿'!G134","v":0},{"$f":"'シングルス　選手名簿'!H134","v":0},{"$f":"'シングルス　選手名簿'!I134","v":0}]
[12133,{"$f":"'シングルス　選手名簿'!G135","v":0},{"$f":"'シングルス　選手名簿'!H135","v":0},{"$f":"'シングルス　選手名簿'!I135","v":0}]
[12134,{"$f":"'シングルス　選手名簿'!G136","v":0},{"$f":"'シングルス　選手名簿'!H136","v":0},{"$f":"'シングルス　選手名簿'!I136","v":0}]
[12135,{"$f":"'シングルス　選手名簿'!G137","v":0},{"$f":"'シングルス　選手名簿'!H137","v":0},{"$f":"'シングルス　選手名簿'!I137","v":0}]
[12136,{"$f":"'シングルス　選手名簿'!G138","v":0},{"$f":"'シングルス　選手名簿'!H138","v":0},{"$f":"'シングルス　選手名簿'!I138","v":0}]
[12137,{"$f":"'シングルス　選手名簿'!G139","v":0},{"$f":"'シングルス　選手名簿'!H139","v":0},{"$f":"'シングルス　選手名簿'!I139","v":0}]
[12138,{"$f":"'シングルス　選手名簿'!G140","v":0},{"$f":"'シングルス　選手名簿'!H140","v":0},{"$f":"'シングルス　選手名簿'!I140","v":0}]
[12139,{"$f":"'シングルス　選手名簿'!G141","v":0},{"$f":"'シングルス　選手名簿'!H141","v":0},{"$f":"'シングルス　選手名簿'!I141","v":0}]
[12140,{"$f":"'シングルス　選手名簿'!G142","v":0},{"$f":"'シングルス　選手名簿'!H142","v":0},{"$f":"'シングルス　選手名簿'!I142","v":0}]
[12141,{"$f":"'シングルス　選手名簿'!G143","v":0},{"$f":"'シングルス　選手名簿'!H143","v":0},{"$f":"'シングルス　選手名簿'!I143","v":0}]
[12142,{"$f":"'シングルス　選手名簿'!G144","v":0},{"$f":"'シングルス　選手名簿'!H144","v":0},{"$f":"'シングルス　選手名簿'!I144","v":0}]
[12143,{"$f":"'シングルス　選手名簿'!G145","v":0},{"$f":"'シングルス　選手名簿'!H145","v":0},{"$f":"'シングルス　選手名簿'!I145","v":0}]
[12144,{"$f":"'シングルス　選手名簿'!G146","v":0},{"$f":"'シングルス　選手名簿'!H146","v":0},{"$f":"'シングルス　選手名簿'!I146","v":0}]
[12145,{"$f":"'シングルス　選手名簿'!G147","v":0},{"$f":"'シングルス　選手名簿'!H147","v":0},{"$f":"'シングルス　選手名簿'!I147","v":0}]
[12146,{"$f":"'シングルス　選手名簿'!G148","v":0},{"$f":"'シングルス　選手名簿'!H148","v":0},{"$f":"'シングルス　選手名簿'!I148","v":0}]
[12147,{"$f":"'シングルス　選手名簿'!G149","v":0},{"$f":"'シングルス　選手名簿'!H149","v":0},{"$f":"'シングルス　選手名簿'!I149","v":0}]
[12148,{"$f":"'シングルス　選手名簿'!G150","v":0},{"$f":"'シングルス　選手名簿'!H150","v":0},{"$f":"'シングルス　選手名簿'!I150","v":0}]
[12149,{"$f":"'シングルス　選手名簿'!G151","v":0},{"$f":"'シングルス　選手名簿'!H151","v":0},{"$f":"'シングルス　選手名簿'!I151","v":0}]
[12150,{"$f":"'シングルス　選手名簿'!G152","v":0},{"$f":"'シングルス　選手名簿'!H152","v":0},{"$f":"'シングルス　選手名簿'!I152","v":0}]
[12151,{"$f":"'シングルス　選手名簿'!G153","v":0},{"$f":"'シングルス　選手名簿'!H153","v":0},{"$f":"'シングルス　選手名簿'!I153","v":0}]
[12152,{"$f":"'シングルス　選手名簿'!G154","v":0},{"$f":"'シングルス　選手名簿'!H154","v":0},{"$f":"'シングルス　選手名簿'!I154","v":0}]
[12153,{"$f":"'シングルス　選手名簿'!G155","v":0},{"$f":"'シングルス　選手名簿'!H155","v":0},{"$f":"'シングルス　選手名簿'!I155","v":0}]
[12154,{"$f":"'シングルス　選手名簿'!G156","v":0},{"$f":"'シングルス　選手名簿'!H156","v":0},{"$f":"'シングルス　選手名簿'!I156","v":0}]
[12155,{"$f":"'シングルス　選手名簿'!G157","v":0},{"$f":"'シングルス　選手名簿'!H157","v":0},{"$f":"'シングルス　選手名簿'!I157","v":0}]
[12156,{"$f":"'シングルス　選手名簿'!G158","v":0},{"$f":"'シングルス　選手名簿'!H158","v":0},{"$f":"'シングルス　選手名簿'!I158","v":0}]
[12157,{"$f":"'シングルス　選手名簿'!G159","v":0},{"$f":"'シングルス　選手名簿'!H159","v":0},{"$f":"'シングルス　選手名簿'!I159","v":0}]
[12158,{"$f":"'シングルス　選手名簿'!G160","v":0},{"$f":"'シングルス　選手名簿'!H160","v":0},{"$f":"'シングルス　選手名簿'!I160","v":0}]
[12159,{"$f":"'シングルス　選手名簿'!G161","v":0},{"$f":"'シングルス　選手名簿'!H161","v":0},{"$f":"'シングルス　選手名簿'!I161","v":0}]
[12160,{"$f":"'シングルス　選手名簿'!G162","v":0},{"$f":"'シングルス　選手名簿'!H162","v":0},{"$f":"'シングルス　選手名簿'!I162","v":0}]
[12161,{"$f":"'シングルス　選手名簿'!G163","v":0},{"$f":"'シングルス　選手名簿'!H163","v":0},{"$f":"'シングルス　選手名簿'!I163","v":0}]
[12162,{"$f":"'シングルス　選手名簿'!G164","v":0},{"$f":"'シングルス　選手名簿'!H164","v":0},{"$f":"'シングルス　選手名簿'!I164","v":0}]
[12163,{"$f":"'シングルス　選手名簿'!G165","v":0},{"$f":"'シングルス　選手名簿'!H165","v":0},{"$f":"'シングルス　選手名簿'!I165","v":0}]
[12164,{"$f":"'シングルス　選手名簿'!G166","v":0},{"$f":"'シングルス　選手名簿'!H166","v":0},{"$f":"'シングルス　選手名簿'!I166","v":0}]
[12165,{"$f":"'シングルス　選手名簿'!G167","v":0},{"$f":"'シングルス　選手名簿'!H167","v":0},{"$f":"'シングルス　選手名簿'!I167","v":0}]
[12166,{"$f":"'シングルス　選手名簿'!G168","v":0},{"$f":"'シングルス　選手名簿'!H168","v":0},{"$f":"'シングルス　選手名簿'!I168","v":0}]
[12167,{"$f":"'シングルス　選手名簿'!G169","v":0},{"$f":"'シングルス　選手名簿'!H169","v":0},{"$f":"'シングルス　選手名簿'!I169","v":0}]
[12168,{"$f":"'シングルス　選手名簿'!G170","v":0},{"$f":"'シングルス　選手名簿'!H170","v":0},{"$f":"'シングルス　選手名簿'!I170","v":0}]
[12169,{"$f":"'シングルス　選手名簿'!G171","v":0},{"$f":"'シングルス　選手名簿'!H171","v":0},{"$f":"'シングルス　選手名簿'!I171","v":0}]
[12170,{"$f":"'シングルス　選手名簿'!G172","v":0},{"$f":"'シングルス　選手名簿'!H172","v":0},{"$f":"'シングルス　選手名簿'!I172","v":0}]
[12171,{"$f":"'シングルス　選手名簿'!G173","v":0},{"$f":"'シングルス　選手名簿'!H173","v":0},{"$f":"'シングルス　選手名簿'!I173","v":0}]
[12172,{"$f":"'シングルス　選手名簿'!G174","v":0},{"$f":"'シングルス　選手名簿'!H174","v":0},{"$f":"'シングルス　選手名簿'!I174","v":0}]
[12173,{"$f":"'シングルス　選手名簿'!G175","v":0},{"$f":"'シングルス　選手名簿'!H175","v":0},{"$f":"'シングルス　選手名簿'!I175","v":0}]
[12174,{"$f":"'シングルス　選手名簿'!G176","v":0},{"$f":"'シングルス　選手名簿'!H176","v":0},{"$f":"'シングルス　選手名簿'!I176","v":0}]
[12175,{"$f":"'シングルス　選手名簿'!G177","v":0},{"$f":"'シングルス　選手名簿'!H177","v":0},{"$f":"'シングルス　選手名簿'!I177","v":0}]
[12176,{"$f":"'シングルス　選手名簿'!G178","v":0},{"$f":"'シングルス　選手名簿'!H178","v":0},{"$f":"'シングルス　選手名簿'!I178","v":0}]
[12177,{"$f":"'シングルス　選手名簿'!G179","v":0},{"$f":"'シングルス　選手名簿'!H179","v":0},{"$f":"'シングルス　選手名簿'!I179","v":0}]
[12178,{"$f":"'シングルス　選手名簿'!G180","v":0},{"$f":"'シングルス　選手名簿'!H180","v":0},{"$f":"'シングルス　選手名簿'!I180","v":0}]
[12179,{"$f":"'シングルス　選手名簿'!G181","v":0},{"$f":"'シングルス　選手名簿'!H181","v":0},{"$f":"'シングルス　選手名簿'!I181","v":0}]
[12180,{"$f":"'シングルス　選手名簿'!G182","v":0},{"$f":"'シングルス　選手名簿'!H182","v":0},{"$f":"'シングルス　選手名簿'!I182","v":0}]
[12181,{"$f":"'シングルス　選手名簿'!G183","v":0},{"$f":"'シングルス　選手名簿'!H183","v":0},{"$f":"'シングルス　選手名簿'!I183","v":0}]
[12182,{"$f":"'シングルス　選手名簿'!G184","v":0},{"$f":"'シングルス　選手名簿'!H184","v":0},{"$f":"'シングルス　選手名簿'!I184","v":0}]
[12183,{"$f":"'シングルス　選手名簿'!G185","v":0},{"$f":"'シングルス　選手名簿'!H185","v":0},{"$f":"'シングルス　選手名簿'!I185","v":0}]
[12184,{"$f":"'シングルス　選手名簿'!G186","v":0},{"$f":"'シングルス　選手名簿'!H186","v":0},{"$f":"'シングルス　選手名簿'!I186","v":0}]
[12185,{"$f":"'シングルス　選手名簿'!G187","v":0},{"$f":"'シングルス　選手名簿'!H187","v":0},{"$f":"'シングルス　選手名簿'!I187","v":0}]
[12186,{"$f":"'シングルス　選手名簿'!G188","v":0},{"$f":"'シングルス　選手名簿'!H188","v":0},{"$f":"'シングルス　選手名簿'!I188","v":0}]
[12187,{"$f":"'シングルス　選手名簿'!G189","v":0},{"$f":"'シングルス　選手名簿'!H189","v":0},{"$f":"'シングルス　選手名簿'!I189","v":0}]
[12188,{"$f":"'シングルス　選手名簿'!G190","v":0},{"$f":"'シングルス　選手名簿'!H190","v":0},{"$f":"'シングルス　選手名簿'!I190","v":0}]
[12189,{"$f":"'シングルス　選手名簿'!G191","v":0},{"$f":"'シングルス　選手名簿'!H191","v":0},{"$f":"'シングルス　選手名簿'!I191","v":0}]
[12190,{"$f":"'シングルス　選手名簿'!G192","v":0},{"$f":"'シングルス　選手名簿'!H192","v":0},{"$f":"'シングルス　選手名簿'!I192","v":0}]
[12191,{"$f":"'シングルス　選手名簿'!G193","v":0},{"$f":"'シングルス　選手名簿'!H193","v":0},{"$f":"'シングルス　選手名簿'!I193","v":0}]
[12192,{"$f":"'シングルス　選手名簿'!G194","v":0},{"$f":"'シングルス　選手名簿'!H194","v":0},{"$f":"'シングルス　選手名簿'!I194","v":0}]
[12193,{"$f":"'シングルス　選手名簿'!G195","v":0},{"$f":"'シングルス　選手名簿'!H195","v":0},{"$f":"'シングルス　選手名簿'!I195","v":0}]
[12194,{"$f":"'シングルス　選手名簿'!G196","v":0},{"$f":"'シングルス　選手名簿'!H196","v":0},{"$f":"'シングルス　選手名簿'!I196","v":0}]
[12195,{"$f":"'シングルス　選手名簿'!G197","v":0},{"$f":"'シングルス　選手名簿'!H197","v":0},{"$f":"'シングルス　選手名簿'!I197","v":0}]
[12196,{"$f":"'シングルス　選手名簿'!G198","v":0},{"$f":"'シングルス　選手名簿'!H198","v":0},{"$f":"'シングルス　選手名簿'!I198","v":0}]
[12197,{"$f":"'シングルス　選手名簿'!G199","v":0},{"$f":"'シングルス　選手名簿'!H199","v":0},{"$f":"'シングルス　選手名簿'!I199","v":0}]
[12198,{"$f":"'シングルス　選手名簿'!G200","v":0},{"$f":"'シングルス　選手名簿'!H200","v":0},{"$f":"'シングルス　選手名簿'!I200","v":0}]
[12199,{"$f":"'シングルス　選手名簿'!G201","v":0},{"$f":"'シングルス　選手名簿'!H201","v":0},{"$f":"'シングルス　選手名簿'!I201","v":0}]
[12200,{"$f":"'シングルス　選手名簿'!G202","v":0},{"$f":"'シングルス　選手名簿'!H202","v":0},{"$f":"'シングルス　選手名簿'!I202","v":0}]
[12201,{"$f":"'シングルス　選手名簿'!G203","v":0},{"$f":"'シングルス　選手名簿'!H203","v":0},{"$f":"'シングルス　選手名簿'!I203","v":0}]
[12202,{"$f":"'シングルス　選手名簿'!G204","v":0},{"$f":"'シングルス　選手名簿'!H204","v":0},{"$f":"'シングルス　選手名簿'!I204","v":0}]
[12203,{"$f":"'シングルス　選手名簿'!G205","v":0},{"$f":"'シングルス　選手名簿'!H205","v":0},{"$f":"'シングルス　選手名簿'!I205","v":0}]
[12204,{"$f":"'シングルス　選手名簿'!G206","v":0},{"$f":"'シングルス　選手名簿'!H206","v":0},{"$f":"'シングルス　選手名簿'!I206","v":0}]
[12205,{"$f":"'シングルス　選手名簿'!G207","v":0},{"$f":"'シングルス　選手名簿'!H207","v":0},{"$f":"'シングルス　選手名簿'!I207","v":0}]
[12206,{"$f":"'シングルス　選手名簿'!G208","v":0},{"$f":"'シングルス　選手名簿'!H208","v":0},{"$f":"'シングルス　選手名簿'!I208","v":0}]
[12207,{"$f":"'シングルス　選手名簿'!G209","v":0},{"$f":"'シングルス　選手名簿'!H209","v":0},{"$f":"'シングルス　選手名簿'!I209","v":0}]
[12208,{"$f":"'シングルス　選手名簿'!G210","v":0},{"$f":"'シングルス　選手名簿'!H210","v":0},{"$f":"'シングルス　選手名簿'!I210","v":0}]
[12209,{"$f":"'シングルス　選手名簿'!G211","v":0},{"$f":"'シングルス　選手名簿'!H211","v":0},{"$f":"'シングルス　選手名簿'!I211","v":0}]
[12210,{"$f":"'シングルス　選手名簿'!G212","v":0},{"$f":"'シングルス　選手名簿'!H212","v":0},{"$f":"'シングルス　選手名簿'!I212","v":0}]
[12211,{"$f":"'シングルス　選手名簿'!G213","v":0},{"$f":"'シングルス　選手名簿'!H213","v":0},{"$f":"'シングルス　選手名簿'!I213","v":0}]
[12212,{"$f":"'シングルス　選手名簿'!G214","v":0},{"$f":"'シングルス　選手名簿'!H214","v":0},{"$f":"'シングルス　選手名簿'!I214","v":0}]
[12213,{"$f":"'シングルス　選手名簿'!G215","v":0},{"$f":"'シングルス　選手名簿'!H215","v":0},{"$f":"'シングルス　選手名簿'!I215","v":0}]
[12214,{"$f":"'シングルス　選手名簿'!G216","v":0},{"$f":"'シングルス　選手名簿'!H216","v":0},{"$f":"'シングルス　選手名簿'!I216","v":0}]
[12215,{"$f":"'シングルス　選手名簿'!G217","v":0},{"$f":"'シングルス　選手名簿'!H217","v":0},{"$f":"'シングルス　選手名簿'!I217","v":0}]
[12216,{"$f":"'シングルス　選手名簿'!G218","v":0},{"$f":"'シングルス　選手名簿'!H218","v":0},{"$f":"'シングルス　選手名簿'!I218","v":0}]
[12217,{"$f":"'シングルス　選手名簿'!G219","v":0},{"$f":"'シングルス　選手名簿'!H219","v":0},{"$f":"'シングルス　選手名簿'!I219","v":0}]
[12218,{"$f":"'シングルス　選手名簿'!G220","v":0},{"$f":"'シングルス　選手名簿'!H220","v":0},{"$f":"'シングルス　選手名簿'!I220","v":0}]
[12219,{"$f":"'シングルス　選手名簿'!G221","v":0},{"$f":"'シングルス　選手名簿'!H221","v":0},{"$f":"'シングルス　選手名簿'!I221","v":0}]
[12220,{"$f":"'シングルス　選手名簿'!G222","v":0},{"$f":"'シングルス　選手名簿'!H222","v":0},{"$f":"'シングルス　選手名簿'!I222","v":0}]
[12221,{"$f":"'シングルス　選手名簿'!G223","v":0},{"$f":"'シングルス　選手名簿'!H223","v":0},{"$f":"'シングルス　選手名簿'!I223","v":0}]
[12222,{"$f":"'シングルス　選手名簿'!G224","v":0},{"$f":"'シングルス　選手名簿'!H224","v":0},{"$f":"'シングルス　選手名簿'!I224","v":0}]
[12223,{"$f":"'シングルス　選手名簿'!G225","v":0},{"$f":"'シングルス　選手名簿'!H225","v":0},{"$f":"'シングルス　選手名簿'!I225","v":0}]
[12224,{"$f":"'シングルス　選手名簿'!G226","v":0},{"$f":"'シングルス　選手名簿'!H226","v":0},{"$f":"'シングルス　選手名簿'!I226","v":0}]
[12225,{"$f":"'シングルス　選手名簿'!G227","v":0},{"$f":"'シングルス　選手名簿'!H227","v":0},{"$f":"'シングルス　選手名簿'!I227","v":0}]
[12226,{"$f":"'シングルス　選手名簿'!G228","v":0},{"$f":"'シングルス　選手名簿'!H228","v":0},{"$f":"'シングルス　選手名簿'!I228","v":0}]
[12227,{"$f":"'シングルス　選手名簿'!G229","v":0},{"$f":"'シングルス　選手名簿'!H229","v":0},{"$f":"'シングルス　選手名簿'!I229","v":0}]
[12228,{"$f":"'シングルス　選手名簿'!G230","v":0},{"$f":"'シングルス　選手名簿'!H230","v":0},{"$f":"'シングルス　選手名簿'!I230","v":0}]
[12229,{"$f":"'シングルス　選手名簿'!G231","v":0},{"$f":"'シングルス　選手名簿'!H231","v":0},{"$f":"'シングルス　選手名簿'!I231","v":0}]
[12230,{"$f":"'シングルス　選手名簿'!G232","v":0},{"$f":"'シングルス　選手名簿'!H232","v":0},{"$f":"'シングルス　選手名簿'!I232","v":0}]
[12231,{"$f":"'シングルス　選手名簿'!G233","v":0},{"$f":"'シングルス　選手名簿'!H233","v":0},{"$f":"'シングルス　選手名簿'!I233","v":0}]
[12232,{"$f":"'シングルス　選手名簿'!G234","v":0},{"$f":"'シングルス　選手名簿'!H234","v":0},{"$f":"'シングルス　選手名簿'!I234","v":0}]
[12233,{"$f":"'シングルス　選手名簿'!G235","v":0},{"$f":"'シングルス　選手名簿'!H235","v":0},{"$f":"'シングルス　選手名簿'!I235","v":0}]
[12234,{"$f":"'シングルス　選手名簿'!G236","v":0},{"$f":"'シングルス　選手名簿'!H236","v":0},{"$f":"'シングルス　選手名簿'!I236","v":0}]
[12235,{"$f":"'シングルス　選手名簿'!G237","v":0},{"$f":"'シングルス　選手名簿'!H237","v":0},{"$f":"'シングルス　選手名簿'!I237","v":0}]
[12236,{"$f":"'シングルス　選手名簿'!G238","v":0},{"$f":"'シングルス　選手名簿'!H238","v":0},{"$f":"'シングルス　選手名簿'!I238","v":0}]
[12237,{"$f":"'シングルス　選手名簿'!G239","v":0},{"$f":"'シングルス　選手名簿'!H239","v":0},{"$f":"'シングルス　選手名簿'!I239","v":0}]
[12238,{"$f":"'シングルス　選手名簿'!G240","v":0},{"$f":"'シングルス　選手名簿'!H240","v":0},{"$f":"'シングルス　選手名簿'!I240","v":0}]
[12239,{"$f":"'シングルス　選手名簿'!G241","v":0},{"$f":"'シングルス　選手名簿'!H241","v":0},{"$f":"'シングルス　選手名簿'!I241","v":0}]
[12240,{"$f":"'シングルス　選手名簿'!G242","v":0},{"$f":"'シングルス　選手名簿'!H242","v":0},{"$f":"'シングルス　選手名簿'!I242","v":0}]
[12241,{"$f":"'シングルス　選手名簿'!G243","v":0},{"$f":"'シングルス　選手名簿'!H243","v":0},{"$f":"'シングルス　選手名簿'!I243","v":0}]
[12242,{"$f":"'シングルス　選手名簿'!G244","v":0},{"$f":"'シングルス　選手名簿'!H244","v":0},{"$f":"'シングルス　選手名簿'!I244","v":0}]
[12243,{"$f":"'シングルス　選手名簿'!G245","v":0},{"$f":"'シングルス　選手名簿'!H245","v":0},{"$f":"'シングルス　選手名簿'!I245","v":0}]
[12244,{"$f":"'シングルス　選手名簿'!G246","v":0},{"$f":"'シングルス　選手名簿'!H246","v":0},{"$f":"'シングルス　選手名簿'!I246","v":0}]
[12245,{"$f":"'シングルス　選手名簿'!G247","v":0},{"$f":"'シングルス　選手名簿'!H247","v":0},{"$f":"'シングルス　選手名簿'!I247","v":0}]
[12246,{"$f":"'シングルス　選手名簿'!G248","v":0},{"$f":"'シングルス　選手名簿'!H248","v":0},{"$f":"'シングルス　選手名簿'!I248","v":0}]
[12247,{"$f":"'シングルス　選手名簿'!G249","v":0},{"$f":"'シングルス　選手名簿'!H249","v":0},{"$f":"'シングルス　選手名簿'!I249","v":0}]
[12248,{"$f":"'シングルス　選手名簿'!G250","v":0},{"$f":"'シングルス　選手名簿'!H250","v":0},{"$f":"'シングルス　選手名簿'!I250","v":0}]
[12249,{"$f":"'シングルス　選手名簿'!G251","v":0},{"$f":"'シングルス　選手名簿'!H251","v":0},{"$f":"'シングルス　選手名簿'!I251","v":0}]
[12250,{"$f":"'シングルス　選手名簿'!G252","v":0},{"$f":"'シングルス　選手名簿'!H252","v":0},{"$f":"'シングルス　選手名簿'!I252","v":0}]
[12251,{"$f":"'シングルス　選手名簿'!G253","v":0},{"$f":"'シングルス　選手名簿'!H253","v":0},{"$f":"'シングルス　選手名簿'!I253","v":0}]
[12252,{"$f":"'シングルス　選手名簿'!G254","v":0},{"$f":"'シングルス　選手名簿'!H254","v":0},{"$f":"'シングルス　選手名簿'!I254","v":0}]
[12253,{"$f":"'シングルス　選手名簿'!G255","v":0},{"$f":"'シングルス　選手名簿'!H255","v":0},{"$f":"'シングルス　選手名簿'!I255","v":0}]
[12254,{"$f":"'シングルス　選手名簿'!G256","v":0},{"$f":"'シングルス　選手名簿'!H256","v":0},{"$f":"'シングルス　選手名簿'!I256","v":0}]
[12255,{"$f":"'シングルス　選手名簿'!G257","v":0},{"$f":"'シングルス　選手名簿'!H257","v":0},{"$f":"'シングルス　選手名簿'!I257","v":0}]
[12256,{"$f":"'シングルス　選手名簿'!G258","v":0},{"$f":"'シングルス　選手名簿'!H258","v":0},{"$f":"'シングルス　選手名簿'!I258","v":0}]
[12257,{"$f":"'シングルス　選手名簿'!G259","v":0},{"$f":"'シングルス　選手名簿'!H259","v":0},{"$f":"'シングルス　選手名簿'!I259","v":0}]
[12258,{"$f":"'シングルス　選手名簿'!G260","v":0},{"$f":"'シングルス　選手名簿'!H260","v":0},{"$f":"'シングルス　選手名簿'!I260","v":0}]
[12259,{"$f":"'シングルス　選手名簿'!G261","v":0},{"$f":"'シングルス　選手名簿'!H261","v":0},{"$f":"'シングルス　選手名簿'!I261","v":0}]
[12260,{"$f":"'シングルス　選手名簿'!G262","v":0},{"$f":"'シングルス　選手名簿'!H262","v":0},{"$f":"'シングルス　選手名簿'!I262","v":0}]
[12261,{"$f":"'シングルス　選手名簿'!G263","v":0},{"$f":"'シングルス　選手名簿'!H263","v":0},{"$f":"'シングルス　選手名簿'!I263","v":0}]
[12262,{"$f":"'シングルス　選手名簿'!G264","v":0},{"$f":"'シングルス　選手名簿'!H264","v":0},{"$f":"'シングルス　選手名簿'!I264","v":0}]
[12263,{"$f":"'シングルス　選手名簿'!G265","v":0},{"$f":"'シングルス　選手名簿'!H265","v":0},{"$f":"'シングルス　選手名簿'!I265","v":0}]
[12264,{"$f":"'シングルス　選手名簿'!G266","v":0},{"$f":"'シングルス　選手名簿'!H266","v":0},{"$f":"'シングルス　選手名簿'!I266","v":0}]
[12265,{"$f":"'シングルス　選手名簿'!G267","v":0},{"$f":"'シングルス　選手名簿'!H267","v":0},{"$f":"'シングルス　選手名簿'!I267","v":0}]
[12266,{"$f":"'シングルス　選手名簿'!G268","v":0},{"$f":"'シングルス　選手名簿'!H268","v":0},{"$f":"'シングルス　選手名簿'!I268","v":0}]
[12267,{"$f":"'シングルス　選手名簿'!G269","v":0},{"$f":"'シングルス　選手名簿'!H269","v":0},{"$f":"'シングルス　選手名簿'!I269","v":0}]
[12268,{"$f":"'シングルス　選手名簿'!G270","v":0},{"$f":"'シングルス　選手名簿'!H270","v":0},{"$f":"'シングルス　選手名簿'!I270","v":0}]
[12269,{"$f":"'シングルス　選手名簿'!G271","v":0},{"$f":"'シングルス　選手名簿'!H271","v":0},{"$f":"'シングルス　選手名簿'!I271","v":0}]
[12270,{"$f":"'シングルス　選手名簿'!G272","v":0},{"$f":"'シングルス　選手名簿'!H272","v":0},{"$f":"'シングルス　選手名簿'!I272","v":0}]
[12271,{"$f":"'シングルス　選手名簿'!G273","v":0},{"$f":"'シングルス　選手名簿'!H273","v":0},{"$f":"'シングルス　選手名簿'!I273","v":0}]
[12272,{"$f":"'シングルス　選手名簿'!G274","v":0},{"$f":"'シングルス　選手名簿'!H274","v":0},{"$f":"'シングルス　選手名簿'!I274","v":0}]
[12273,{"$f":"'シングルス　選手名簿'!G275","v":0},{"$f":"'シングルス　選手名簿'!H275","v":0},{"$f":"'シングルス　選手名簿'!I275","v":0}]
[12274,{"$f":"'シングルス　選手名簿'!G276","v":0},{"$f":"'シングルス　選手名簿'!H276","v":0},{"$f":"'シングルス　選手名簿'!I276","v":0}]
[12275,{"$f":"'シングルス　選手名簿'!G277","v":0},{"$f":"'シングルス　選手名簿'!H277","v":0},{"$f":"'シングルス　選手名簿'!I277","v":0}]
[12276,{"$f":"'シングルス　選手名簿'!G278","v":0},{"$f":"'シングルス　選手名簿'!H278","v":0},{"$f":"'シングルス　選手名簿'!I278","v":0}]
[12277,{"$f":"'シングルス　選手名簿'!G279","v":0},{"$f":"'シングルス　選手名簿'!H279","v":0},{"$f":"'シングルス　選手名簿'!I279","v":0}]
[12278,{"$f":"'シングルス　選手名簿'!G280","v":0},{"$f":"'シングルス　選手名簿'!H280","v":0},{"$f":"'シングルス　選手名簿'!I280","v":0}]
[12279,{"$f":"'シングルス　選手名簿'!G281","v":0},{"$f":"'シングルス　選手名簿'!H281","v":0},{"$f":"'シングルス　選手名簿'!I281","v":0}]
[12280,{"$f":"'シングルス　選手名簿'!G282","v":0},{"$f":"'シングルス　選手名簿'!H282","v":0},{"$f":"'シングルス　選手名簿'!I282","v":0}]
[12281,{"$f":"'シングルス　選手名簿'!G283","v":0},{"$f":"'シングルス　選手名簿'!H283","v":0},{"$f":"'シングルス　選手名簿'!I283","v":0}]
[12282,{"$f":"'シングルス　選手名簿'!G284","v":0},{"$f":"'シングルス　選手名簿'!H284","v":0},{"$f":"'シングルス　選手名簿'!I284","v":0}]
[12283,{"$f":"'シングルス　選手名簿'!G285","v":0},{"$f":"'シングルス　選手名簿'!H285","v":0},{"$f":"'シングルス　選手名簿'!I285","v":0}]
[12284,{"$f":"'シングルス　選手名簿'!G286","v":0},{"$f":"'シングルス　選手名簿'!H286","v":0},{"$f":"'シングルス　選手名簿'!I286","v":0}]
[12285,{"$f":"'シングルス　選手名簿'!G287","v":0},{"$f":"'シングルス　選手名簿'!H287","v":0},{"$f":"'シングルス　選手名簿'!I287","v":0}]
[12286,{"$f":"'シングルス　選手名簿'!G288","v":0},{"$f":"'シングルス　選手名簿'!H288","v":0},{"$f":"'シングルス　選手名簿'!I288","v":0}]
[12287,{"$f":"'シングルス　選手名簿'!G289","v":0},{"$f":"'シングルス　選手名簿'!H289","v":0},{"$f":"'シングルス　選手名簿'!I289","v":0}]
[12288,{"$f":"'シングルス　選手名簿'!G290","v":0},{"$f":"'シングルス　選手名簿'!H290","v":0},{"$f":"'シングルス　選手名簿'!I290","v":0}]
[12289,{"$f":"'シングルス　選手名簿'!G291","v":0},{"$f":"'シングルス　選手名簿'!H291","v":0},{"$f":"'シングルス　選手名簿'!I291","v":0}]
[12290,{"$f":"'シングルス　選手名簿'!G292","v":0},{"$f":"'シングルス　選手名簿'!H292","v":0},{"$f":"'シングルス　選手名簿'!I292","v":0}]
[12291,{"$f":"'シングルス　選手名簿'!G293","v":0},{"$f":"'シングルス　選手名簿'!H293","v":0},{"$f":"'シングルス　選手名簿'!I293","v":0}]
[12292,{"$f":"'シングルス　選手名簿'!G294","v":0},{"$f":"'シングルス　選手名簿'!H294","v":0},{"$f":"'シングルス　選手名簿'!I294","v":0}]
[12293,{"$f":"'シングルス　選手名簿'!G295","v":0},{"$f":"'シングルス　選手名簿'!H295","v":0},{"$f":"'シングルス　選手名簿'!I295","v":0}]
[12294,{"$f":"'シングルス　選手名簿'!G296","v":0},{"$f":"'シングルス　選手名簿'!H296","v":0},{"$f":"'シングルス　選手名簿'!I296","v":0}]
[12295,{"$f":"'シングルス　選手名簿'!G297","v":0},{"$f":"'シングルス　選手名簿'!H297","v":0},{"$f":"'シングルス　選手名簿'!I297","v":0}]
[12296,{"$f":"'シングルス　選手名簿'!G298","v":0},{"$f":"'シングルス　選手名簿'!H298","v":0},{"$f":"'シングルス　選手名簿'!I298","v":0}]
[12297,{"$f":"'シングルス　選手名簿'!G299","v":0},{"$f":"'シングルス　選手名簿'!H299","v":0},{"$f":"'シングルス　選手名簿'!I299","v":0}]
[12298,{"$f":"'シングルス　選手名簿'!G300","v":0},{"$f":"'シングルス　選手名簿'!H300","v":0},{"$f":"'シングルス　選手名簿'!I300","v":0}]
[12299,{"$f":"'シングルス　選手名簿'!G301","v":0},{"$f":"'シングルス　選手名簿'!H301","v":0},{"$f":"'シングルス　選手名簿'!I301","v":0}]
[12300,{"$f":"'シングルス　選手名簿'!G302","v":0},{"$f":"'シングルス　選手名簿'!H302","v":0},{"$f":"'シングルス　選手名簿'!I302","v":0}]
[12301,{"$f":"'シングルス　選手名簿'!G303","v":0},{"$f":"'シングルス　選手名簿'!H303","v":0},{"$f":"'シングルス　選手名簿'!I303","v":0}]
[12302,{"$f":"'シングルス　選手名簿'!G304","v":0},{"$f":"'シングルス　選手名簿'!H304","v":0},{"$f":"'シングルス　選手名簿'!I304","v":0}]
[12303,{"$f":"'シングルス　選手名簿'!G305","v":0},{"$f":"'シングルス　選手名簿'!H305","v":0},{"$f":"'シングルス　選手名簿'!I305","v":0}]
[12304,{"$f":"'シングルス　選手名簿'!G306","v":0},{"$f":"'シングルス　選手名簿'!H306","v":0},{"$f":"'シングルス　選手名簿'!I306","v":0}]
[12305,{"$f":"'シングルス　選手名簿'!G307","v":0},{"$f":"'シングルス　選手名簿'!H307","v":0},{"$f":"'シングルス　選手名簿'!I307","v":0}]
[12306,{"$f":"'シングルス　選手名簿'!G308","v":0},{"$f":"'シングルス　選手名簿'!H308","v":0},{"$f":"'シングルス　選手名簿'!I308","v":0}]
[12307,{"$f":"'シングルス　選手名簿'!G309","v":0},{"$f":"'シングルス　選手名簿'!H309","v":0},{"$f":"'シングルス　選手名簿'!I309","v":0}]
[12308,{"$f":"'シングルス　選手名簿'!G310","v":0},{"$f":"'シングルス　選手名簿'!H310","v":0},{"$f":"'シングルス　選手名簿'!I310","v":0}]
[12309,{"$f":"'シングルス　選手名簿'!G311","v":0},{"$f":"'シングルス　選手名簿'!H311","v":0},{"$f":"'シングルス　選手名簿'!I311","v":0}]
[12310,{"$f":"'シングルス　選手名簿'!G312","v":0},{"$f":"'シングルス　選手名簿'!H312","v":0},{"$f":"'シングルス　選手名簿'!I312","v":0}]
[12311,{"$f":"'シングルス　選手名簿'!G313","v":0},{"$f":"'シングルス　選手名簿'!H313","v":0},{"$f":"'シングルス　選手名簿'!I313","v":0}]
[12312,{"$f":"'シングルス　選手名簿'!G314","v":0},{"$f":"'シングルス　選手名簿'!H314","v":0},{"$f":"'シングルス　選手名簿'!I314","v":0}]
[12313,{"$f":"'シングルス　選手名簿'!G315","v":0},{"$f":"'シングルス　選手名簿'!H315","v":0},{"$f":"'シングルス　選手名簿'!I315","v":0}]
[12314,{"$f":"'シングルス　選手名簿'!G316","v":0},{"$f":"'シングルス　選手名簿'!H316","v":0},{"$f":"'シングルス　選手名簿'!I316","v":0}]
[12315,{"$f":"'シングルス　選手名簿'!G317","v":0},{"$f":"'シングルス　選手名簿'!H317","v":0},{"$f":"'シングルス　選手名簿'!I317","v":0}]
[12316,{"$f":"'シングルス　選手名簿'!G318","v":0},{"$f":"'シングルス　選手名簿'!H318","v":0},{"$f":"'シングルス　選手名簿'!I318","v":0}]
[12317,{"$f":"'シングルス　選手名簿'!G319","v":0},{"$f":"'シングルス　選手名簿'!H319","v":0},{"$f":"'シングルス　選手名簿'!I319","v":0}]
[12318,{"$f":"'シングルス　選手名簿'!G320","v":0},{"$f":"'シングルス　選手名簿'!H320","v":0},{"$f":"'シングルス　選手名簿'!I320","v":0}]
[12319,{"$f":"'シングルス　選手名簿'!G321","v":0},{"$f":"'シングルス　選手名簿'!H321","v":0},{"$f":"'シングルス　選手名簿'!I321","v":0}]
[12320,{"$f":"'シングルス　選手名簿'!G322","v":0},{"$f":"'シングルス　選手名簿'!H322","v":0},{"$f":"'シングルス　選手名簿'!I322","v":0}]
[12321,{"$f":"'シングルス　選手名簿'!G323","v":0},{"$f":"'シングルス　選手名簿'!H323","v":0},{"$f":"'シングルス　選手名簿'!I323","v":0}]
[12322,{"$f":"'シングルス　選手名簿'!G324","v":0},{"$f":"'シングルス　選手名簿'!H324","v":0},{"$f":"'シングルス　選手名簿'!I324","v":0}]
[12323,{"$f":"'シングルス　選手名簿'!G325","v":0},{"$f":"'シングルス　選手名簿'!H325","v":0},{"$f":"'シングルス　選手名簿'!I325","v":0}]
[12324,{"$f":"'シングルス　選手名簿'!G326","v":0},{"$f":"'シングルス　選手名簿'!H326","v":0},{"$f":"'シングルス　選手名簿'!I326","v":0}]
[12325,{"$f":"'シングルス　選手名簿'!G327","v":0},{"$f":"'シングルス　選手名簿'!H327","v":0},{"$f":"'シングルス　選手名簿'!I327","v":0}]
[12326,{"$f":"'シングルス　選手名簿'!G328","v":0},{"$f":"'シングルス　選手名簿'!H328","v":0},{"$f":"'シングルス　選手名簿'!I328","v":0}]
[12327,{"$f":"'シングルス　選手名簿'!G329","v":0},{"$f":"'シングルス　選手名簿'!H329","v":0},{"$f":"'シングルス　選手名簿'!I329","v":0}]
[12328,{"$f":"'シングルス　選手名簿'!G330","v":0},{"$f":"'シングルス　選手名簿'!H330","v":0},{"$f":"'シングルス　選手名簿'!I330","v":0}]
[12329,{"$f":"'シングルス　選手名簿'!G331","v":0},{"$f":"'シングルス　選手名簿'!H331","v":0},{"$f":"'シングルス　選手名簿'!I331","v":0}]
[12330,{"$f":"'シングルス　選手名簿'!G332","v":0},{"$f":"'シングルス　選手名簿'!H332","v":0},{"$f":"'シングルス　選手名簿'!I332","v":0}]
[12331,{"$f":"'シングルス　選手名簿'!G333","v":0},{"$f":"'シングルス　選手名簿'!H333","v":0},{"$f":"'シングルス　選手名簿'!I333","v":0}]
[12332,{"$f":"'シングルス　選手名簿'!G334","v":0},{"$f":"'シングルス　選手名簿'!H334","v":0},{"$f":"'シングルス　選手名簿'!I334","v":0}]
[12333,{"$f":"'シングルス　選手名簿'!G335","v":0},{"$f":"'シングルス　選手名簿'!H335","v":0},{"$f":"'シングルス　選手名簿'!I335","v":0}]
[12334,{"$f":"'シングルス　選手名簿'!G336","v":0},{"$f":"'シングルス　選手名簿'!H336","v":0},{"$f":"'シングルス　選手名簿'!I336","v":0}]
[12335,{"$f":"'シングルス　選手名簿'!G337","v":0},{"$f":"'シングルス　選手名簿'!H337","v":0},{"$f":"'シングルス　選手名簿'!I337","v":0}]
[12336,{"$f":"'シングルス　選手名簿'!G338","v":0},{"$f":"'シングルス　選手名簿'!H338","v":0},{"$f":"'シングルス　選手名簿'!I338","v":0}]
[12337,{"$f":"'シングルス　選手名簿'!G339","v":0},{"$f":"'シングルス　選手名簿'!H339","v":0},{"$f":"'シングルス　選手名簿'!I339","v":0}]
[12338,{"$f":"'シングルス　選手名簿'!G340","v":0},{"$f":"'シングルス　選手名簿'!H340","v":0},{"$f":"'シングルス　選手名簿'!I340","v":0}]
[12339,{"$f":"'シングルス　選手名簿'!G341","v":0},{"$f":"'シングルス　選手名簿'!H341","v":0},{"$f":"'シングルス　選手名簿'!I341","v":0}]
[12340,{"$f":"'シングルス　選手名簿'!G342","v":0},{"$f":"'シングルス　選手名簿'!H342","v":0},{"$f":"'シングルス　選手名簿'!I342","v":0}]
[12341,{"$f":"'シングルス　選手名簿'!G343","v":0},{"$f":"'シングルス　選手名簿'!H343","v":0},{"$f":"'シングルス　選手名簿'!I343","v":0}]
[12342,{"$f":"'シングルス　選手名簿'!G344","v":0},{"$f":"'シングルス　選手名簿'!H344","v":0},{"$f":"'シングルス　選手名簿'!I344","v":0}]
[12343,{"$f":"'シングルス　選手名簿'!G345","v":0},{"$f":"'シングルス　選手名簿'!H345","v":0},{"$f":"'シングルス　選手名簿'!I345","v":0}]
[12344,{"$f":"'シングルス　選手名簿'!G346","v":0},{"$f":"'シングルス　選手名簿'!H346","v":0},{"$f":"'シングルス　選手名簿'!I346","v":0}]
[12345,{"$f":"'シングルス　選手名簿'!G347","v":0},{"$f":"'シングルス　選手名簿'!H347","v":0},{"$f":"'シングルス　選手名簿'!I347","v":0}]
[12346,{"$f":"'シングルス　選手名簿'!G348","v":0},{"$f":"'シングルス　選手名簿'!H348","v":0},{"$f":"'シングルス　選手名簿'!I348","v":0}]
[12347,{"$f":"'シングルス　選手名簿'!G349","v":0},{"$f":"'シングルス　選手名簿'!H349","v":0},{"$f":"'シングルス　選手名簿'!I349","v":0}]
[12348,{"$f":"'シングルス　選手名簿'!G350","v":0},{"$f":"'シングルス　選手名簿'!H350","v":0},{"$f":"'シングルス　選手名簿'!I350","v":0}]
[12349,{"$f":"'シングルス　選手名簿'!G351","v":0},{"$f":"'シングルス　選手名簿'!H351","v":0},{"$f":"'シングルス　選手名簿'!I351","v":0}]
[12350,{"$f":"'シングルス　選手名簿'!G352","v":0},{"$f":"'シングルス　選手名簿'!H352","v":0},{"$f":"'シングルス　選手名簿'!I352","v":0}]
[12351,{"$f":"'シングルス　選手名簿'!G353","v":0},{"$f":"'シングルス　選手名簿'!H353","v":0},{"$f":"'シングルス　選手名簿'!I353","v":0}]
[12352,{"$f":"'シングルス　選手名簿'!G354","v":0},{"$f":"'シングルス　選手名簿'!H354","v":0},{"$f":"'シングルス　選手名簿'!I354","v":0}]
[12353,{"$f":"'シングルス　選手名簿'!G355","v":0},{"$f":"'シングルス　選手名簿'!H355","v":0},{"$f":"'シングルス　選手名簿'!I355","v":0}]
[12354,{"$f":"'シングルス　選手名簿'!G356","v":0},{"$f":"'シングルス　選手名簿'!H356","v":0},{"$f":"'シングルス　選手名簿'!I356","v":0}]
[12355,{"$f":"'シングルス　選手名簿'!G357","v":0},{"$f":"'シングルス　選手名簿'!H357","v":0},{"$f":"'シングルス　選手名簿'!I357","v":0}]
[12356,{"$f":"'シングルス　選手名簿'!G358","v":0},{"$f":"'シングルス　選手名簿'!H358","v":0},{"$f":"'シングルス　選手名簿'!I358","v":0}]
[12357,{"$f":"'シングルス　選手名簿'!G359","v":0},{"$f":"'シングルス　選手名簿'!H359","v":0},{"$f":"'シングルス　選手名簿'!I359","v":0}]
[12358,{"$f":"'シングルス　選手名簿'!G360","v":0},{"$f":"'シングルス　選手名簿'!H360","v":0},{"$f":"'シングルス　選手名簿'!I360","v":0}]
[12359,{"$f":"'シングルス　選手名簿'!G361","v":0},{"$f":"'シングルス　選手名簿'!H361","v":0},{"$f":"'シングルス　選手名簿'!I361","v":0}]
[12360,{"$f":"'シングルス　選手名簿'!G362","v":0},{"$f":"'シングルス　選手名簿'!H362","v":0},{"$f":"'シングルス　選手名簿'!I362","v":0}]
[12361,{"$f":"'シングルス　選手名簿'!G363","v":0},{"$f":"'シングルス　選手名簿'!H363","v":0},{"$f":"'シングルス　選手名簿'!I363","v":0}]
[12362,{"$f":"'シングルス　選手名簿'!G364","v":0},{"$f":"'シングルス　選手名簿'!H364","v":0},{"$f":"'シングルス　選手名簿'!I364","v":0}]
[12363,{"$f":"'シングルス　選手名簿'!G365","v":0},{"$f":"'シングルス　選手名簿'!H365","v":0},{"$f":"'シングルス　選手名簿'!I365","v":0}]
[12364,{"$f":"'シングルス　選手名簿'!G366","v":0},{"$f":"'シングルス　選手名簿'!H366","v":0},{"$f":"'シングルス　選手名簿'!I366","v":0}]
[12365,{"$f":"'シングルス　選手名簿'!G367","v":0},{"$f":"'シングルス　選手名簿'!H367","v":0},{"$f":"'シングルス　選手名簿'!I367","v":0}]
[12366,{"$f":"'シングルス　選手名簿'!G368","v":0},{"$f":"'シングルス　選手名簿'!H368","v":0},{"$f":"'シングルス　選手名簿'!I368","v":0}]
[12367,{"$f":"'シングルス　選手名簿'!G369","v":0},{"$f":"'シングルス　選手名簿'!H369","v":0},{"$f":"'シングルス　選手名簿'!I369","v":0}]
[12368,{"$f":"'シングルス　選手名簿'!G370","v":0},{"$f":"'シングルス　選手名簿'!H370","v":0},{"$f":"'シングルス　選手名簿'!I370","v":0}]
[12369,{"$f":"'シングルス　選手名簿'!G371","v":0},{"$f":"'シングルス　選手名簿'!H371","v":0},{"$f":"'シングルス　選手名簿'!I371","v":0}]
[12370,{"$f":"'シングルス　選手名簿'!G372","v":0},{"$f":"'シングルス　選手名簿'!H372","v":0},{"$f":"'シングルス　選手名簿'!I372","v":0}]
[12371,{"$f":"'シングルス　選手名簿'!G373","v":0},{"$f":"'シングルス　選手名簿'!H373","v":0},{"$f":"'シングルス　選手名簿'!I373","v":0}]
[12372,{"$f":"'シングルス　選手名簿'!G374","v":0},{"$f":"'シングルス　選手名簿'!H374","v":0},{"$f":"'シングルス　選手名簿'!I374","v":0}]
[12373,{"$f":"'シングルス　選手名簿'!G375","v":0},{"$f":"'シングルス　選手名簿'!H375","v":0},{"$f":"'シングルス　選手名簿'!I375","v":0}]
[12374,{"$f":"'シングルス　選手名簿'!G376","v":0},{"$f":"'シングルス　選手名簿'!H376","v":0},{"$f":"'シングルス　選手名簿'!I376","v":0}]
[12375,{"$f":"'シングルス　選手名簿'!G377","v":0},{"$f":"'シングルス　選手名簿'!H377","v":0},{"$f":"'シングルス　選手名簿'!I377","v":0}]
[12376,{"$f":"'シングルス　選手名簿'!G378","v":0},{"$f":"'シングルス　選手名簿'!H378","v":0},{"$f":"'シングルス　選手名簿'!I378","v":0}]
[12377,{"$f":"'シングルス　選手名簿'!G379","v":0},{"$f":"'シングルス　選手名簿'!H379","v":0},{"$f":"'シングルス　選手名簿'!I379","v":0}]
[12378,{"$f":"'シングルス　選手名簿'!G380","v":0},{"$f":"'シングルス　選手名簿'!H380","v":0},{"$f":"'シングルス　選手名簿'!I380","v":0}]
[12379,{"$f":"'シングルス　選手名簿'!G381","v":0},{"$f":"'シングルス　選手名簿'!H381","v":0},{"$f":"'シングルス　選手名簿'!I381","v":0}]
[12380,{"$f":"'シングルス　選手名簿'!G382","v":0},{"$f":"'シングルス　選手名簿'!H382","v":0},{"$f":"'シングルス　選手名簿'!I382","v":0}]
[12381,{"$f":"'シングルス　選手名簿'!G383","v":0},{"$f":"'シングルス　選手名簿'!H383","v":0},{"$f":"'シングルス　選手名簿'!I383","v":0}]
[12382,{"$f":"'シングルス　選手名簿'!G384","v":0},{"$f":"'シングルス　選手名簿'!H384","v":0},{"$f":"'シングルス　選手名簿'!I384","v":0}]
[12383,{"$f":"'シングルス　選手名簿'!G385","v":0},{"$f":"'シングルス　選手名簿'!H385","v":0},{"$f":"'シングルス　選手名簿'!I385","v":0}]
[12384,{"$f":"'シングルス　選手名簿'!G386","v":0},{"$f":"'シングルス　選手名簿'!H386","v":0},{"$f":"'シングルス　選手名簿'!I386","v":0}]
[12385,{"$f":"'シングルス　選手名簿'!G387","v":0},{"$f":"'シングルス　選手名簿'!H387","v":0},{"$f":"'シングルス　選手名簿'!I387","v":0}]
[12386,{"$f":"'シングルス　選手名簿'!G388","v":0},{"$f":"'シングルス　選手名簿'!H388","v":0},{"$f":"'シングルス　選手名簿'!I388","v":0}]
[12387,{"$f":"'シングルス　選手名簿'!G389","v":0},{"$f":"'シングルス　選手名簿'!H389","v":0},{"$f":"'シングルス　選手名簿'!I389","v":0}]
[12388,{"$f":"'シングルス　選手名簿'!G390","v":0},{"$f":"'シングルス　選手名簿'!H390","v":0},{"$f":"'シングルス　選手名簿'!I390","v":0}]
[12389,{"$f":"'シングルス　選手名簿'!G391","v":0},{"$f":"'シングルス　選手名簿'!H391","v":0},{"$f":"'シングルス　選手名簿'!I391","v":0}]
[12390,{"$f":"'シングルス　選手名簿'!G392","v":0},{"$f":"'シングルス　選手名簿'!H392","v":0},{"$f":"'シングルス　選手名簿'!I392","v":0}]
[12391,{"$f":"'シングルス　選手名簿'!G393","v":0},{"$f":"'シングルス　選手名簿'!H393","v":0},{"$f":"'シングルス　選手名簿'!I393","v":0}]
[12392,{"$f":"'シングルス　選手名簿'!G394","v":0},{"$f":"'シングルス　選手名簿'!H394","v":0},{"$f":"'シングルス　選手名簿'!I394","v":0}]
[12393,{"$f":"'シングルス　選手名簿'!G395","v":0},{"$f":"'シングルス　選手名簿'!H395","v":0},{"$f":"'シングルス　選手名簿'!I395","v":0}]
[12394,{"$f":"'シングルス　選手名簿'!G396","v":0},{"$f":"'シングルス　選手名簿'!H396","v":0},{"$f":"'シングルス　選手名簿'!I396","v":0}]
[12395,{"$f":"'シングルス　選手名簿'!G397","v":0},{"$f":"'シングルス　選手名簿'!H397","v":0},{"$f":"'シングルス　選手名簿'!I397","v":0}]
[12396,{"$f":"'シングルス　選手名簿'!G398","v":0},{"$f":"'シングルス　選手名簿'!H398","v":0},{"$f":"'シングルス　選手名簿'!I398","v":0}]
[12397,{"$f":"'シングルス　選手名簿'!G399","v":0},{"$f":"'シングルス　選手名簿'!H399","v":0},{"$f":"'シングルス　選手名簿'!I399","v":0}]
[12398,{"$f":"'シングルス　選手名簿'!G400","v":0},{"$f":"'シングルス　選手名簿'!H400","v":0},{"$f":"'シングルス　選手名簿'!I400","v":0}]
[12399,{"$f":"'シングルス　選手名簿'!G401","v":0},{"$f":"'シングルス　選手名簿'!H401","v":0},{"$f":"'シングルス　選手名簿'!I401","v":0}]
[12400,{"$f":"'シングルス　選手名簿'!G402","v":0},{"$f":"'シングルス　選手名簿'!H402","v":0},{"$f":"'シングルス　選手名簿'!I402","v":0}]
[12401,{"$f":"'シングルス　選手名簿'!G403","v":0},{"$f":"'シングルス　選手名簿'!H403","v":0},{"$f":"'シングルス　選手名簿'!I403","v":0}]
[12402,{"$f":"'シングルス　選手名簿'!G404","v":0},{"$f":"'シングルス　選手名簿'!H404","v":0},{"$f":"'シングルス　選手名簿'!I404","v":0}]
[12403,{"$f":"'シングルス　選手名簿'!G405","v":0},{"$f":"'シングルス　選手名簿'!H405","v":0},{"$f":"'シングルス　選手名簿'!I405","v":0}]
[12404,{"$f":"'シングルス　選手名簿'!G406","v":0},{"$f":"'シングルス　選手名簿'!H406","v":0},{"$f":"'シングルス　選手名簿'!I406","v":0}]
[12405,{"$f":"'シングルス　選手名簿'!G407","v":0},{"$f":"'シングルス　選手名簿'!H407","v":0},{"$f":"'シングルス　選手名簿'!I407","v":0}]
[12406,{"$f":"'シングルス　選手名簿'!G408","v":0},{"$f":"'シングルス　選手名簿'!H408","v":0},{"$f":"'シングルス　選手名簿'!I408","v":0}]
[12407,{"$f":"'シングルス　選手名簿'!G409","v":0},{"$f":"'シングルス　選手名簿'!H409","v":0},{"$f":"'シングルス　選手名簿'!I409","v":0}]
[12408,{"$f":"'シングルス　選手名簿'!G410","v":0},{"$f":"'シングルス　選手名簿'!H410","v":0},{"$f":"'シングルス　選手名簿'!I410","v":0}]
[12409,{"$f":"'シングルス　選手名簿'!G411","v":0},{"$f":"'シングルス　選手名簿'!H411","v":0},{"$f":"'シングルス　選手名簿'!I411","v":0}]
[12410,{"$f":"'シングルス　選手名簿'!G412","v":0},{"$f":"'シングルス　選手名簿'!H412","v":0},{"$f":"'シングルス　選手名簿'!I412","v":0}]
[12411,{"$f":"'シングルス　選手名簿'!G413","v":0},{"$f":"'シングルス　選手名簿'!H413","v":0},{"$f":"'シングルス　選手名簿'!I413","v":0}]
[12412,{"$f":"'シングルス　選手名簿'!G414","v":0},{"$f":"'シングルス　選手名簿'!H414","v":0},{"$f":"'シングルス　選手名簿'!I414","v":0}]
[12413,{"$f":"'シングルス　選手名簿'!G415","v":0},{"$f":"'シングルス　選手名簿'!H415","v":0},{"$f":"'シングルス　選手名簿'!I415","v":0}]
[12414,{"$f":"'シングルス　選手名簿'!G416","v":0},{"$f":"'シングルス　選手名簿'!H416","v":0},{"$f":"'シングルス　選手名簿'!I416","v":0}]
[12415,{"$f":"'シングルス　選手名簿'!G417","v":0},{"$f":"'シングルス　選手名簿'!H417","v":0},{"$f":"'シングルス　選手名簿'!I417","v":0}]
[12416,{"$f":"'シングルス　選手名簿'!G418","v":0},{"$f":"'シングルス　選手名簿'!H418","v":0},{"$f":"'シングルス　選手名簿'!I418","v":0}]
[12417,{"$f":"'シングルス　選手名簿'!G419","v":0},{"$f":"'シングルス　選手名簿'!H419","v":0},{"$f":"'シングルス　選手名簿'!I419","v":0}]
[12418,{"$f":"'シングルス　選手名簿'!G420","v":0},{"$f":"'シングルス　選手名簿'!H420","v":0},{"$f":"'シングルス　選手名簿'!I420","v":0}]
[12419,{"$f":"'シングルス　選手名簿'!G421","v":0},{"$f":"'シングルス　選手名簿'!H421","v":0},{"$f":"'シングルス　選手名簿'!I421","v":0}]
[12420,{"$f":"'シングルス　選手名簿'!G422","v":0},{"$f":"'シングルス　選手名簿'!H422","v":0},{"$f":"'シングルス　選手名簿'!I422","v":0}]
[12421,{"$f":"'シングルス　選手名簿'!G423","v":0},{"$f":"'シングルス　選手名簿'!H423","v":0},{"$f":"'シングルス　選手名簿'!I423","v":0}]
[12422,{"$f":"'シングルス　選手名簿'!G424","v":0},{"$f":"'シングルス　選手名簿'!H424","v":0},{"$f":"'シングルス　選手名簿'!I424","v":0}]
[12423,{"$f":"'シングルス　選手名簿'!G425","v":0},{"$f":"'シングルス　選手名簿'!H425","v":0},{"$f":"'シングルス　選手名簿'!I425","v":0}]
[12424,{"$f":"'シングルス　選手名簿'!G426","v":0},{"$f":"'シングルス　選手名簿'!H426","v":0},{"$f":"'シングルス　選手名簿'!I426","v":0}]
[12425,{"$f":"'シングルス　選手名簿'!G427","v":0},{"$f":"'シングルス　選手名簿'!H427","v":0},{"$f":"'シングルス　選手名簿'!I427","v":0}]
[12426,{"$f":"'シングルス　選手名簿'!G428","v":0},{"$f":"'シングルス　選手名簿'!H428","v":0},{"$f":"'シングルス　選手名簿'!I428","v":0}]
[12427,{"$f":"'シングルス　選手名簿'!G429","v":0},{"$f":"'シングルス　選手名簿'!H429","v":0},{"$f":"'シングルス　選手名簿'!I429","v":0}]
[12428,{"$f":"'シングルス　選手名簿'!G430","v":0},{"$f":"'シングルス　選手名簿'!H430","v":0},{"$f":"'シングルス　選手名簿'!I430","v":0}]
[12429,{"$f":"'シングルス　選手名簿'!G431","v":0},{"$f":"'シングルス　選手名簿'!H431","v":0},{"$f":"'シングルス　選手名簿'!I431","v":0}]
[12430,{"$f":"'シングルス　選手名簿'!G432","v":0},{"$f":"'シングルス　選手名簿'!H432","v":0},{"$f":"'シングルス　選手名簿'!I432","v":0}]
[12431,{"$f":"'シングルス　選手名簿'!G433","v":0},{"$f":"'シングルス　選手名簿'!H433","v":0},{"$f":"'シングルス　選手名簿'!I433","v":0}]
[12432,{"$f":"'シングルス　選手名簿'!G434","v":0},{"$f":"'シングルス　選手名簿'!H434","v":0},{"$f":"'シングルス　選手名簿'!I434","v":0}]
[12433,{"$f":"'シングルス　選手名簿'!G435","v":0},{"$f":"'シングルス　選手名簿'!H435","v":0},{"$f":"'シングルス　選手名簿'!I435","v":0}]
[12434,{"$f":"'シングルス　選手名簿'!G436","v":0},{"$f":"'シングルス　選手名簿'!H436","v":0},{"$f":"'シングルス　選手名簿'!I436","v":0}]
[12435,{"$f":"'シングルス　選手名簿'!G437","v":0},{"$f":"'シングルス　選手名簿'!H437","v":0},{"$f":"'シングルス　選手名簿'!I437","v":0}]
[12436,{"$f":"'シングルス　選手名簿'!G438","v":0},{"$f":"'シングルス　選手名簿'!H438","v":0},{"$f":"'シングルス　選手名簿'!I438","v":0}]
[12437,{"$f":"'シングルス　選手名簿'!G439","v":0},{"$f":"'シングルス　選手名簿'!H439","v":0},{"$f":"'シングルス　選手名簿'!I439","v":0}]
[12438,{"$f":"'シングルス　選手名簿'!G440","v":0},{"$f":"'シングルス　選手名簿'!H440","v":0},{"$f":"'シングルス　選手名簿'!I440","v":0}]
[12439,{"$f":"'シングルス　選手名簿'!G441","v":0},{"$f":"'シングルス　選手名簿'!H441","v":0},{"$f":"'シングルス　選手名簿'!I441","v":0}]
[12440,{"$f":"'シングルス　選手名簿'!G442","v":0},{"$f":"'シングルス　選手名簿'!H442","v":0},{"$f":"'シングルス　選手名簿'!I442","v":0}]
[12441,{"$f":"'シングルス　選手名簿'!G443","v":0},{"$f":"'シングルス　選手名簿'!H443","v":0},{"$f":"'シングルス　選手名簿'!I443","v":0}]
[12442,{"$f":"'シングルス　選手名簿'!G444","v":0},{"$f":"'シングルス　選手名簿'!H444","v":0},{"$f":"'シングルス　選手名簿'!I444","v":0}]
[12443,{"$f":"'シングルス　選手名簿'!G445","v":0},{"$f":"'シングルス　選手名簿'!H445","v":0},{"$f":"'シングルス　選手名簿'!I445","v":0}]
[12444,{"$f":"'シングルス　選手名簿'!G446","v":0},{"$f":"'シングルス　選手名簿'!H446","v":0},{"$f":"'シングルス　選手名簿'!I446","v":0}]
[12445,{"$f":"'シングルス　選手名簿'!G447","v":0},{"$f":"'シングルス　選手名簿'!H447","v":0},{"$f":"'シングルス　選手名簿'!I447","v":0}]
[12446,{"$f":"'シングルス　選手名簿'!G448","v":0},{"$f":"'シングルス　選手名簿'!H448","v":0},{"$f":"'シングルス　選手名簿'!I448","v":0}]
[12447,{"$f":"'シングルス　選手名簿'!G449","v":0},{"$f":"'シングルス　選手名簿'!H449","v":0},{"$f":"'シングルス　選手名簿'!I449","v":0}]
[12448,{"$f":"'シングルス　選手名簿'!G450","v":0},{"$f":"'シングルス　選手名簿'!H450","v":0},{"$f":"'シングルス　選手名簿'!I450","v":0}]
[12449,{"$f":"'シングルス　選手名簿'!G451","v":0},{"$f":"'シングルス　選手名簿'!H451","v":0},{"$f":"'シングルス　選手名簿'!I451","v":0}]
[12450,{"$f":"'シングルス　選手名簿'!G452","v":0},{"$f":"'シングルス　選手名簿'!H452","v":0},{"$f":"'シングルス　選手名簿'!I452","v":0}]
[12451,{"$f":"'シングルス　選手名簿'!G453","v":0},{"$f":"'シングルス　選手名簿'!H453","v":0},{"$f":"'シングルス　選手名簿'!I453","v":0}]
[12452,{"$f":"'シングルス　選手名簿'!G454","v":0},{"$f":"'シングルス　選手名簿'!H454","v":0},{"$f":"'シングルス　選手名簿'!I454","v":0}]
[12453,{"$f":"'シングルス　選手名簿'!G455","v":0},{"$f":"'シングルス　選手名簿'!H455","v":0},{"$f":"'シングルス　選手名簿'!I455","v":0}]
[12454,{"$f":"'シングルス　選手名簿'!G456","v":0},{"$f":"'シングルス　選手名簿'!H456","v":0},{"$f":"'シングルス　選手名簿'!I456","v":0}]
[12455,{"$f":"'シングルス　選手名簿'!G457","v":0},{"$f":"'シングルス　選手名簿'!H457","v":0},{"$f":"'シングルス　選手名簿'!I457","v":0}]
[12456,{"$f":"'シングルス　選手名簿'!G458","v":0},{"$f":"'シングルス　選手名簿'!H458","v":0},{"$f":"'シングルス　選手名簿'!I458","v":0}]
[12457,{"$f":"'シングルス　選手名簿'!G459","v":0},{"$f":"'シングルス　選手名簿'!H459","v":0},{"$f":"'シングルス　選手名簿'!I459","v":0}]
[12458,{"$f":"'シングルス　選手名簿'!G460","v":0},{"$f":"'シングルス　選手名簿'!H460","v":0},{"$f":"'シングルス　選手名簿'!I460","v":0}]
[12459,{"$f":"'シングルス　選手名簿'!G461","v":0},{"$f":"'シングルス　選手名簿'!H461","v":0},{"$f":"'シングルス　選手名簿'!I461","v":0}]
[12460,{"$f":"'シングルス　選手名簿'!G462","v":0},{"$f":"'シングルス　選手名簿'!H462","v":0},{"$f":"'シングルス　選手名簿'!I462","v":0}]
[12461,{"$f":"'シングルス　選手名簿'!G463","v":0},{"$f":"'シングルス　選手名簿'!H463","v":0},{"$f":"'シングルス　選手名簿'!I463","v":0}]
[12462,{"$f":"'シングルス　選手名簿'!G464","v":0},{"$f":"'シングルス　選手名簿'!H464","v":0},{"$f":"'シングルス　選手名簿'!I464","v":0}]
[12463,{"$f":"'シングルス　選手名簿'!G465","v":0},{"$f":"'シングルス　選手名簿'!H465","v":0},{"$f":"'シングルス　選手名簿'!I465","v":0}]
[12464,{"$f":"'シングルス　選手名簿'!G466","v":0},{"$f":"'シングルス　選手名簿'!H466","v":0},{"$f":"'シングルス　選手名簿'!I466","v":0}]
[12465,{"$f":"'シングルス　選手名簿'!G467","v":0},{"$f":"'シングルス　選手名簿'!H467","v":0},{"$f":"'シングルス　選手名簿'!I467","v":0}]
[12466,{"$f":"'シングルス　選手名簿'!G468","v":0},{"$f":"'シングルス　選手名簿'!H468","v":0},{"$f":"'シングルス　選手名簿'!I468","v":0}]
[12467,{"$f":"'シングルス　選手名簿'!G469","v":0},{"$f":"'シングルス　選手名簿'!H469","v":0},{"$f":"'シングルス　選手名簿'!I469","v":0}]
[12468,{"$f":"'シングルス　選手名簿'!G470","v":0},{"$f":"'シングルス　選手名簿'!H470","v":0},{"$f":"'シングルス　選手名簿'!I470","v":0}]
[12469,{"$f":"'シングルス　選手名簿'!G471","v":0},{"$f":"'シングルス　選手名簿'!H471","v":0},{"$f":"'シングルス　選手名簿'!I471","v":0}]
[12470,{"$f":"'シングルス　選手名簿'!G472","v":0},{"$f":"'シングルス　選手名簿'!H472","v":0},{"$f":"'シングルス　選手名簿'!I472","v":0}]
[12471,{"$f":"'シングルス　選手名簿'!G473","v":0},{"$f":"'シングルス　選手名簿'!H473","v":0},{"$f":"'シングルス　選手名簿'!I473","v":0}]
[12472,{"$f":"'シングルス　選手名簿'!G474","v":0},{"$f":"'シングルス　選手名簿'!H474","v":0},{"$f":"'シングルス　選手名簿'!I474","v":0}]
[12473,{"$f":"'シングルス　選手名簿'!G475","v":0},{"$f":"'シングルス　選手名簿'!H475","v":0},{"$f":"'シングルス　選手名簿'!I475","v":0}]
[12474,{"$f":"'シングルス　選手名簿'!G476","v":0},{"$f":"'シングルス　選手名簿'!H476","v":0},{"$f":"'シングルス　選手名簿'!I476","v":0}]
[12475,{"$f":"'シングルス　選手名簿'!G477","v":0},{"$f":"'シングルス　選手名簿'!H477","v":0},{"$f":"'シングルス　選手名簿'!I477","v":0}]
[12476,{"$f":"'シングルス　選手名簿'!G478","v":0},{"$f":"'シングルス　選手名簿'!H478","v":0},{"$f":"'シングルス　選手名簿'!I478","v":0}]
[12477,{"$f":"'シングルス　選手名簿'!G479","v":0},{"$f":"'シングルス　選手名簿'!H479","v":0},{"$f":"'シングルス　選手名簿'!I479","v":0}]
[12478,{"$f":"'シングルス　選手名簿'!G480","v":0},{"$f":"'シングルス　選手名簿'!H480","v":0},{"$f":"'シングルス　選手名簿'!I480","v":0}]
[12479,{"$f":"'シングルス　選手名簿'!G481","v":0},{"$f":"'シングルス　選手名簿'!H481","v":0},{"$f":"'シングルス　選手名簿'!I481","v":0}]
[12480,{"$f":"'シングルス　選手名簿'!G482","v":0},{"$f":"'シングルス　選手名簿'!H482","v":0},{"$f":"'シングルス　選手名簿'!I482","v":0}]
[12481,{"$f":"'シングルス　選手名簿'!G483","v":0},{"$f":"'シングルス　選手名簿'!H483","v":0},{"$f":"'シングルス　選手名簿'!I483","v":0}]
[12482,{"$f":"'シングルス　選手名簿'!G484","v":0},{"$f":"'シングルス　選手名簿'!H484","v":0},{"$f":"'シングルス　選手名簿'!I484","v":0}]
[12483,{"$f":"'シングルス　選手名簿'!G485","v":0},{"$f":"'シングルス　選手名簿'!H485","v":0},{"$f":"'シングルス　選手名簿'!I485","v":0}]
[12484,{"$f":"'シングルス　選手名簿'!G486","v":0},{"$f":"'シングルス　選手名簿'!H486","v":0},{"$f":"'シングルス　選手名簿'!I486","v":0}]
[12485,{"$f":"'シングルス　選手名簿'!G487","v":0},{"$f":"'シングルス　選手名簿'!H487","v":0},{"$f":"'シングルス　選手名簿'!I487","v":0}]
[12486,{"$f":"'シングルス　選手名簿'!G488","v":0},{"$f":"'シングルス　選手名簿'!H488","v":0},{"$f":"'シングルス　選手名簿'!I488","v":0}]
[12487,{"$f":"'シングルス　選手名簿'!G489","v":0},{"$f":"'シングルス　選手名簿'!H489","v":0},{"$f":"'シングルス　選手名簿'!I489","v":0}]
[12488,{"$f":"'シングルス　選手名簿'!G490","v":0},{"$f":"'シングルス　選手名簿'!H490","v":0},{"$f":"'シングルス　選手名簿'!I490","v":0}]
[12489,{"$f":"'シングルス　選手名簿'!G491","v":0},{"$f":"'シングルス　選手名簿'!H491","v":0},{"$f":"'シングルス　選手名簿'!I491","v":0}]
[12490,{"$f":"'シングルス　選手名簿'!G492","v":0},{"$f":"'シングルス　選手名簿'!H492","v":0},{"$f":"'シングルス　選手名簿'!I492","v":0}]
[12491,{"$f":"'シングルス　選手名簿'!G493","v":0},{"$f":"'シングルス　選手名簿'!H493","v":0},{"$f":"'シングルス　選手名簿'!I493","v":0}]
[12492,{"$f":"'シングルス　選手名簿'!G494","v":0},{"$f":"'シングルス　選手名簿'!H494","v":0},{"$f":"'シングルス　選手名簿'!I494","v":0}]
[12493,{"$f":"'シングルス　選手名簿'!G495","v":0},{"$f":"'シングルス　選手名簿'!H495","v":0},{"$f":"'シングルス　選手名簿'!I495","v":0}]
[12494,{"$f":"'シングルス　選手名簿'!G496","v":0},{"$f":"'シングルス　選手名簿'!H496","v":0},{"$f":"'シングルス　選手名簿'!I496","v":0}]
[12495,{"$f":"'シングルス　選手名簿'!G497","v":0},{"$f":"'シングルス　選手名簿'!H497","v":0},{"$f":"'シングルス　選手名簿'!I497","v":0}]
[12496,{"$f":"'シングルス　選手名簿'!G498","v":0},{"$f":"'シングルス　選手名簿'!H498","v":0},{"$f":"'シングルス　選手名簿'!I498","v":0}]
[12497,{"$f":"'シングルス　選手名簿'!G499","v":0},{"$f":"'シングルス　選手名簿'!H499","v":0},{"$f":"'シングルス　選手名簿'!I499","v":0}]
[12498,{"$f":"'シングルス　選手名簿'!G500","v":0},{"$f":"'シングルス　選手名簿'!H500","v":0},{"$f":"'シングルス　選手名簿'!I500","v":0}]
[12499,{"$f":"'シングルス　選手名簿'!G501","v":0},{"$f":"'シングルス　選手名簿'!H501","v":0},{"$f":"'シングルス　選手名簿'!I501","v":0}]
[12500,{"$f":"'シングルス　選手名簿'!G502","v":0},{"$f":"'シングルス　選手名簿'!H502","v":0},{"$f":"'シングルス　選手名簿'!I502","v":0}]
[21001,{"$f":"'ダブルス　選手名簿'!B3","v":0},{"$f":"'ダブルス　選手名簿'!C3","v":0},{"$f":"'ダブルス　選手名簿'!D3","v":0}]
[21002,{"$f":"'ダブルス　選手名簿'!B4","v":0},"松本美須々ヶ丘",{"$f":"'ダブルス　選手名簿'!D4","v":0}]
[21003,{"$f":"'ダブルス　選手名簿'!B5","v":0},{"$f":"'ダブルス　選手名簿'!C5","v":0},{"$f":"'ダブルス　選手名簿'!D5","v":0}]
[21004,{"$f":"'ダブルス　選手名簿'!B6","v":0},{"$f":"'ダブルス　選手名簿'!C6","v":0},{"$f":"'ダブルス　選手名簿'!D6","v":0}]
[21005,{"$f":"'ダブルス　選手名簿'!B7","v":0},{"$f":"'ダブルス　選手名簿'!C7","v":0},{"$f":"'ダブルス　選手名簿'!D7","v":0}]
[21006,{"$f":"'ダブルス　選手名簿'!B8","v":0},{"$f":"'ダブルス　選手名簿'!C8","v":0},{"$f":"'ダブルス　選手名簿'!D8","v":0}]
[21007,{"$f":"'ダブルス　選手名簿'!B9","v":0},{"$f":"'ダブルス　選手名簿'!C9","v":0},{"$f":"'ダブルス　選手名簿'!D9","v":0}]
[21008,{"$f":"'ダブルス　選手名簿'!B10","v":0},{"$f":"'ダブルス　選手名簿'!C10","v":0},{"$f":"'ダブルス　選手名簿'!D10","v":0}]
[21009,{"$f":"'ダブルス　選手名簿'!B11","v":0},{"$f":"'ダブルス　選手名簿'!C11","v":0},{"$f":"'ダブルス　選手名簿'!D11","v":0}]
[21010,{"$f":"'ダブルス　選手名簿'!B12","v":0},{"$f":"'ダブルス　選手名簿'!C12","v":0},{"$f":"'ダブルス　選手名簿'!D12","v":0}]
[21011,{"$f":"'ダブルス　選手名簿'!B13","v":0},{"$f":"'ダブルス　選手名簿'!C13","v":0},{"$f":"'ダブルス　選手名簿'!D13","v":0}]
[21012,{"$f":"'ダブルス　選手名簿'!B14","v":0},{"$f":"'ダブルス　選手名簿'!C14","v":0},{"$f":"'ダブルス　選手名簿'!D14","v":0}]
[21013,{"$f":"'ダブルス　選手名簿'!B15","v":0},{"$f":"'ダブルス　選手名簿'!C15","v":0},{"$f":"'ダブルス　選手名簿'!D15","v":0}]
[21014,{"$f":"'ダブルス　選手名簿'!B16","v":0},{"$f":"'ダブルス　選手名簿'!C16","v":0},{"$f":"'ダブルス　選手名簿'!D16","v":0}]
[21015,{"$f":"'ダブルス　選手名簿'!B17","v":0},{"$f":"'ダブルス　選手名簿'!C17","v":0},{"$f":"'ダブルス　選手名簿'!D17","v":0}]
[21016,{"$f":"'ダブルス　選手名簿'!B18","v":0},{"$f":"'ダブルス　選手名簿'!C18","v":0},{"$f":"'ダブルス　選手名簿'!D18","v":0}]
[21017,{"$f":"'ダブルス　選手名簿'!B19","v":0},{"$f":"'ダブルス　選手名簿'!C19","v":0},{"$f":"'ダブルス　選手名簿'!D19","v":0}]
[21018,{"$f":"'ダブルス　選手名簿'!B20","v":0},{"$f":"'ダブルス　選手名簿'!C20","v":0},{"$f":"'ダブルス　選手名簿'!D20","v":0}]
[21019,{"$f":"'ダブルス　選手名簿'!B21","v":0},{"$f":"'ダブルス　選手名簿'!C21","v":0},{"$f":"'ダブルス　選手名簿'!D21","v":0}]
[21020,{"$f":"'ダブルス　選手名簿'!B22","v":0},{"$f":"'ダブルス　選手名簿'!C22","v":0},{"$f":"'ダブルス　選手名簿'!D22","v":0}]
[21021,{"$f":"'ダブルス　選手名簿'!B23","v":0},{"$f":"'ダブルス　選手名簿'!C23","v":0},{"$f":"'ダブルス　選手名簿'!D23","v":0}]
[21022,{"$f":"'ダブルス　選手名簿'!B24","v":0},{"$f":"'ダブルス　選手名簿'!C24","v":0},{"$f":"'ダブルス　選手名簿'!D24","v":0}]
[21023,{"$f":"'ダブルス　選手名簿'!B25","v":0},{"$f":"'ダブルス　選手名簿'!C25","v":0},{"$f":"'ダブルス　選手名簿'!D25","v":0}]
[21024,{"$f":"'ダブルス　選手名簿'!B26","v":0},{"$f":"'ダブルス　選手名簿'!C26","v":0},{"$f":"'ダブルス　選手名簿'!D26","v":0}]
[21025,{"$f":"'ダブルス　選手名簿'!B27","v":0},{"$f":"'ダブルス　選手名簿'!C27","v":0},{"$f":"'ダブルス　選手名簿'!D27","v":0}]
[21026,{"$f":"'ダブルス　選手名簿'!B28","v":0},{"$f":"'ダブルス　選手名簿'!C28","v":0},{"$f":"'ダブルス　選手名簿'!D28","v":0}]
[21027,{"$f":"'ダブルス　選手名簿'!B29","v":0},{"$f":"'ダブルス　選手名簿'!C29","v":0},{"$f":"'ダブルス　選手名簿'!D29","v":0}]
[21028,{"$f":"'ダブルス　選手名簿'!B30","v":0},{"$f":"'ダブルス　選手名簿'!C30","v":0},{"$f":"'ダブルス　選手名簿'!D30","v":0}]
[21029,{"$f":"'ダブルス　選手名簿'!B31","v":0},{"$f":"'ダブルス　選手名簿'!C31","v":0},{"$f":"'ダブルス　選手名簿'!D31","v":0}]
[21030,{"$f":"'ダブルス　選手名簿'!B32","v":0},{"$f":"'ダブルス　選手名簿'!C32","v":0},{"$f":"'ダブルス　選手名簿'!D32","v":0}]
[21031,{"$f":"'ダブルス　選手名簿'!B33","v":0},{"$f":"'ダブルス　選手名簿'!C33","v":0},{"$f":"'ダブルス　選手名簿'!D33","v":0}]
[21032,{"$f":"'ダブルス　選手名簿'!B34","v":0},{"$f":"'ダブルス　選手名簿'!C34","v":0},{"$f":"'ダブルス　選手名簿'!D34","v":0}]
[21033,{"$f":"'ダブルス　選手名簿'!B35","v":0},{"$f":"'ダブルス　選手名簿'!C35","v":0},{"$f":"'ダブルス　選手名簿'!D35","v":0}]
[21034,{"$f":"'ダブルス　選手名簿'!B36","v":0},{"$f":"'ダブルス　選手名簿'!C36","v":0},{"$f":"'ダブルス　選手名簿'!D36","v":0}]
[21035,{"$f":"'ダブルス　選手名簿'!B37","v":0},{"$f":"'ダブルス　選手名簿'!C37","v":0},{"$f":"'ダブルス　選手名簿'!D37","v":0}]
[21036,{"$f":"'ダブルス　選手名簿'!B38","v":0},{"$f":"'ダブルス　選手名簿'!C38","v":0},{"$f":"'ダブルス　選手名簿'!D38","v":0}]
[21037,{"$f":"'ダブルス　選手名簿'!B39","v":0},{"$f":"'ダブルス　選手名簿'!C39","v":0},{"$f":"'ダブルス　選手名簿'!D39","v":0}]
[21038,{"$f":"'ダブルス　選手名簿'!B40","v":0},{"$f":"'ダブルス　選手名簿'!C40","v":0},{"$f":"'ダブルス　選手名簿'!D40","v":0}]
[21039,{"$f":"'ダブルス　選手名簿'!B41","v":0},{"$f":"'ダブルス　選手名簿'!C41","v":0},{"$f":"'ダブルス　選手名簿'!D41","v":0}]
[21040,{"$f":"'ダブルス　選手名簿'!B42","v":0},{"$f":"'ダブルス　選手名簿'!C42","v":0},{"$f":"'ダブルス　選手名簿'!D42","v":0}]
[21041,{"$f":"'ダブルス　選手名簿'!B43","v":0},{"$f":"'ダブルス　選手名簿'!C43","v":0},{"$f":"'ダブルス　選手名簿'!D43","v":0}]
[21042,{"$f":"'ダブルス　選手名簿'!B44","v":0},{"$f":"'ダブルス　選手名簿'!C44","v":0},{"$f":"'ダブルス　選手名簿'!D44","v":0}]
[21043,{"$f":"'ダブルス　選手名簿'!B45","v":0},{"$f":"'ダブルス　選手名簿'!C45","v":0},{"$f":"'ダブルス　選手名簿'!D45","v":0}]
[21044,{"$f":"'ダブルス　選手名簿'!B46","v":0},{"$f":"'ダブルス　選手名簿'!C46","v":0},{"$f":"'ダブルス　選手名簿'!D46","v":0}]
[21045,{"$f":"'ダブルス　選手名簿'!B47","v":0},{"$f":"'ダブルス　選手名簿'!C47","v":0},{"$f":"'ダブルス　選手名簿'!D47","v":0}]
[21046,{"$f":"'ダブルス　選手名簿'!B48","v":0},{"$f":"'ダブルス　選手名簿'!C48","v":0},{"$f":"'ダブルス　選手名簿'!D48","v":0}]
[21047,{"$f":"'ダブルス　選手名簿'!B49","v":0},{"$f":"'ダブルス　選手名簿'!C49","v":0},{"$f":"'ダブルス　選手名簿'!D49","v":0}]
[21048,{"$f":"'ダブルス　選手名簿'!B50","v":0},{"$f":"'ダブルス　選手名簿'!C50","v":0},{"$f":"'ダブルス　選手名簿'!D50","v":0}]
[21049,{"$f":"'ダブルス　選手名簿'!B51","v":0},{"$f":"'ダブルス　選手名簿'!C51","v":0},{"$f":"'ダブルス　選手名簿'!D51","v":0}]
[21050,{"$f":"'ダブルス　選手名簿'!B52","v":0},{"$f":"'ダブルス　選手名簿'!C52","v":0},{"$f":"'ダブルス　選手名簿'!D52","v":0}]
[21051,{"$f":"'ダブルス　選手名簿'!B53","v":0},{"$f":"'ダブルス　選手名簿'!C53","v":0},{"$f":"'ダブルス　選手名簿'!D53","v":0}]
[21052,{"$f":"'ダブルス　選手名簿'!B54","v":0},{"$f":"'ダブルス　選手名簿'!C54","v":0},{"$f":"'ダブルス　選手名簿'!D54","v":0}]
[21053,{"$f":"'ダブルス　選手名簿'!B55","v":0},{"$f":"'ダブルス　選手名簿'!C55","v":0},{"$f":"'ダブルス　選手名簿'!D55","v":0}]
[21054,{"$f":"'ダブルス　選手名簿'!B56","v":0},{"$f":"'ダブルス　選手名簿'!C56","v":0},{"$f":"'ダブルス　選手名簿'!D56","v":0}]
[21055,{"$f":"'ダブルス　選手名簿'!B57","v":0},{"$f":"'ダブルス　選手名簿'!C57","v":0},{"$f":"'ダブルス　選手名簿'!D57","v":0}]
[21056,{"$f":"'ダブルス　選手名簿'!B58","v":0},{"$f":"'ダブルス　選手名簿'!C58","v":0},{"$f":"'ダブルス　選手名簿'!D58","v":0}]
[21057,{"$f":"'ダブルス　選手名簿'!B59","v":0},{"$f":"'ダブルス　選手名簿'!C59","v":0},{"$f":"'ダブルス　選手名簿'!D59","v":0}]
[21058,{"$f":"'ダブルス　選手名簿'!B60","v":0},{"$f":"'ダブルス　選手名簿'!C60","v":0},{"$f":"'ダブルス　選手名簿'!D60","v":0}]
[21059,{"$f":"'ダブルス　選手名簿'!B61","v":0},{"$f":"'ダブルス　選手名簿'!C61","v":0},{"$f":"'ダブルス　選手名簿'!D61","v":0}]
[21060,{"$f":"'ダブルス　選手名簿'!B62","v":0},{"$f":"'ダブルス　選手名簿'!C62","v":0},{"$f":"'ダブルス　選手名簿'!D62","v":0}]
[21061,{"$f":"'ダブルス　選手名簿'!B63","v":0},{"$f":"'ダブルス　選手名簿'!C63","v":0},{"$f":"'ダブルス　選手名簿'!D63","v":0}]
[21062,{"$f":"'ダブルス　選手名簿'!B64","v":0},{"$f":"'ダブルス　選手名簿'!C64","v":0},{"$f":"'ダブルス　選手名簿'!D64","v":0}]
[21063,{"$f":"'ダブルス　選手名簿'!B65","v":0},{"$f":"'ダブルス　選手名簿'!C65","v":0},{"$f":"'ダブルス　選手名簿'!D65","v":0}]
[21064,{"$f":"'ダブルス　選手名簿'!B66","v":0},{"$f":"'ダブルス　選手名簿'!C66","v":0},{"$f":"'ダブルス　選手名簿'!D66","v":0}]
[21065,{"$f":"'ダブルス　選手名簿'!B67","v":0},{"$f":"'ダブルス　選手名簿'!C67","v":0},{"$f":"'ダブルス　選手名簿'!D67","v":0}]
[21066,{"$f":"'ダブルス　選手名簿'!B68","v":0},{"$f":"'ダブルス　選手名簿'!C68","v":0},{"$f":"'ダブルス　選手名簿'!D68","v":0}]
[21067,{"$f":"'ダブルス　選手名簿'!B69","v":0},{"$f":"'ダブルス　選手名簿'!C69","v":0},{"$f":"'ダブルス　選手名簿'!D69","v":0}]
[21068,{"$f":"'ダブルス　選手名簿'!B70","v":0},{"$f":"'ダブルス　選手名簿'!C70","v":0},{"$f":"'ダブルス　選手名簿'!D70","v":0}]
[21069,{"$f":"'ダブルス　選手名簿'!B71","v":0},{"$f":"'ダブルス　選手名簿'!C71","v":0},{"$f":"'ダブルス　選手名簿'!D71","v":0}]
[21070,{"$f":"'ダブルス　選手名簿'!B72","v":0},{"$f":"'ダブルス　選手名簿'!C72","v":0},{"$f":"'ダブルス　選手名簿'!D72","v":0}]
[21071,{"$f":"'ダブルス　選手名簿'!B73","v":0},{"$f":"'ダブルス　選手名簿'!C73","v":0},{"$f":"'ダブルス　選手名簿'!D73","v":0}]
[21072,{"$f":"'ダブルス　選手名簿'!B74","v":0},{"$f":"'ダブルス　選手名簿'!C74","v":0},{"$f":"'ダブルス　選手名簿'!D74","v":0}]
[21073,{"$f":"'ダブルス　選手名簿'!B75","v":0},{"$f":"'ダブルス　選手名簿'!C75","v":0},{"$f":"'ダブルス　選手名簿'!D75","v":0}]
[21074,{"$f":"'ダブルス　選手名簿'!B76","v":0},{"$f":"'ダブルス　選手名簿'!C76","v":0},{"$f":"'ダブルス　選手名簿'!D76","v":0}]
[21075,{"$f":"'ダブルス　選手名簿'!B77","v":0},{"$f":"'ダブルス　選手名簿'!C77","v":0},{"$f":"'ダブルス　選手名簿'!D77","v":0}]
[21076,{"$f":"'ダブルス　選手名簿'!B78","v":0},{"$f":"'ダブルス　選手名簿'!C78","v":0},{"$f":"'ダブルス　選手名簿'!D78","v":0}]
[21077,{"$f":"'ダブルス　選手名簿'!B79","v":0},{"$f":"'ダブルス　選手名簿'!C79","v":0},{"$f":"'ダブルス　選手名簿'!D79","v":0}]
[21078,{"$f":"'ダブルス　選手名簿'!B80","v":0},{"$f":"'ダブルス　選手名簿'!C80","v":0},{"$f":"'ダブルス　選手名簿'!D80","v":0}]
[21079,{"$f":"'ダブルス　選手名簿'!B81","v":0},{"$f":"'ダブルス　選手名簿'!C81","v":0},{"$f":"'ダブルス　選手名簿'!D81","v":0}]
[21080,{"$f":"'ダブルス　選手名簿'!B82","v":0},{"$f":"'ダブルス　選手名簿'!C82","v":0},{"$f":"'ダブルス　選手名簿'!D82","v":0}]
[21081,{"$f":"'ダブルス　選手名簿'!B83","v":0},{"$f":"'ダブルス　選手名簿'!C83","v":0},{"$f":"'ダブルス　選手名簿'!D83","v":0}]
[21082,{"$f":"'ダブルス　選手名簿'!B84","v":0},{"$f":"'ダブルス　選手名簿'!C84","v":0},{"$f":"'ダブルス　選手名簿'!D84","v":0}]
[21083,{"$f":"'ダブルス　選手名簿'!B85","v":0},{"$f":"'ダブルス　選手名簿'!C85","v":0},{"$f":"'ダブルス　選手名簿'!D85","v":0}]
[21084,{"$f":"'ダブルス　選手名簿'!B86","v":0},{"$f":"'ダブルス　選手名簿'!C86","v":0},{"$f":"'ダブルス　選手名簿'!D86","v":0}]
[21085,{"$f":"'ダブルス　選手名簿'!B87","v":0},{"$f":"'ダブルス　選手名簿'!C87","v":0},{"$f":"'ダブルス　選手名簿'!D87","v":0}]
[21086,{"$f":"'ダブルス　選手名簿'!B88","v":0},{"$f":"'ダブルス　選手名簿'!C88","v":0},{"$f":"'ダブルス　選手名簿'!D88","v":0}]
[21087,{"$f":"'ダブルス　選手名簿'!B89","v":0},{"$f":"'ダブルス　選手名簿'!C89","v":0},{"$f":"'ダブルス　選手名簿'!D89","v":0}]
[21088,{"$f":"'ダブルス　選手名簿'!B90","v":0},{"$f":"'ダブルス　選手名簿'!C90","v":0},{"$f":"'ダブルス　選手名簿'!D90","v":0}]
[21089,{"$f":"'ダブルス　選手名簿'!B91","v":0},{"$f":"'ダブルス　選手名簿'!C91","v":0},{"$f":"'ダブルス　選手名簿'!D91","v":0}]
[21090,{"$f":"'ダブルス　選手名簿'!B92","v":0},{"$f":"'ダブルス　選手名簿'!C92","v":0},{"$f":"'ダブルス　選手名簿'!D92","v":0}]
[21091,{"$f":"'ダブルス　選手名簿'!B93","v":0},{"$f":"'ダブルス　選手名簿'!C93","v":0},{"$f":"'ダブルス　選手名簿'!D93","v":0}]
[21092,{"$f":"'ダブルス　選手名簿'!B94","v":0},{"$f":"'ダブルス　選手名簿'!C94","v":0},{"$f":"'ダブルス　選手名簿'!D94","v":0}]
[21093,{"$f":"'ダブルス　選手名簿'!B95","v":0},{"$f":"'ダブルス　選手名簿'!C95","v":0},{"$f":"'ダブルス　選手名簿'!D95","v":0}]
[21094,{"$f":"'ダブルス　選手名簿'!B96","v":0},{"$f":"'ダブルス　選手名簿'!C96","v":0},{"$f":"'ダブルス　選手名簿'!D96","v":0}]
[21095,{"$f":"'ダブルス　選手名簿'!B97","v":0},{"$f":"'ダブルス　選手名簿'!C97","v":0},{"$f":"'ダブルス　選手名簿'!D97","v":0}]
[21096,{"$f":"'ダブルス　選手名簿'!B98","v":0},{"$f":"'ダブルス　選手名簿'!C98","v":0},{"$f":"'ダブルス　選手名簿'!D98","v":0}]
[21097,{"$f":"'ダブルス　選手名簿'!B99","v":0},{"$f":"'ダブルス　選手名簿'!C99","v":0},{"$f":"'ダブルス　選手名簿'!D99","v":0}]
[21098,{"$f":"'ダブルス　選手名簿'!B100","v":0},{"$f":"'ダブルス　選手名簿'!C100","v":0},{"$f":"'ダブルス　選手名簿'!D100","v":0}]
[21099,{"$f":"'ダブルス　選手名簿'!B101","v":0},{"$f":"'ダブルス　選手名簿'!C101","v":0},{"$f":"'ダブルス　選手名簿'!D101","v":0}]
[21100,{"$f":"'ダブルス　選手名簿'!B102","v":0},{"$f":"'ダブルス　選手名簿'!C102","v":0},{"$f":"'ダブルス　選手名簿'!D102","v":0}]
[21101,{"$f":"'ダブルス　選手名簿'!B103","v":0},{"$f":"'ダブルス　選手名簿'!C103","v":0},{"$f":"'ダブルス　選手名簿'!D103","v":0}]
[21102,{"$f":"'ダブルス　選手名簿'!B104","v":0},{"$f":"'ダブルス　選手名簿'!C104","v":0},{"$f":"'ダブルス　選手名簿'!D104","v":0}]
[21103,{"$f":"'ダブルス　選手名簿'!B105","v":0},{"$f":"'ダブルス　選手名簿'!C105","v":0},{"$f":"'ダブルス　選手名簿'!D105","v":0}]
[21104,{"$f":"'ダブルス　選手名簿'!B106","v":0},{"$f":"'ダブルス　選手名簿'!C106","v":0},{"$f":"'ダブルス　選手名簿'!D106","v":0}]
[21105,{"$f":"'ダブルス　選手名簿'!B107","v":0},{"$f":"'ダブルス　選手名簿'!C107","v":0},{"$f":"'ダブルス　選手名簿'!D107","v":0}]
[21106,{"$f":"'ダブルス　選手名簿'!B108","v":0},{"$f":"'ダブルス　選手名簿'!C108","v":0},{"$f":"'ダブルス　選手名簿'!D108","v":0}]
[21107,{"$f":"'ダブルス　選手名簿'!B109","v":0},{"$f":"'ダブルス　選手名簿'!C109","v":0},{"$f":"'ダブルス　選手名簿'!D109","v":0}]
[21108,{"$f":"'ダブルス　選手名簿'!B110","v":0},{"$f":"'ダブルス　選手名簿'!C110","v":0},{"$f":"'ダブルス　選手名簿'!D110","v":0}]
[21109,{"$f":"'ダブルス　選手名簿'!B111","v":0},{"$f":"'ダブルス　選手名簿'!C111","v":0},{"$f":"'ダブルス　選手名簿'!D111","v":0}]
[21110,{"$f":"'ダブルス　選手名簿'!B112","v":0},{"$f":"'ダブルス　選手名簿'!C112","v":0},{"$f":"'ダブルス　選手名簿'!D112","v":0}]
[21111,{"$f":"'ダブルス　選手名簿'!B113","v":0},{"$f":"'ダブルス　選手名簿'!C113","v":0},{"$f":"'ダブルス　選手名簿'!D113","v":0}]
[21112,{"$f":"'ダブルス　選手名簿'!B114","v":0},{"$f":"'ダブルス　選手名簿'!C114","v":0},{"$f":"'ダブルス　選手名簿'!D114","v":0}]
[21113,{"$f":"'ダブルス　選手名簿'!B115","v":0},{"$f":"'ダブルス　選手名簿'!C115","v":0},{"$f":"'ダブルス　選手名簿'!D115","v":0}]
[21114,{"$f":"'ダブルス　選手名簿'!B116","v":0},{"$f":"'ダブルス　選手名簿'!C116","v":0},{"$f":"'ダブルス　選手名簿'!D116","v":0}]
[21115,{"$f":"'ダブルス　選手名簿'!B117","v":0},{"$f":"'ダブルス　選手名簿'!C117","v":0},{"$f":"'ダブルス　選手名簿'!D117","v":0}]
[21116,{"$f":"'ダブルス　選手名簿'!B118","v":0},{"$f":"'ダブルス　選手名簿'!C118","v":0},{"$f":"'ダブルス　選手名簿'!D118","v":0}]
[21117,{"$f":"'ダブルス　選手名簿'!B119","v":0},{"$f":"'ダブルス　選手名簿'!C119","v":0},{"$f":"'ダブルス　選手名簿'!D119","v":0}]
[21118,{"$f":"'ダブルス　選手名簿'!B120","v":0},{"$f":"'ダブルス　選手名簿'!C120","v":0},{"$f":"'ダブルス　選手名簿'!D120","v":0}]
[21119,{"$f":"'ダブルス　選手名簿'!B121","v":0},{"$f":"'ダブルス　選手名簿'!C121","v":0},{"$f":"'ダブルス　選手名簿'!D121","v":0}]
[21120,{"$f":"'ダブルス　選手名簿'!B122","v":0},{"$f":"'ダブルス　選手名簿'!C122","v":0},{"$f":"'ダブルス　選手名簿'!D122","v":0}]
[21121,{"$f":"'ダブルス　選手名簿'!B123","v":0},{"$f":"'ダブルス　選手名簿'!C123","v":0},{"$f":"'ダブルス　選手名簿'!D123","v":0}]
[21122,{"$f":"'ダブルス　選手名簿'!B124","v":0},{"$f":"'ダブルス　選手名簿'!C124","v":0},{"$f":"'ダブルス　選手名簿'!D124","v":0}]
[21123,{"$f":"'ダブルス　選手名簿'!B125","v":0},{"$f":"'ダブルス　選手名簿'!C125","v":0},{"$f":"'ダブルス　選手名簿'!D125","v":0}]
[21124,{"$f":"'ダブルス　選手名簿'!B126","v":0},{"$f":"'ダブルス　選手名簿'!C126","v":0},{"$f":"'ダブルス　選手名簿'!D126","v":0}]
[21125,{"$f":"'ダブルス　選手名簿'!B127","v":0},{"$f":"'ダブルス　選手名簿'!C127","v":0},{"$f":"'ダブルス　選手名簿'!D127","v":0}]
[21126,{"$f":"'ダブルス　選手名簿'!B128","v":0},{"$f":"'ダブルス　選手名簿'!C128","v":0},{"$f":"'ダブルス　選手名簿'!D128","v":0}]
[21127,{"$f":"'ダブルス　選手名簿'!B129","v":0},{"$f":"'ダブルス　選手名簿'!C129","v":0},{"$f":"'ダブルス　選手名簿'!D129","v":0}]
[21128,{"$f":"'ダブルス　選手名簿'!B130","v":0},{"$f":"'ダブルス　選手名簿'!C130","v":0},{"$f":"'ダブルス　選手名簿'!D130","v":0}]
[21129,{"$f":"'ダブルス　選手名簿'!B131","v":0},{"$f":"'ダブルス　選手名簿'!C131","v":0},{"$f":"'ダブルス　選手名簿'!D131","v":0}]
[21130,{"$f":"'ダブルス　選手名簿'!B132","v":0},{"$f":"'ダブルス　選手名簿'!C132","v":0},{"$f":"'ダブルス　選手名簿'!D132","v":0}]
[21131,{"$f":"'ダブルス　選手名簿'!B133","v":0},{"$f":"'ダブルス　選手名簿'!C133","v":0},{"$f":"'ダブルス　選手名簿'!D133","v":0}]
[21132,{"$f":"'ダブルス　選手名簿'!B134","v":0},{"$f":"'ダブルス　選手名簿'!C134","v":0},{"$f":"'ダブルス　選手名簿'!D134","v":0}]
[21133,{"$f":"'ダブルス　選手名簿'!B135","v":0},{"$f":"'ダブルス　選手名簿'!C135","v":0},{"$f":"'ダブルス　選手名簿'!D135","v":0}]
[21134,{"$f":"'ダブルス　選手名簿'!B136","v":0},{"$f":"'ダブルス　選手名簿'!C136","v":0},{"$f":"'ダブルス　選手名簿'!D136","v":0}]
[21135,{"$f":"'ダブルス　選手名簿'!B137","v":0},{"$f":"'ダブルス　選手名簿'!C137","v":0},{"$f":"'ダブルス　選手名簿'!D137","v":0}]
[21136,{"$f":"'ダブルス　選手名簿'!B138","v":0},{"$f":"'ダブルス　選手名簿'!C138","v":0},{"$f":"'ダブルス　選手名簿'!D138","v":0}]
[21137,{"$f":"'ダブルス　選手名簿'!B139","v":0},{"$f":"'ダブルス　選手名簿'!C139","v":0},{"$f":"'ダブルス　選手名簿'!D139","v":0}]
[21138,{"$f":"'ダブルス　選手名簿'!B140","v":0},{"$f":"'ダブルス　選手名簿'!C140","v":0},{"$f":"'ダブルス　選手名簿'!D140","v":0}]
[21139,{"$f":"'ダブルス　選手名簿'!B141","v":0},{"$f":"'ダブルス　選手名簿'!C141","v":0},{"$f":"'ダブルス　選手名簿'!D141","v":0}]
[21140,{"$f":"'ダブルス　選手名簿'!B142","v":0},{"$f":"'ダブルス　選手名簿'!C142","v":0},{"$f":"'ダブルス　選手名簿'!D142","v":0}]
[21141,{"$f":"'ダブルス　選手名簿'!B143","v":0},{"$f":"'ダブルス　選手名簿'!C143","v":0},{"$f":"'ダブルス　選手名簿'!D143","v":0}]
[21142,{"$f":"'ダブルス　選手名簿'!B144","v":0},{"$f":"'ダブルス　選手名簿'!C144","v":0},{"$f":"'ダブルス　選手名簿'!D144","v":0}]
[21143,{"$f":"'ダブルス　選手名簿'!B145","v":0},{"$f":"'ダブルス　選手名簿'!C145","v":0},{"$f":"'ダブルス　選手名簿'!D145","v":0}]
[21144,{"$f":"'ダブルス　選手名簿'!B146","v":0},{"$f":"'ダブルス　選手名簿'!C146","v":0},{"$f":"'ダブルス　選手名簿'!D146","v":0}]
[21145,{"$f":"'ダブルス　選手名簿'!B147","v":0},{"$f":"'ダブルス　選手名簿'!C147","v":0},{"$f":"'ダブルス　選手名簿'!D147","v":0}]
[21146,{"$f":"'ダブルス　選手名簿'!B148","v":0},{"$f":"'ダブルス　選手名簿'!C148","v":0},{"$f":"'ダブルス　選手名簿'!D148","v":0}]
[21147,{"$f":"'ダブルス　選手名簿'!B149","v":0},{"$f":"'ダブルス　選手名簿'!C149","v":0},{"$f":"'ダブルス　選手名簿'!D149","v":0}]
[21148,{"$f":"'ダブルス　選手名簿'!B150","v":0},{"$f":"'ダブルス　選手名簿'!C150","v":0},{"$f":"'ダブルス　選手名簿'!D150","v":0}]
[21149,{"$f":"'ダブルス　選手名簿'!B151","v":0},{"$f":"'ダブルス　選手名簿'!C151","v":0},{"$f":"'ダブルス　選手名簿'!D151","v":0}]
[21150,{"$f":"'ダブルス　選手名簿'!B152","v":0},{"$f":"'ダブルス　選手名簿'!C152","v":0},{"$f":"'ダブルス　選手名簿'!D152","v":0}]
[21151,{"$f":"'ダブルス　選手名簿'!B153","v":0},{"$f":"'ダブルス　選手名簿'!C153","v":0},{"$f":"'ダブルス　選手名簿'!D153","v":0}]
[21152,{"$f":"'ダブルス　選手名簿'!B154","v":0},{"$f":"'ダブルス　選手名簿'!C154","v":0},{"$f":"'ダブルス　選手名簿'!D154","v":0}]
[21153,{"$f":"'ダブルス　選手名簿'!B155","v":0},{"$f":"'ダブルス　選手名簿'!C155","v":0},{"$f":"'ダブルス　選手名簿'!D155","v":0}]
[21154,{"$f":"'ダブルス　選手名簿'!B156","v":0},{"$f":"'ダブルス　選手名簿'!C156","v":0},{"$f":"'ダブルス　選手名簿'!D156","v":0}]
[21155,{"$f":"'ダブルス　選手名簿'!B157","v":0},{"$f":"'ダブルス　選手名簿'!C157","v":0},{"$f":"'ダブルス　選手名簿'!D157","v":0}]
[21156,{"$f":"'ダブルス　選手名簿'!B158","v":0},{"$f":"'ダブルス　選手名簿'!C158","v":0},{"$f":"'ダブルス　選手名簿'!D158","v":0}]
[21157,{"$f":"'ダブルス　選手名簿'!B159","v":0},{"$f":"'ダブルス　選手名簿'!C159","v":0},{"$f":"'ダブルス　選手名簿'!D159","v":0}]
[21158,{"$f":"'ダブルス　選手名簿'!B160","v":0},{"$f":"'ダブルス　選手名簿'!C160","v":0},{"$f":"'ダブルス　選手名簿'!D160","v":0}]
[21159,{"$f":"'ダブルス　選手名簿'!B161","v":0},{"$f":"'ダブルス　選手名簿'!C161","v":0},{"$f":"'ダブルス　選手名簿'!D161","v":0}]
[21160,{"$f":"'ダブルス　選手名簿'!B162","v":0},{"$f":"'ダブルス　選手名簿'!C162","v":0},{"$f":"'ダブルス　選手名簿'!D162","v":0}]
[21161,{"$f":"'ダブルス　選手名簿'!B163","v":0},{"$f":"'ダブルス　選手名簿'!C163","v":0},{"$f":"'ダブルス　選手名簿'!D163","v":0}]
[21162,{"$f":"'ダブルス　選手名簿'!B164","v":0},{"$f":"'ダブルス　選手名簿'!C164","v":0},{"$f":"'ダブルス　選手名簿'!D164","v":0}]
[21163,{"$f":"'ダブルス　選手名簿'!B165","v":0},{"$f":"'ダブルス　選手名簿'!C165","v":0},{"$f":"'ダブルス　選手名簿'!D165","v":0}]
[21164,{"$f":"'ダブルス　選手名簿'!B166","v":0},{"$f":"'ダブルス　選手名簿'!C166","v":0},{"$f":"'ダブルス　選手名簿'!D166","v":0}]
[21165,{"$f":"'ダブルス　選手名簿'!B167","v":0},{"$f":"'ダブルス　選手名簿'!C167","v":0},{"$f":"'ダブルス　選手名簿'!D167","v":0}]
[21166,{"$f":"'ダブルス　選手名簿'!B168","v":0},{"$f":"'ダブルス　選手名簿'!C168","v":0},{"$f":"'ダブルス　選手名簿'!D168","v":0}]
[21167,{"$f":"'ダブルス　選手名簿'!B169","v":0},{"$f":"'ダブルス　選手名簿'!C169","v":0},{"$f":"'ダブルス　選手名簿'!D169","v":0}]
[21168,{"$f":"'ダブルス　選手名簿'!B170","v":0},{"$f":"'ダブルス　選手名簿'!C170","v":0},{"$f":"'ダブルス　選手名簿'!D170","v":0}]
[21169,{"$f":"'ダブルス　選手名簿'!B171","v":0},{"$f":"'ダブルス　選手名簿'!C171","v":0},{"$f":"'ダブルス　選手名簿'!D171","v":0}]
[21170,{"$f":"'ダブルス　選手名簿'!B172","v":0},{"$f":"'ダブルス　選手名簿'!C172","v":0},{"$f":"'ダブルス　選手名簿'!D172","v":0}]
[21171,{"$f":"'ダブルス　選手名簿'!B173","v":0},{"$f":"'ダブルス　選手名簿'!C173","v":0},{"$f":"'ダブルス　選手名簿'!D173","v":0}]
[21172,{"$f":"'ダブルス　選手名簿'!B174","v":0},{"$f":"'ダブルス　選手名簿'!C174","v":0},{"$f":"'ダブルス　選手名簿'!D174","v":0}]
[21173,{"$f":"'ダブルス　選手名簿'!B175","v":0},{"$f":"'ダブルス　選手名簿'!C175","v":0},{"$f":"'ダブルス　選手名簿'!D175","v":0}]
[21174,{"$f":"'ダブルス　選手名簿'!B176","v":0},{"$f":"'ダブルス　選手名簿'!C176","v":0},{"$f":"'ダブルス　選手名簿'!D176","v":0}]
[21175,{"$f":"'ダブルス　選手名簿'!B177","v":0},{"$f":"'ダブルス　選手名簿'!C177","v":0},{"$f":"'ダブルス　選手名簿'!D177","v":0}]
[21176,{"$f":"'ダブルス　選手名簿'!B178","v":0},{"$f":"'ダブルス　選手名簿'!C178","v":0},{"$f":"'ダブルス　選手名簿'!D178","v":0}]
[21177,{"$f":"'ダブルス　選手名簿'!B179","v":0},{"$f":"'ダブルス　選手名簿'!C179","v":0},{"$f":"'ダブルス　選手名簿'!D179","v":0}]
[21178,{"$f":"'ダブルス　選手名簿'!B180","v":0},{"$f":"'ダブルス　選手名簿'!C180","v":0},{"$f":"'ダブルス　選手名簿'!D180","v":0}]
[21179,{"$f":"'ダブルス　選手名簿'!B181","v":0},{"$f":"'ダブルス　選手名簿'!C181","v":0},{"$f":"'ダブルス　選手名簿'!D181","v":0}]
[21180,{"$f":"'ダブルス　選手名簿'!B182","v":0},{"$f":"'ダブルス　選手名簿'!C182","v":0},{"$f":"'ダブルス　選手名簿'!D182","v":0}]
[21181,{"$f":"'ダブルス　選手名簿'!B183","v":0},{"$f":"'ダブルス　選手名簿'!C183","v":0},{"$f":"'ダブルス　選手名簿'!D183","v":0}]
[21182,{"$f":"'ダブルス　選手名簿'!B184","v":0},{"$f":"'ダブルス　選手名簿'!C184","v":0},{"$f":"'ダブルス　選手名簿'!D184","v":0}]
[21183,{"$f":"'ダブルス　選手名簿'!B185","v":0},{"$f":"'ダブルス　選手名簿'!C185","v":0},{"$f":"'ダブルス　選手名簿'!D185","v":0}]
[21184,{"$f":"'ダブルス　選手名簿'!B186","v":0},{"$f":"'ダブルス　選手名簿'!C186","v":0},{"$f":"'ダブルス　選手名簿'!D186","v":0}]
[21185,{"$f":"'ダブルス　選手名簿'!B187","v":0},{"$f":"'ダブルス　選手名簿'!C187","v":0},{"$f":"'ダブルス　選手名簿'!D187","v":0}]
[21186,{"$f":"'ダブルス　選手名簿'!B188","v":0},{"$f":"'ダブルス　選手名簿'!C188","v":0},{"$f":"'ダブルス　選手名簿'!D188","v":0}]
[21187,{"$f":"'ダブルス　選手名簿'!B189","v":0},{"$f":"'ダブルス　選手名簿'!C189","v":0},{"$f":"'ダブルス　選手名簿'!D189","v":0}]
[21188,{"$f":"'ダブルス　選手名簿'!B190","v":0},{"$f":"'ダブルス　選手名簿'!C190","v":0},{"$f":"'ダブルス　選手名簿'!D190","v":0}]
[21189,{"$f":"'ダブルス　選手名簿'!B191","v":0},{"$f":"'ダブルス　選手名簿'!C191","v":0},{"$f":"'ダブルス　選手名簿'!D191","v":0}]
[21190,{"$f":"'ダブルス　選手名簿'!B192","v":0},{"$f":"'ダブルス　選手名簿'!C192","v":0},{"$f":"'ダブルス　選手名簿'!D192","v":0}]
[21191,{"$f":"'ダブルス　選手名簿'!B193","v":0},{"$f":"'ダブルス　選手名簿'!C193","v":0},{"$f":"'ダブルス　選手名簿'!D193","v":0}]
[21192,{"$f":"'ダブルス　選手名簿'!B194","v":0},{"$f":"'ダブルス　選手名簿'!C194","v":0},{"$f":"'ダブルス　選手名簿'!D194","v":0}]
[21193,{"$f":"'ダブルス　選手名簿'!B195","v":0},{"$f":"'ダブルス　選手名簿'!C195","v":0},{"$f":"'ダブルス　選手名簿'!D195","v":0}]
[21194,{"$f":"'ダブルス　選手名簿'!B196","v":0},{"$f":"'ダブルス　選手名簿'!C196","v":0},{"$f":"'ダブルス　選手名簿'!D196","v":0}]
[21195,{"$f":"'ダブルス　選手名簿'!B197","v":0},{"$f":"'ダブルス　選手名簿'!C197","v":0},{"$f":"'ダブルス　選手名簿'!D197","v":0}]
[21196,{"$f":"'ダブルス　選手名簿'!B198","v":0},{"$f":"'ダブルス　選手名簿'!C198","v":0},{"$f":"'ダブルス　選手名簿'!D198","v":0}]
[21197,{"$f":"'ダブルス　選手名簿'!B199","v":0},{"$f":"'ダブルス　選手名簿'!C199","v":0},{"$f":"'ダブルス　選手名簿'!D199","v":0}]
[21198,{"$f":"'ダブルス　選手名簿'!B200","v":0},{"$f":"'ダブルス　選手名簿'!C200","v":0},{"$f":"'ダブルス　選手名簿'!D200","v":0}]
[21199,{"$f":"'ダブルス　選手名簿'!B201","v":0},{"$f":"'ダブルス　選手名簿'!C201","v":0},{"$f":"'ダブルス　選手名簿'!D201","v":0}]
[21200,{"$f":"'ダブルス　選手名簿'!B202","v":0},{"$f":"'ダブルス　選手名簿'!C202","v":0},{"$f":"'ダブルス　選手名簿'!D202","v":0}]
[21201,{"$f":"'ダブルス　選手名簿'!B203","v":0},{"$f":"'ダブルス　選手名簿'!C203","v":0},{"$f":"'ダブルス　選手名簿'!D203","v":0}]
[21202,{"$f":"'ダブルス　選手名簿'!B204","v":0},{"$f":"'ダブルス　選手名簿'!C204","v":0},{"$f":"'ダブルス　選手名簿'!D204","v":0}]
[21203,{"$f":"'ダブルス　選手名簿'!B205","v":0},{"$f":"'ダブルス　選手名簿'!C205","v":0},{"$f":"'ダブルス　選手名簿'!D205","v":0}]
[21204,{"$f":"'ダブルス　選手名簿'!B206","v":0},{"$f":"'ダブルス　選手名簿'!C206","v":0},{"$f":"'ダブルス　選手名簿'!D206","v":0}]
[21205,{"$f":"'ダブルス　選手名簿'!B207","v":0},{"$f":"'ダブルス　選手名簿'!C207","v":0},{"$f":"'ダブルス　選手名簿'!D207","v":0}]
[21206,{"$f":"'ダブルス　選手名簿'!B208","v":0},{"$f":"'ダブルス　選手名簿'!C208","v":0},{"$f":"'ダブルス　選手名簿'!D208","v":0}]
[21207,{"$f":"'ダブルス　選手名簿'!B209","v":0},{"$f":"'ダブルス　選手名簿'!C209","v":0},{"$f":"'ダブルス　選手名簿'!D209","v":0}]
[21208,{"$f":"'ダブルス　選手名簿'!B210","v":0},{"$f":"'ダブルス　選手名簿'!C210","v":0},{"$f":"'ダブルス　選手名簿'!D210","v":0}]
[21209,{"$f":"'ダブルス　選手名簿'!B211","v":0},{"$f":"'ダブルス　選手名簿'!C211","v":0},{"$f":"'ダブルス　選手名簿'!D211","v":0}]
[21210,{"$f":"'ダブルス　選手名簿'!B212","v":0},{"$f":"'ダブルス　選手名簿'!C212","v":0},{"$f":"'ダブルス　選手名簿'!D212","v":0}]
[21211,{"$f":"'ダブルス　選手名簿'!B213","v":0},{"$f":"'ダブルス　選手名簿'!C213","v":0},{"$f":"'ダブルス　選手名簿'!D213","v":0}]
[21212,{"$f":"'ダブルス　選手名簿'!B214","v":0},{"$f":"'ダブルス　選手名簿'!C214","v":0},{"$f":"'ダブルス　選手名簿'!D214","v":0}]
[21213,{"$f":"'ダブルス　選手名簿'!B215","v":0},{"$f":"'ダブルス　選手名簿'!C215","v":0},{"$f":"'ダブルス　選手名簿'!D215","v":0}]
[21214,{"$f":"'ダブルス　選手名簿'!B216","v":0},{"$f":"'ダブルス　選手名簿'!C216","v":0},{"$f":"'ダブルス　選手名簿'!D216","v":0}]
[21215,{"$f":"'ダブルス　選手名簿'!B217","v":0},{"$f":"'ダブルス　選手名簿'!C217","v":0},{"$f":"'ダブルス　選手名簿'!D217","v":0}]
[21216,{"$f":"'ダブルス　選手名簿'!B218","v":0},{"$f":"'ダブルス　選手名簿'!C218","v":0},{"$f":"'ダブルス　選手名簿'!D218","v":0}]
[21217,{"$f":"'ダブルス　選手名簿'!B219","v":0},{"$f":"'ダブルス　選手名簿'!C219","v":0},{"$f":"'ダブルス　選手名簿'!D219","v":0}]
[21218,{"$f":"'ダブルス　選手名簿'!B220","v":0},{"$f":"'ダブルス　選手名簿'!C220","v":0},{"$f":"'ダブルス　選手名簿'!D220","v":0}]
[21219,{"$f":"'ダブルス　選手名簿'!B221","v":0},{"$f":"'ダブルス　選手名簿'!C221","v":0},{"$f":"'ダブルス　選手名簿'!D221","v":0}]
[21220,{"$f":"'ダブルス　選手名簿'!B222","v":0},{"$f":"'ダブルス　選手名簿'!C222","v":0},{"$f":"'ダブルス　選手名簿'!D222","v":0}]
[21221,{"$f":"'ダブルス　選手名簿'!B223","v":0},{"$f":"'ダブルス　選手名簿'!C223","v":0},{"$f":"'ダブルス　選手名簿'!D223","v":0}]
[21222,{"$f":"'ダブルス　選手名簿'!B224","v":0},{"$f":"'ダブルス　選手名簿'!C224","v":0},{"$f":"'ダブルス　選手名簿'!D224","v":0}]
[21223,{"$f":"'ダブルス　選手名簿'!B225","v":0},{"$f":"'ダブルス　選手名簿'!C225","v":0},{"$f":"'ダブルス　選手名簿'!D225","v":0}]
[21224,{"$f":"'ダブルス　選手名簿'!B226","v":0},{"$f":"'ダブルス　選手名簿'!C226","v":0},{"$f":"'ダブルス　選手名簿'!D226","v":0}]
[21225,{"$f":"'ダブルス　選手名簿'!B227","v":0},{"$f":"'ダブルス　選手名簿'!C227","v":0},{"$f":"'ダブルス　選手名簿'!D227","v":0}]
[21226,{"$f":"'ダブルス　選手名簿'!B228","v":0},{"$f":"'ダブルス　選手名簿'!C228","v":0},{"$f":"'ダブルス　選手名簿'!D228","v":0}]
[21227,{"$f":"'ダブルス　選手名簿'!B229","v":0},{"$f":"'ダブルス　選手名簿'!C229","v":0},{"$f":"'ダブルス　選手名簿'!D229","v":0}]
[21228,{"$f":"'ダブルス　選手名簿'!B230","v":0},{"$f":"'ダブルス　選手名簿'!C230","v":0},{"$f":"'ダブルス　選手名簿'!D230","v":0}]
[21229,{"$f":"'ダブルス　選手名簿'!B231","v":0},{"$f":"'ダブルス　選手名簿'!C231","v":0},{"$f":"'ダブルス　選手名簿'!D231","v":0}]
[21230,{"$f":"'ダブルス　選手名簿'!B232","v":0},{"$f":"'ダブルス　選手名簿'!C232","v":0},{"$f":"'ダブルス　選手名簿'!D232","v":0}]
[21231,{"$f":"'ダブルス　選手名簿'!B233","v":0},{"$f":"'ダブルス　選手名簿'!C233","v":0},{"$f":"'ダブルス　選手名簿'!D233","v":0}]
[21232,{"$f":"'ダブルス　選手名簿'!B234","v":0},{"$f":"'ダブルス　選手名簿'!C234","v":0},{"$f":"'ダブルス　選手名簿'!D234","v":0}]
[21233,{"$f":"'ダブルス　選手名簿'!B235","v":0},{"$f":"'ダブルス　選手名簿'!C235","v":0},{"$f":"'ダブルス　選手名簿'!D235","v":0}]
[21234,{"$f":"'ダブルス　選手名簿'!B236","v":0},{"$f":"'ダブルス　選手名簿'!C236","v":0},{"$f":"'ダブルス　選手名簿'!D236","v":0}]
[21235,{"$f":"'ダブルス　選手名簿'!B237","v":0},{"$f":"'ダブルス　選手名簿'!C237","v":0},{"$f":"'ダブルス　選手名簿'!D237","v":0}]
[21236,{"$f":"'ダブルス　選手名簿'!B238","v":0},{"$f":"'ダブルス　選手名簿'!C238","v":0},{"$f":"'ダブルス　選手名簿'!D238","v":0}]
[21237,{"$f":"'ダブルス　選手名簿'!B239","v":0},{"$f":"'ダブルス　選手名簿'!C239","v":0},{"$f":"'ダブルス　選手名簿'!D239","v":0}]
[21238,{"$f":"'ダブルス　選手名簿'!B240","v":0},{"$f":"'ダブルス　選手名簿'!C240","v":0},{"$f":"'ダブルス　選手名簿'!D240","v":0}]
[21239,{"$f":"'ダブルス　選手名簿'!B241","v":0},{"$f":"'ダブルス　選手名簿'!C241","v":0},{"$f":"'ダブルス　選手名簿'!D241","v":0}]
[21240,{"$f":"'ダブルス　選手名簿'!B242","v":0},{"$f":"'ダブルス　選手名簿'!C242","v":0},{"$f":"'ダブルス　選手名簿'!D242","v":0}]
[21241,{"$f":"'ダブルス　選手名簿'!B243","v":0},{"$f":"'ダブルス　選手名簿'!C243","v":0},{"$f":"'ダブルス　選手名簿'!D243","v":0}]
[21242,{"$f":"'ダブルス　選手名簿'!B244","v":0},{"$f":"'ダブルス　選手名簿'!C244","v":0},{"$f":"'ダブルス　選手名簿'!D244","v":0}]
[21243,{"$f":"'ダブルス　選手名簿'!B245","v":0},{"$f":"'ダブルス　選手名簿'!C245","v":0},{"$f":"'ダブルス　選手名簿'!D245","v":0}]
[21244,{"$f":"'ダブルス　選手名簿'!B246","v":0},{"$f":"'ダブルス　選手名簿'!C246","v":0},{"$f":"'ダブルス　選手名簿'!D246","v":0}]
[21245,{"$f":"'ダブルス　選手名簿'!B247","v":0},{"$f":"'ダブルス　選手名簿'!C247","v":0},{"$f":"'ダブルス　選手名簿'!D247","v":0}]
[21246,{"$f":"'ダブルス　選手名簿'!B248","v":0},{"$f":"'ダブルス　選手名簿'!C248","v":0},{"$f":"'ダブルス　選手名簿'!D248","v":0}]
[21247,{"$f":"'ダブルス　選手名簿'!B249","v":0},{"$f":"'ダブルス　選手名簿'!C249","v":0},{"$f":"'ダブルス　選手名簿'!D249","v":0}]
[21248,{"$f":"'ダブルス　選手名簿'!B250","v":0},{"$f":"'ダブルス　選手名簿'!C250","v":0},{"$f":"'ダブルス　選手名簿'!D250","v":0}]
[21249,{"$f":"'ダブルス　選手名簿'!B251","v":0},{"$f":"'ダブルス　選手名簿'!C251","v":0},{"$f":"'ダブルス　選手名簿'!D251","v":0}]
[21250,{"$f":"'ダブルス　選手名簿'!B252","v":0},{"$f":"'ダブルス　選手名簿'!C252","v":0},{"$f":"'ダブルス　選手名簿'!D252","v":0}]
[21251,{"$f":"'ダブルス　選手名簿'!B253","v":0},{"$f":"'ダブルス　選手名簿'!C253","v":0},{"$f":"'ダブルス　選手名簿'!D253","v":0}]
[21252,{"$f":"'ダブルス　選手名簿'!B254","v":0},{"$f":"'ダブルス　選手名簿'!C254","v":0},{"$f":"'ダブルス　選手名簿'!D254","v":0}]
[21253,{"$f":"'ダブルス　選手名簿'!B255","v":0},{"$f":"'ダブルス　選手名簿'!C255","v":0},{"$f":"'ダブルス　選手名簿'!D255","v":0}]
[21254,{"$f":"'ダブルス　選手名簿'!B256","v":0},{"$f":"'ダブルス　選手名簿'!C256","v":0},{"$f":"'ダブルス　選手名簿'!D256","v":0}]
[21255,{"$f":"'ダブルス　選手名簿'!B257","v":0},{"$f":"'ダブルス　選手名簿'!C257","v":0},{"$f":"'ダブルス　選手名簿'!D257","v":0}]
[21256,{"$f":"'ダブルス　選手名簿'!B258","v":0},{"$f":"'ダブルス　選手名簿'!C258","v":0},{"$f":"'ダブルス　選手名簿'!D258","v":0}]
[21257,{"$f":"'ダブルス　選手名簿'!B259","v":0},{"$f":"'ダブルス　選手名簿'!C259","v":0},{"$f":"'ダブルス　選手名簿'!D259","v":0}]
[21258,{"$f":"'ダブルス　選手名簿'!B260","v":0},{"$f":"'ダブルス　選手名簿'!C260","v":0},{"$f":"'ダブルス　選手名簿'!D260","v":0}]
[21259,{"$f":"'ダブルス　選手名簿'!B261","v":0},{"$f":"'ダブルス　選手名簿'!C261","v":0},{"$f":"'ダブルス　選手名簿'!D261","v":0}]
[21260,{"$f":"'ダブルス　選手名簿'!B262","v":0},{"$f":"'ダブルス　選手名簿'!C262","v":0},{"$f":"'ダブルス　選手名簿'!D262","v":0}]
[21261,{"$f":"'ダブルス　選手名簿'!B263","v":0},{"$f":"'ダブルス　選手名簿'!C263","v":0},{"$f":"'ダブルス　選手名簿'!D263","v":0}]
[21262,{"$f":"'ダブルス　選手名簿'!B264","v":0},{"$f":"'ダブルス　選手名簿'!C264","v":0},{"$f":"'ダブルス　選手名簿'!D264","v":0}]
[21263,{"$f":"'ダブルス　選手名簿'!B265","v":0},{"$f":"'ダブルス　選手名簿'!C265","v":0},{"$f":"'ダブルス　選手名簿'!D265","v":0}]
[21264,{"$f":"'ダブルス　選手名簿'!B266","v":0},{"$f":"'ダブルス　選手名簿'!C266","v":0},{"$f":"'ダブルス　選手名簿'!D266","v":0}]
[21265,{"$f":"'ダブルス　選手名簿'!B267","v":0},{"$f":"'ダブルス　選手名簿'!C267","v":0},{"$f":"'ダブルス　選手名簿'!D267","v":0}]
[21266,{"$f":"'ダブルス　選手名簿'!B268","v":0},{"$f":"'ダブルス　選手名簿'!C268","v":0},{"$f":"'ダブルス　選手名簿'!D268","v":0}]
[21267,{"$f":"'ダブルス　選手名簿'!B269","v":0},{"$f":"'ダブルス　選手名簿'!C269","v":0},{"$f":"'ダブルス　選手名簿'!D269","v":0}]
[21268,{"$f":"'ダブルス　選手名簿'!B270","v":0},{"$f":"'ダブルス　選手名簿'!C270","v":0},{"$f":"'ダブルス　選手名簿'!D270","v":0}]
[21269,{"$f":"'ダブルス　選手名簿'!B271","v":0},{"$f":"'ダブルス　選手名簿'!C271","v":0},{"$f":"'ダブルス　選手名簿'!D271","v":0}]
[21270,{"$f":"'ダブルス　選手名簿'!B272","v":0},{"$f":"'ダブルス　選手名簿'!C272","v":0},{"$f":"'ダブルス　選手名簿'!D272","v":0}]
[21271,{"$f":"'ダブルス　選手名簿'!B273","v":0},{"$f":"'ダブルス　選手名簿'!C273","v":0},{"$f":"'ダブルス　選手名簿'!D273","v":0}]
[21272,{"$f":"'ダブルス　選手名簿'!B274","v":0},{"$f":"'ダブルス　選手名簿'!C274","v":0},{"$f":"'ダブルス　選手名簿'!D274","v":0}]
[21273,{"$f":"'ダブルス　選手名簿'!B275","v":0},{"$f":"'ダブルス　選手名簿'!C275","v":0},{"$f":"'ダブルス　選手名簿'!D275","v":0}]
[21274,{"$f":"'ダブルス　選手名簿'!B276","v":0},{"$f":"'ダブルス　選手名簿'!C276","v":0},{"$f":"'ダブルス　選手名簿'!D276","v":0}]
[21275,{"$f":"'ダブルス　選手名簿'!B277","v":0},{"$f":"'ダブルス　選手名簿'!C277","v":0},{"$f":"'ダブルス　選手名簿'!D277","v":0}]
[21276,{"$f":"'ダブルス　選手名簿'!B278","v":0},{"$f":"'ダブルス　選手名簿'!C278","v":0},{"$f":"'ダブルス　選手名簿'!D278","v":0}]
[21277,{"$f":"'ダブルス　選手名簿'!B279","v":0},{"$f":"'ダブルス　選手名簿'!C279","v":0},{"$f":"'ダブルス　選手名簿'!D279","v":0}]
[21278,{"$f":"'ダブルス　選手名簿'!B280","v":0},{"$f":"'ダブルス　選手名簿'!C280","v":0},{"$f":"'ダブルス　選手名簿'!D280","v":0}]
[21279,{"$f":"'ダブルス　選手名簿'!B281","v":0},{"$f":"'ダブルス　選手名簿'!C281","v":0},{"$f":"'ダブルス　選手名簿'!D281","v":0}]
[21280,{"$f":"'ダブルス　選手名簿'!B282","v":0},{"$f":"'ダブルス　選手名簿'!C282","v":0},{"$f":"'ダブルス　選手名簿'!D282","v":0}]
[21281,{"$f":"'ダブルス　選手名簿'!B283","v":0},{"$f":"'ダブルス　選手名簿'!C283","v":0},{"$f":"'ダブルス　選手名簿'!D283","v":0}]
[21282,{"$f":"'ダブルス　選手名簿'!B284","v":0},{"$f":"'ダブルス　選手名簿'!C284","v":0},{"$f":"'ダブルス　選手名簿'!D284","v":0}]
[21283,{"$f":"'ダブルス　選手名簿'!B285","v":0},{"$f":"'ダブルス　選手名簿'!C285","v":0},{"$f":"'ダブルス　選手名簿'!D285","v":0}]
[21284,{"$f":"'ダブルス　選手名簿'!B286","v":0},{"$f":"'ダブルス　選手名簿'!C286","v":0},{"$f":"'ダブルス　選手名簿'!D286","v":0}]
[21285,{"$f":"'ダブルス　選手名簿'!B287","v":0},{"$f":"'ダブルス　選手名簿'!C287","v":0},{"$f":"'ダブルス　選手名簿'!D287","v":0}]
[21286,{"$f":"'ダブルス　選手名簿'!B288","v":0},{"$f":"'ダブルス　選手名簿'!C288","v":0},{"$f":"'ダブルス　選手名簿'!D288","v":0}]
[21287,{"$f":"'ダブルス　選手名簿'!B289","v":0},{"$f":"'ダブルス　選手名簿'!C289","v":0},{"$f":"'ダブルス　選手名簿'!D289","v":0}]
[21288,{"$f":"'ダブルス　選手名簿'!B290","v":0},{"$f":"'ダブルス　選手名簿'!C290","v":0},{"$f":"'ダブルス　選手名簿'!D290","v":0}]
[21289,{"$f":"'ダブルス　選手名簿'!B291","v":0},{"$f":"'ダブルス　選手名簿'!C291","v":0},{"$f":"'ダブルス　選手名簿'!D291","v":0}]
[21290,{"$f":"'ダブルス　選手名簿'!B292","v":0},{"$f":"'ダブルス　選手名簿'!C292","v":0},{"$f":"'ダブルス　選手名簿'!D292","v":0}]
[21291,{"$f":"'ダブルス　選手名簿'!B293","v":0},{"$f":"'ダブルス　選手名簿'!C293","v":0},{"$f":"'ダブルス　選手名簿'!D293","v":0}]
[21292,{"$f":"'ダブルス　選手名簿'!B294","v":0},{"$f":"'ダブルス　選手名簿'!C294","v":0},{"$f":"'ダブルス　選手名簿'!D294","v":0}]
[21293,{"$f":"'ダブルス　選手名簿'!B295","v":0},{"$f":"'ダブルス　選手名簿'!C295","v":0},{"$f":"'ダブルス　選手名簿'!D295","v":0}]
[21294,{"$f":"'ダブルス　選手名簿'!B296","v":0},{"$f":"'ダブルス　選手名簿'!C296","v":0},{"$f":"'ダブルス　選手名簿'!D296","v":0}]
[21295,{"$f":"'ダブルス　選手名簿'!B297","v":0},{"$f":"'ダブルス　選手名簿'!C297","v":0},{"$f":"'ダブルス　選手名簿'!D297","v":0}]
[21296,{"$f":"'ダブルス　選手名簿'!B298","v":0},{"$f":"'ダブルス　選手名簿'!C298","v":0},{"$f":"'ダブルス　選手名簿'!D298","v":0}]
[21297,{"$f":"'ダブルス　選手名簿'!B299","v":0},{"$f":"'ダブルス　選手名簿'!C299","v":0},{"$f":"'ダブルス　選手名簿'!D299","v":0}]
[21298,{"$f":"'ダブルス　選手名簿'!B300","v":0},{"$f":"'ダブルス　選手名簿'!C300","v":0},{"$f":"'ダブルス　選手名簿'!D300","v":0}]
[21299,{"$f":"'ダブルス　選手名簿'!B301","v":0},{"$f":"'ダブルス　選手名簿'!C301","v":0},{"$f":"'ダブルス　選手名簿'!D301","v":0}]
[21300,{"$f":"'ダブルス　選手名簿'!B302","v":0},{"$f":"'ダブルス　選手名簿'!C302","v":0},{"$f":"'ダブルス　選手名簿'!D302","v":0}]
[21301,{"$f":"'ダブルス　選手名簿'!B303","v":0},{"$f":"'ダブルス　選手名簿'!C303","v":0},{"$f":"'ダブルス　選手名簿'!D303","v":0}]
[21302,{"$f":"'ダブルス　選手名簿'!B304","v":0},{"$f":"'ダブルス　選手名簿'!C304","v":0},{"$f":"'ダブルス　選手名簿'!D304","v":0}]
[21303,{"$f":"'ダブルス　選手名簿'!B305","v":0},{"$f":"'ダブルス　選手名簿'!C305","v":0},{"$f":"'ダブルス　選手名簿'!D305","v":0}]
[21304,{"$f":"'ダブルス　選手名簿'!B306","v":0},{"$f":"'ダブルス　選手名簿'!C306","v":0},{"$f":"'ダブルス　選手名簿'!D306","v":0}]
[21305,{"$f":"'ダブルス　選手名簿'!B307","v":0},{"$f":"'ダブルス　選手名簿'!C307","v":0},{"$f":"'ダブルス　選手名簿'!D307","v":0}]
[21306,{"$f":"'ダブルス　選手名簿'!B308","v":0},{"$f":"'ダブルス　選手名簿'!C308","v":0},{"$f":"'ダブルス　選手名簿'!D308","v":0}]
[21307,{"$f":"'ダブルス　選手名簿'!B309","v":0},{"$f":"'ダブルス　選手名簿'!C309","v":0},{"$f":"'ダブルス　選手名簿'!D309","v":0}]
[21308,{"$f":"'ダブルス　選手名簿'!B310","v":0},{"$f":"'ダブルス　選手名簿'!C310","v":0},{"$f":"'ダブルス　選手名簿'!D310","v":0}]
[21309,{"$f":"'ダブルス　選手名簿'!B311","v":0},{"$f":"'ダブルス　選手名簿'!C311","v":0},{"$f":"'ダブルス　選手名簿'!D311","v":0}]
[21310,{"$f":"'ダブルス　選手名簿'!B312","v":0},{"$f":"'ダブルス　選手名簿'!C312","v":0},{"$f":"'ダブルス　選手名簿'!D312","v":0}]
[21311,{"$f":"'ダブルス　選手名簿'!B313","v":0},{"$f":"'ダブルス　選手名簿'!C313","v":0},{"$f":"'ダブルス　選手名簿'!D313","v":0}]
[21312,{"$f":"'ダブルス　選手名簿'!B314","v":0},{"$f":"'ダブルス　選手名簿'!C314","v":0},{"$f":"'ダブルス　選手名簿'!D314","v":0}]
[21313,{"$f":"'ダブルス　選手名簿'!B315","v":0},{"$f":"'ダブルス　選手名簿'!C315","v":0},{"$f":"'ダブルス　選手名簿'!D315","v":0}]
[21314,{"$f":"'ダブルス　選手名簿'!B316","v":0},{"$f":"'ダブルス　選手名簿'!C316","v":0},{"$f":"'ダブルス　選手名簿'!D316","v":0}]
[21315,{"$f":"'ダブルス　選手名簿'!B317","v":0},{"$f":"'ダブルス　選手名簿'!C317","v":0},{"$f":"'ダブルス　選手名簿'!D317","v":0}]
[21316,{"$f":"'ダブルス　選手名簿'!B318","v":0},{"$f":"'ダブルス　選手名簿'!C318","v":0},{"$f":"'ダブルス　選手名簿'!D318","v":0}]
[21317,{"$f":"'ダブルス　選手名簿'!B319","v":0},{"$f":"'ダブルス　選手名簿'!C319","v":0},{"$f":"'ダブルス　選手名簿'!D319","v":0}]
[21318,{"$f":"'ダブルス　選手名簿'!B320","v":0},{"$f":"'ダブルス　選手名簿'!C320","v":0},{"$f":"'ダブルス　選手名簿'!D320","v":0}]
[21319,{"$f":"'ダブルス　選手名簿'!B321","v":0},{"$f":"'ダブルス　選手名簿'!C321","v":0},{"$f":"'ダブルス　選手名簿'!D321","v":0}]
[21320,{"$f":"'ダブルス　選手名簿'!B322","v":0},{"$f":"'ダブルス　選手名簿'!C322","v":0},{"$f":"'ダブルス　選手名簿'!D322","v":0}]
[21321,{"$f":"'ダブルス　選手名簿'!B323","v":0},{"$f":"'ダブルス　選手名簿'!C323","v":0},{"$f":"'ダブルス　選手名簿'!D323","v":0}]
[21322,{"$f":"'ダブルス　選手名簿'!B324","v":0},{"$f":"'ダブルス　選手名簿'!C324","v":0},{"$f":"'ダブルス　選手名簿'!D324","v":0}]
[21323,{"$f":"'ダブルス　選手名簿'!B325","v":0},{"$f":"'ダブルス　選手名簿'!C325","v":0},{"$f":"'ダブルス　選手名簿'!D325","v":0}]
[21324,{"$f":"'ダブルス　選手名簿'!B326","v":0},{"$f":"'ダブルス　選手名簿'!C326","v":0},{"$f":"'ダブルス　選手名簿'!D326","v":0}]
[21325,{"$f":"'ダブルス　選手名簿'!B327","v":0},{"$f":"'ダブルス　選手名簿'!C327","v":0},{"$f":"'ダブルス　選手名簿'!D327","v":0}]
[21326,{"$f":"'ダブルス　選手名簿'!B328","v":0},{"$f":"'ダブルス　選手名簿'!C328","v":0},{"$f":"'ダブルス　選手名簿'!D328","v":0}]
[21327,{"$f":"'ダブルス　選手名簿'!B329","v":0},{"$f":"'ダブルス　選手名簿'!C329","v":0},{"$f":"'ダブルス　選手名簿'!D329","v":0}]
[21328,{"$f":"'ダブルス　選手名簿'!B330","v":0},{"$f":"'ダブルス　選手名簿'!C330","v":0},{"$f":"'ダブルス　選手名簿'!D330","v":0}]
[21329,{"$f":"'ダブルス　選手名簿'!B331","v":0},{"$f":"'ダブルス　選手名簿'!C331","v":0},{"$f":"'ダブルス　選手名簿'!D331","v":0}]
[21330,{"$f":"'ダブルス　選手名簿'!B332","v":0},{"$f":"'ダブルス　選手名簿'!C332","v":0},{"$f":"'ダブルス　選手名簿'!D332","v":0}]
[21331,{"$f":"'ダブルス　選手名簿'!B333","v":0},{"$f":"'ダブルス　選手名簿'!C333","v":0},{"$f":"'ダブルス　選手名簿'!D333","v":0}]
[21332,{"$f":"'ダブルス　選手名簿'!B334","v":0},{"$f":"'ダブルス　選手名簿'!C334","v":0},{"$f":"'ダブルス　選手名簿'!D334","v":0}]
[21333,{"$f":"'ダブルス　選手名簿'!B335","v":0},{"$f":"'ダブルス　選手名簿'!C335","v":0},{"$f":"'ダブルス　選手名簿'!D335","v":0}]
[21334,{"$f":"'ダブルス　選手名簿'!B336","v":0},{"$f":"'ダブルス　選手名簿'!C336","v":0},{"$f":"'ダブルス　選手名簿'!D336","v":0}]
[21335,{"$f":"'ダブルス　選手名簿'!B337","v":0},{"$f":"'ダブルス　選手名簿'!C337","v":0},{"$f":"'ダブルス　選手名簿'!D337","v":0}]
[21336,{"$f":"'ダブルス　選手名簿'!B338","v":0},{"$f":"'ダブルス　選手名簿'!C338","v":0},{"$f":"'ダブルス　選手名簿'!D338","v":0}]
[21337,{"$f":"'ダブルス　選手名簿'!B339","v":0},{"$f":"'ダブルス　選手名簿'!C339","v":0},{"$f":"'ダブルス　選手名簿'!D339","v":0}]
[21338,{"$f":"'ダブルス　選手名簿'!B340","v":0},{"$f":"'ダブルス　選手名簿'!C340","v":0},{"$f":"'ダブルス　選手名簿'!D340","v":0}]
[21339,{"$f":"'ダブルス　選手名簿'!B341","v":0},{"$f":"'ダブルス　選手名簿'!C341","v":0},{"$f":"'ダブルス　選手名簿'!D341","v":0}]
[21340,{"$f":"'ダブルス　選手名簿'!B342","v":0},{"$f":"'ダブルス　選手名簿'!C342","v":0},{"$f":"'ダブルス　選手名簿'!D342","v":0}]
[21341,{"$f":"'ダブルス　選手名簿'!B343","v":0},{"$f":"'ダブルス　選手名簿'!C343","v":0},{"$f":"'ダブルス　選手名簿'!D343","v":0}]
[21342,{"$f":"'ダブルス　選手名簿'!B344","v":0},{"$f":"'ダブルス　選手名簿'!C344","v":0},{"$f":"'ダブルス　選手名簿'!D344","v":0}]
[21343,{"$f":"'ダブルス　選手名簿'!B345","v":0},{"$f":"'ダブルス　選手名簿'!C345","v":0},{"$f":"'ダブルス　選手名簿'!D345","v":0}]
[21344,{"$f":"'ダブルス　選手名簿'!B346","v":0},{"$f":"'ダブルス　選手名簿'!C346","v":0},{"$f":"'ダブルス　選手名簿'!D346","v":0}]
[21345,{"$f":"'ダブルス　選手名簿'!B347","v":0},{"$f":"'ダブルス　選手名簿'!C347","v":0},{"$f":"'ダブルス　選手名簿'!D347","v":0}]
[21346,{"$f":"'ダブルス　選手名簿'!B348","v":0},{"$f":"'ダブルス　選手名簿'!C348","v":0},{"$f":"'ダブルス　選手名簿'!D348","v":0}]
[21347,{"$f":"'ダブルス　選手名簿'!B349","v":0},{"$f":"'ダブルス　選手名簿'!C349","v":0},{"$f":"'ダブルス　選手名簿'!D349","v":0}]
[21348,{"$f":"'ダブルス　選手名簿'!B350","v":0},{"$f":"'ダブルス　選手名簿'!C350","v":0},{"$f":"'ダブルス　選手名簿'!D350","v":0}]
[21349,{"$f":"'ダブルス　選手名簿'!B351","v":0},{"$f":"'ダブルス　選手名簿'!C351","v":0},{"$f":"'ダブルス　選手名簿'!D351","v":0}]
[21350,{"$f":"'ダブルス　選手名簿'!B352","v":0},{"$f":"'ダブルス　選手名簿'!C352","v":0},{"$f":"'ダブルス　選手名簿'!D352","v":0}]
[21351,{"$f":"'ダブルス　選手名簿'!B353","v":0},{"$f":"'ダブルス　選手名簿'!C353","v":0},{"$f":"'ダブルス　選手名簿'!D353","v":0}]
[21352,{"$f":"'ダブルス　選手名簿'!B354","v":0},{"$f":"'ダブルス　選手名簿'!C354","v":0},{"$f":"'ダブルス　選手名簿'!D354","v":0}]
[21353,{"$f":"'ダブルス　選手名簿'!B355","v":0},{"$f":"'ダブルス　選手名簿'!C355","v":0},{"$f":"'ダブルス　選手名簿'!D355","v":0}]
[21354,{"$f":"'ダブルス　選手名簿'!B356","v":0},{"$f":"'ダブルス　選手名簿'!C356","v":0},{"$f":"'ダブルス　選手名簿'!D356","v":0}]
[21355,{"$f":"'ダブルス　選手名簿'!B357","v":0},{"$f":"'ダブルス　選手名簿'!C357","v":0},{"$f":"'ダブルス　選手名簿'!D357","v":0}]
[21356,{"$f":"'ダブルス　選手名簿'!B358","v":0},{"$f":"'ダブルス　選手名簿'!C358","v":0},{"$f":"'ダブルス　選手名簿'!D358","v":0}]
[21357,{"$f":"'ダブルス　選手名簿'!B359","v":0},{"$f":"'ダブルス　選手名簿'!C359","v":0},{"$f":"'ダブルス　選手名簿'!D359","v":0}]
[21358,{"$f":"'ダブルス　選手名簿'!B360","v":0},{"$f":"'ダブルス　選手名簿'!C360","v":0},{"$f":"'ダブルス　選手名簿'!D360","v":0}]
[21359,{"$f":"'ダブルス　選手名簿'!B361","v":0},{"$f":"'ダブルス　選手名簿'!C361","v":0},{"$f":"'ダブルス　選手名簿'!D361","v":0}]
[21360,{"$f":"'ダブルス　選手名簿'!B362","v":0},{"$f":"'ダブルス　選手名簿'!C362","v":0},{"$f":"'ダブルス　選手名簿'!D362","v":0}]
[21361,{"$f":"'ダブルス　選手名簿'!B363","v":0},{"$f":"'ダブルス　選手名簿'!C363","v":0},{"$f":"'ダブルス　選手名簿'!D363","v":0}]
[21362,{"$f":"'ダブルス　選手名簿'!B364","v":0},{"$f":"'ダブルス　選手名簿'!C364","v":0},{"$f":"'ダブルス　選手名簿'!D364","v":0}]
[21363,{"$f":"'ダブルス　選手名簿'!B365","v":0},{"$f":"'ダブルス　選手名簿'!C365","v":0},{"$f":"'ダブルス　選手名簿'!D365","v":0}]
[21364,{"$f":"'ダブルス　選手名簿'!B366","v":0},{"$f":"'ダブルス　選手名簿'!C366","v":0},{"$f":"'ダブルス　選手名簿'!D366","v":0}]
[21365,{"$f":"'ダブルス　選手名簿'!B367","v":0},{"$f":"'ダブルス　選手名簿'!C367","v":0},{"$f":"'ダブルス　選手名簿'!D367","v":0}]
[21366,{"$f":"'ダブルス　選手名簿'!B368","v":0},{"$f":"'ダブルス　選手名簿'!C368","v":0},{"$f":"'ダブルス　選手名簿'!D368","v":0}]
[21367,{"$f":"'ダブルス　選手名簿'!B369","v":0},{"$f":"'ダブルス　選手名簿'!C369","v":0},{"$f":"'ダブルス　選手名簿'!D369","v":0}]
[21368,{"$f":"'ダブルス　選手名簿'!B370","v":0},{"$f":"'ダブルス　選手名簿'!C370","v":0},{"$f":"'ダブルス　選手名簿'!D370","v":0}]
[21369,{"$f":"'ダブルス　選手名簿'!B371","v":0},{"$f":"'ダブルス　選手名簿'!C371","v":0},{"$f":"'ダブルス　選手名簿'!D371","v":0}]
[21370,{"$f":"'ダブルス　選手名簿'!B372","v":0},{"$f":"'ダブルス　選手名簿'!C372","v":0},{"$f":"'ダブルス　選手名簿'!D372","v":0}]
[21371,{"$f":"'ダブルス　選手名簿'!B373","v":0},{"$f":"'ダブルス　選手名簿'!C373","v":0},{"$f":"'ダブルス　選手名簿'!D373","v":0}]
[21372,{"$f":"'ダブルス　選手名簿'!B374","v":0},{"$f":"'ダブルス　選手名簿'!C374","v":0},{"$f":"'ダブルス　選手名簿'!D374","v":0}]
[21373,{"$f":"'ダブルス　選手名簿'!B375","v":0},{"$f":"'ダブルス　選手名簿'!C375","v":0},{"$f":"'ダブルス　選手名簿'!D375","v":0}]
[21374,{"$f":"'ダブルス　選手名簿'!B376","v":0},{"$f":"'ダブルス　選手名簿'!C376","v":0},{"$f":"'ダブルス　選手名簿'!D376","v":0}]
[21375,{"$f":"'ダブルス　選手名簿'!B377","v":0},{"$f":"'ダブルス　選手名簿'!C377","v":0},{"$f":"'ダブルス　選手名簿'!D377","v":0}]
[21376,{"$f":"'ダブルス　選手名簿'!B378","v":0},{"$f":"'ダブルス　選手名簿'!C378","v":0},{"$f":"'ダブルス　選手名簿'!D378","v":0}]
[21377,{"$f":"'ダブルス　選手名簿'!B379","v":0},{"$f":"'ダブルス　選手名簿'!C379","v":0},{"$f":"'ダブルス　選手名簿'!D379","v":0}]
[21378,{"$f":"'ダブルス　選手名簿'!B380","v":0},{"$f":"'ダブルス　選手名簿'!C380","v":0},{"$f":"'ダブルス　選手名簿'!D380","v":0}]
[21379,{"$f":"'ダブルス　選手名簿'!B381","v":0},{"$f":"'ダブルス　選手名簿'!C381","v":0},{"$f":"'ダブルス　選手名簿'!D381","v":0}]
[21380,{"$f":"'ダブルス　選手名簿'!B382","v":0},{"$f":"'ダブルス　選手名簿'!C382","v":0},{"$f":"'ダブルス　選手名簿'!D382","v":0}]
[21381,{"$f":"'ダブルス　選手名簿'!B383","v":0},{"$f":"'ダブルス　選手名簿'!C383","v":0},{"$f":"'ダブルス　選手名簿'!D383","v":0}]
[21382,{"$f":"'ダブルス　選手名簿'!B384","v":0},{"$f":"'ダブルス　選手名簿'!C384","v":0},{"$f":"'ダブルス　選手名簿'!D384","v":0}]
[21383,{"$f":"'ダブルス　選手名簿'!B385","v":0},{"$f":"'ダブルス　選手名簿'!C385","v":0},{"$f":"'ダブルス　選手名簿'!D385","v":0}]
[21384,{"$f":"'ダブルス　選手名簿'!B386","v":0},{"$f":"'ダブルス　選手名簿'!C386","v":0},{"$f":"'ダブルス　選手名簿'!D386","v":0}]
[21385,{"$f":"'ダブルス　選手名簿'!B387","v":0},{"$f":"'ダブルス　選手名簿'!C387","v":0},{"$f":"'ダブルス　選手名簿'!D387","v":0}]
[21386,{"$f":"'ダブルス　選手名簿'!B388","v":0},{"$f":"'ダブルス　選手名簿'!C388","v":0},{"$f":"'ダブルス　選手名簿'!D388","v":0}]
[21387,{"$f":"'ダブルス　選手名簿'!B389","v":0},{"$f":"'ダブルス　選手名簿'!C389","v":0},{"$f":"'ダブルス　選手名簿'!D389","v":0}]
[21388,{"$f":"'ダブルス　選手名簿'!B390","v":0},{"$f":"'ダブルス　選手名簿'!C390","v":0},{"$f":"'ダブルス　選手名簿'!D390","v":0}]
[21389,{"$f":"'ダブルス　選手名簿'!B391","v":0},{"$f":"'ダブルス　選手名簿'!C391","v":0},{"$f":"'ダブルス　選手名簿'!D391","v":0}]
[21390,{"$f":"'ダブルス　選手名簿'!B392","v":0},{"$f":"'ダブルス　選手名簿'!C392","v":0},{"$f":"'ダブルス　選手名簿'!D392","v":0}]
[21391,{"$f":"'ダブルス　選手名簿'!B393","v":0},{"$f":"'ダブルス　選手名簿'!C393","v":0},{"$f":"'ダブルス　選手名簿'!D393","v":0}]
[21392,{"$f":"'ダブルス　選手名簿'!B394","v":0},{"$f":"'ダブルス　選手名簿'!C394","v":0},{"$f":"'ダブルス　選手名簿'!D394","v":0}]
[21393,{"$f":"'ダブルス　選手名簿'!B395","v":0},{"$f":"'ダブルス　選手名簿'!C395","v":0},{"$f":"'ダブルス　選手名簿'!D395","v":0}]
[21394,{"$f":"'ダブルス　選手名簿'!B396","v":0},{"$f":"'ダブルス　選手名簿'!C396","v":0},{"$f":"'ダブルス　選手名簿'!D396","v":0}]
[21395,{"$f":"'ダブルス　選手名簿'!B397","v":0},{"$f":"'ダブルス　選手名簿'!C397","v":0},{"$f":"'ダブルス　選手名簿'!D397","v":0}]
[21396,{"$f":"'ダブルス　選手名簿'!B398","v":0},{"$f":"'ダブルス　選手名簿'!C398","v":0},{"$f":"'ダブルス　選手名簿'!D398","v":0}]
[21397,{"$f":"'ダブルス　選手名簿'!B399","v":0},{"$f":"'ダブルス　選手名簿'!C399","v":0},{"$f":"'ダブルス　選手名簿'!D399","v":0}]
[21398,{"$f":"'ダブルス　選手名簿'!B400","v":0},{"$f":"'ダブルス　選手名簿'!C400","v":0},{"$f":"'ダブルス　選手名簿'!D400","v":0}]
[21399,{"$f":"'ダブルス　選手名簿'!B401","v":0},{"$f":"'ダブルス　選手名簿'!C401","v":0},{"$f":"'ダブルス　選手名簿'!D401","v":0}]
[21400,{"$f":"'ダブルス　選手名簿'!B402","v":0},{"$f":"'ダブルス　選手名簿'!C402","v":0},{"$f":"'ダブルス　選手名簿'!D402","v":0}]
[21401,{"$f":"'ダブルス　選手名簿'!B403","v":0},{"$f":"'ダブルス　選手名簿'!C403","v":0},{"$f":"'ダブルス　選手名簿'!D403","v":0}]
[21402,{"$f":"'ダブルス　選手名簿'!B404","v":0},{"$f":"'ダブルス　選手名簿'!C404","v":0},{"$f":"'ダブルス　選手名簿'!D404","v":0}]
[21403,{"$f":"'ダブルス　選手名簿'!B405","v":0},{"$f":"'ダブルス　選手名簿'!C405","v":0},{"$f":"'ダブルス　選手名簿'!D405","v":0}]
[21404,{"$f":"'ダブルス　選手名簿'!B406","v":0},{"$f":"'ダブルス　選手名簿'!C406","v":0},{"$f":"'ダブルス　選手名簿'!D406","v":0}]
[21405,{"$f":"'ダブルス　選手名簿'!B407","v":0},{"$f":"'ダブルス　選手名簿'!C407","v":0},{"$f":"'ダブルス　選手名簿'!D407","v":0}]
[21406,{"$f":"'ダブルス　選手名簿'!B408","v":0},{"$f":"'ダブルス　選手名簿'!C408","v":0},{"$f":"'ダブルス　選手名簿'!D408","v":0}]
[21407,{"$f":"'ダブルス　選手名簿'!B409","v":0},{"$f":"'ダブルス　選手名簿'!C409","v":0},{"$f":"'ダブルス　選手名簿'!D409","v":0}]
[21408,{"$f":"'ダブルス　選手名簿'!B410","v":0},{"$f":"'ダブルス　選手名簿'!C410","v":0},{"$f":"'ダブルス　選手名簿'!D410","v":0}]
[21409,{"$f":"'ダブルス　選手名簿'!B411","v":0},{"$f":"'ダブルス　選手名簿'!C411","v":0},{"$f":"'ダブルス　選手名簿'!D411","v":0}]
[21410,{"$f":"'ダブルス　選手名簿'!B412","v":0},{"$f":"'ダブルス　選手名簿'!C412","v":0},{"$f":"'ダブルス　選手名簿'!D412","v":0}]
[21411,{"$f":"'ダブルス　選手名簿'!B413","v":0},{"$f":"'ダブルス　選手名簿'!C413","v":0},{"$f":"'ダブルス　選手名簿'!D413","v":0}]
[21412,{"$f":"'ダブルス　選手名簿'!B414","v":0},{"$f":"'ダブルス　選手名簿'!C414","v":0},{"$f":"'ダブルス　選手名簿'!D414","v":0}]
[21413,{"$f":"'ダブルス　選手名簿'!B415","v":0},{"$f":"'ダブルス　選手名簿'!C415","v":0},{"$f":"'ダブルス　選手名簿'!D415","v":0}]
[21414,{"$f":"'ダブルス　選手名簿'!B416","v":0},{"$f":"'ダブルス　選手名簿'!C416","v":0},{"$f":"'ダブルス　選手名簿'!D416","v":0}]
[21415,{"$f":"'ダブルス　選手名簿'!B417","v":0},{"$f":"'ダブルス　選手名簿'!C417","v":0},{"$f":"'ダブルス　選手名簿'!D417","v":0}]
[21416,{"$f":"'ダブルス　選手名簿'!B418","v":0},{"$f":"'ダブルス　選手名簿'!C418","v":0},{"$f":"'ダブルス　選手名簿'!D418","v":0}]
[21417,{"$f":"'ダブルス　選手名簿'!B419","v":0},{"$f":"'ダブルス　選手名簿'!C419","v":0},{"$f":"'ダブルス　選手名簿'!D419","v":0}]
[21418,{"$f":"'ダブルス　選手名簿'!B420","v":0},{"$f":"'ダブルス　選手名簿'!C420","v":0},{"$f":"'ダブルス　選手名簿'!D420","v":0}]
[21419,{"$f":"'ダブルス　選手名簿'!B421","v":0},{"$f":"'ダブルス　選手名簿'!C421","v":0},{"$f":"'ダブルス　選手名簿'!D421","v":0}]
[21420,{"$f":"'ダブルス　選手名簿'!B422","v":0},{"$f":"'ダブルス　選手名簿'!C422","v":0},{"$f":"'ダブルス　選手名簿'!D422","v":0}]
[21421,{"$f":"'ダブルス　選手名簿'!B423","v":0},{"$f":"'ダブルス　選手名簿'!C423","v":0},{"$f":"'ダブルス　選手名簿'!D423","v":0}]
[21422,{"$f":"'ダブルス　選手名簿'!B424","v":0},{"$f":"'ダブルス　選手名簿'!C424","v":0},{"$f":"'ダブルス　選手名簿'!D424","v":0}]
[21423,{"$f":"'ダブルス　選手名簿'!B425","v":0},{"$f":"'ダブルス　選手名簿'!C425","v":0},{"$f":"'ダブルス　選手名簿'!D425","v":0}]
[21424,{"$f":"'ダブルス　選手名簿'!B426","v":0},{"$f":"'ダブルス　選手名簿'!C426","v":0},{"$f":"'ダブルス　選手名簿'!D426","v":0}]
[21425,{"$f":"'ダブルス　選手名簿'!B427","v":0},{"$f":"'ダブルス　選手名簿'!C427","v":0},{"$f":"'ダブルス　選手名簿'!D427","v":0}]
[21426,{"$f":"'ダブルス　選手名簿'!B428","v":0},{"$f":"'ダブルス　選手名簿'!C428","v":0},{"$f":"'ダブルス　選手名簿'!D428","v":0}]
[21427,{"$f":"'ダブルス　選手名簿'!B429","v":0},{"$f":"'ダブルス　選手名簿'!C429","v":0},{"$f":"'ダブルス　選手名簿'!D429","v":0}]
[21428,{"$f":"'ダブルス　選手名簿'!B430","v":0},{"$f":"'ダブルス　選手名簿'!C430","v":0},{"$f":"'ダブルス　選手名簿'!D430","v":0}]
[21429,{"$f":"'ダブルス　選手名簿'!B431","v":0},{"$f":"'ダブルス　選手名簿'!C431","v":0},{"$f":"'ダブルス　選手名簿'!D431","v":0}]
[21430,{"$f":"'ダブルス　選手名簿'!B432","v":0},{"$f":"'ダブルス　選手名簿'!C432","v":0},{"$f":"'ダブルス　選手名簿'!D432","v":0}]
[21431,{"$f":"'ダブルス　選手名簿'!B433","v":0},{"$f":"'ダブルス　選手名簿'!C433","v":0},{"$f":"'ダブルス　選手名簿'!D433","v":0}]
[21432,{"$f":"'ダブルス　選手名簿'!B434","v":0},{"$f":"'ダブルス　選手名簿'!C434","v":0},{"$f":"'ダブルス　選手名簿'!D434","v":0}]
[21433,{"$f":"'ダブルス　選手名簿'!B435","v":0},{"$f":"'ダブルス　選手名簿'!C435","v":0},{"$f":"'ダブルス　選手名簿'!D435","v":0}]
[21434,{"$f":"'ダブルス　選手名簿'!B436","v":0},{"$f":"'ダブルス　選手名簿'!C436","v":0},{"$f":"'ダブルス　選手名簿'!D436","v":0}]
[21435,{"$f":"'ダブルス　選手名簿'!B437","v":0},{"$f":"'ダブルス　選手名簿'!C437","v":0},{"$f":"'ダブルス　選手名簿'!D437","v":0}]
[21436,{"$f":"'ダブルス　選手名簿'!B438","v":0},{"$f":"'ダブルス　選手名簿'!C438","v":0},{"$f":"'ダブルス　選手名簿'!D438","v":0}]
[21437,{"$f":"'ダブルス　選手名簿'!B439","v":0},{"$f":"'ダブルス　選手名簿'!C439","v":0},{"$f":"'ダブルス　選手名簿'!D439","v":0}]
[21438,{"$f":"'ダブルス　選手名簿'!B440","v":0},{"$f":"'ダブルス　選手名簿'!C440","v":0},{"$f":"'ダブルス　選手名簿'!D440","v":0}]
[21439,{"$f":"'ダブルス　選手名簿'!B441","v":0},{"$f":"'ダブルス　選手名簿'!C441","v":0},{"$f":"'ダブルス　選手名簿'!D441","v":0}]
[21440,{"$f":"'ダブルス　選手名簿'!B442","v":0},{"$f":"'ダブルス　選手名簿'!C442","v":0},{"$f":"'ダブルス　選手名簿'!D442","v":0}]
[21441,{"$f":"'ダブルス　選手名簿'!B443","v":0},{"$f":"'ダブルス　選手名簿'!C443","v":0},{"$f":"'ダブルス　選手名簿'!D443","v":0}]
[21442,{"$f":"'ダブルス　選手名簿'!B444","v":0},{"$f":"'ダブルス　選手名簿'!C444","v":0},{"$f":"'ダブルス　選手名簿'!D444","v":0}]
[21443,{"$f":"'ダブルス　選手名簿'!B445","v":0},{"$f":"'ダブルス　選手名簿'!C445","v":0},{"$f":"'ダブルス　選手名簿'!D445","v":0}]
[21444,{"$f":"'ダブルス　選手名簿'!B446","v":0},{"$f":"'ダブルス　選手名簿'!C446","v":0},{"$f":"'ダブルス　選手名簿'!D446","v":0}]
[21445,{"$f":"'ダブルス　選手名簿'!B447","v":0},{"$f":"'ダブルス　選手名簿'!C447","v":0},{"$f":"'ダブルス　選手名簿'!D447","v":0}]
[21446,{"$f":"'ダブルス　選手名簿'!B448","v":0},{"$f":"'ダブルス　選手名簿'!C448","v":0},{"$f":"'ダブルス　選手名簿'!D448","v":0}]
[21447,{"$f":"'ダブルス　選手名簿'!B449","v":0},{"$f":"'ダブルス　選手名簿'!C449","v":0},{"$f":"'ダブルス　選手名簿'!D449","v":0}]
[21448,{"$f":"'ダブルス　選手名簿'!B450","v":0},{"$f":"'ダブルス　選手名簿'!C450","v":0},{"$f":"'ダブルス　選手名簿'!D450","v":0}]
[21449,{"$f":"'ダブルス　選手名簿'!B451","v":0},{"$f":"'ダブルス　選手名簿'!C451","v":0},{"$f":"'ダブルス　選手名簿'!D451","v":0}]
[21450,{"$f":"'ダブルス　選手名簿'!B452","v":0},{"$f":"'ダブルス　選手名簿'!C452","v":0},{"$f":"'ダブルス　選手名簿'!D452","v":0}]
[21451,{"$f":"'ダブルス　選手名簿'!B453","v":0},{"$f":"'ダブルス　選手名簿'!C453","v":0},{"$f":"'ダブルス　選手名簿'!D453","v":0}]
[21452,{"$f":"'ダブルス　選手名簿'!B454","v":0},{"$f":"'ダブルス　選手名簿'!C454","v":0},{"$f":"'ダブルス　選手名簿'!D454","v":0}]
[21453,{"$f":"'ダブルス　選手名簿'!B455","v":0},{"$f":"'ダブルス　選手名簿'!C455","v":0},{"$f":"'ダブルス　選手名簿'!D455","v":0}]
[21454,{"$f":"'ダブルス　選手名簿'!B456","v":0},{"$f":"'ダブルス　選手名簿'!C456","v":0},{"$f":"'ダブルス　選手名簿'!D456","v":0}]
[21455,{"$f":"'ダブルス　選手名簿'!B457","v":0},{"$f":"'ダブルス　選手名簿'!C457","v":0},{"$f":"'ダブルス　選手名簿'!D457","v":0}]
[21456,{"$f":"'ダブルス　選手名簿'!B458","v":0},{"$f":"'ダブルス　選手名簿'!C458","v":0},{"$f":"'ダブルス　選手名簿'!D458","v":0}]
[21457,{"$f":"'ダブルス　選手名簿'!B459","v":0},{"$f":"'ダブルス　選手名簿'!C459","v":0},{"$f":"'ダブルス　選手名簿'!D459","v":0}]
[21458,{"$f":"'ダブルス　選手名簿'!B460","v":0},{"$f":"'ダブルス　選手名簿'!C460","v":0},{"$f":"'ダブルス　選手名簿'!D460","v":0}]
[21459,{"$f":"'ダブルス　選手名簿'!B461","v":0},{"$f":"'ダブルス　選手名簿'!C461","v":0},{"$f":"'ダブルス　選手名簿'!D461","v":0}]
[21460,{"$f":"'ダブルス　選手名簿'!B462","v":0},{"$f":"'ダブルス　選手名簿'!C462","v":0},{"$f":"'ダブルス　選手名簿'!D462","v":0}]
[21461,{"$f":"'ダブルス　選手名簿'!B463","v":0},{"$f":"'ダブルス　選手名簿'!C463","v":0},{"$f":"'ダブルス　選手名簿'!D463","v":0}]
[21462,{"$f":"'ダブルス　選手名簿'!B464","v":0},{"$f":"'ダブルス　選手名簿'!C464","v":0},{"$f":"'ダブルス　選手名簿'!D464","v":0}]
[21463,{"$f":"'ダブルス　選手名簿'!B465","v":0},{"$f":"'ダブルス　選手名簿'!C465","v":0},{"$f":"'ダブルス　選手名簿'!D465","v":0}]
[21464,{"$f":"'ダブルス　選手名簿'!B466","v":0},{"$f":"'ダブルス　選手名簿'!C466","v":0},{"$f":"'ダブルス　選手名簿'!D466","v":0}]
[21465,{"$f":"'ダブルス　選手名簿'!B467","v":0},{"$f":"'ダブルス　選手名簿'!C467","v":0},{"$f":"'ダブルス　選手名簿'!D467","v":0}]
[21466,{"$f":"'ダブルス　選手名簿'!B468","v":0},{"$f":"'ダブルス　選手名簿'!C468","v":0},{"$f":"'ダブルス　選手名簿'!D468","v":0}]
[21467,{"$f":"'ダブルス　選手名簿'!B469","v":0},{"$f":"'ダブルス　選手名簿'!C469","v":0},{"$f":"'ダブルス　選手名簿'!D469","v":0}]
[21468,{"$f":"'ダブルス　選手名簿'!B470","v":0},{"$f":"'ダブルス　選手名簿'!C470","v":0},{"$f":"'ダブルス　選手名簿'!D470","v":0}]
[21469,{"$f":"'ダブルス　選手名簿'!B471","v":0},{"$f":"'ダブルス　選手名簿'!C471","v":0},{"$f":"'ダブルス　選手名簿'!D471","v":0}]
[21470,{"$f":"'ダブルス　選手名簿'!B472","v":0},{"$f":"'ダブルス　選手名簿'!C472","v":0},{"$f":"'ダブルス　選手名簿'!D472","v":0}]
[21471,{"$f":"'ダブルス　選手名簿'!B473","v":0},{"$f":"'ダブルス　選手名簿'!C473","v":0},{"$f":"'ダブルス　選手名簿'!D473","v":0}]
[21472,{"$f":"'ダブルス　選手名簿'!B474","v":0},{"$f":"'ダブルス　選手名簿'!C474","v":0},{"$f":"'ダブルス　選手名簿'!D474","v":0}]
[21473,{"$f":"'ダブルス　選手名簿'!B475","v":0},{"$f":"'ダブルス　選手名簿'!C475","v":0},{"$f":"'ダブルス　選手名簿'!D475","v":0}]
[21474,{"$f":"'ダブルス　選手名簿'!B476","v":0},{"$f":"'ダブルス　選手名簿'!C476","v":0},{"$f":"'ダブルス　選手名簿'!D476","v":0}]
[21475,{"$f":"'ダブルス　選手名簿'!B477","v":0},{"$f":"'ダブルス　選手名簿'!C477","v":0},{"$f":"'ダブルス　選手名簿'!D477","v":0}]
[21476,{"$f":"'ダブルス　選手名簿'!B478","v":0},{"$f":"'ダブルス　選手名簿'!C478","v":0},{"$f":"'ダブルス　選手名簿'!D478","v":0}]
[21477,{"$f":"'ダブルス　選手名簿'!B479","v":0},{"$f":"'ダブルス　選手名簿'!C479","v":0},{"$f":"'ダブルス　選手名簿'!D479","v":0}]
[21478,{"$f":"'ダブルス　選手名簿'!B480","v":0},{"$f":"'ダブルス　選手名簿'!C480","v":0},{"$f":"'ダブルス　選手名簿'!D480","v":0}]
[21479,{"$f":"'ダブルス　選手名簿'!B481","v":0},{"$f":"'ダブルス　選手名簿'!C481","v":0},{"$f":"'ダブルス　選手名簿'!D481","v":0}]
[21480,{"$f":"'ダブルス　選手名簿'!B482","v":0},{"$f":"'ダブルス　選手名簿'!C482","v":0},{"$f":"'ダブルス　選手名簿'!D482","v":0}]
[21481,{"$f":"'ダブルス　選手名簿'!B483","v":0},{"$f":"'ダブルス　選手名簿'!C483","v":0},{"$f":"'ダブルス　選手名簿'!D483","v":0}]
[21482,{"$f":"'ダブルス　選手名簿'!B484","v":0},{"$f":"'ダブルス　選手名簿'!C484","v":0},{"$f":"'ダブルス　選手名簿'!D484","v":0}]
[21483,{"$f":"'ダブルス　選手名簿'!B485","v":0},{"$f":"'ダブルス　選手名簿'!C485","v":0},{"$f":"'ダブルス　選手名簿'!D485","v":0}]
[21484,{"$f":"'ダブルス　選手名簿'!B486","v":0},{"$f":"'ダブルス　選手名簿'!C486","v":0},{"$f":"'ダブルス　選手名簿'!D486","v":0}]
[21485,{"$f":"'ダブルス　選手名簿'!B487","v":0},{"$f":"'ダブルス　選手名簿'!C487","v":0},{"$f":"'ダブルス　選手名簿'!D487","v":0}]
[21486,{"$f":"'ダブルス　選手名簿'!B488","v":0},{"$f":"'ダブルス　選手名簿'!C488","v":0},{"$f":"'ダブルス　選手名簿'!D488","v":0}]
[21487,{"$f":"'ダブルス　選手名簿'!B489","v":0},{"$f":"'ダブルス　選手名簿'!C489","v":0},{"$f":"'ダブルス　選手名簿'!D489","v":0}]
[21488,{"$f":"'ダブルス　選手名簿'!B490","v":0},{"$f":"'ダブルス　選手名簿'!C490","v":0},{"$f":"'ダブルス　選手名簿'!D490","v":0}]
[21489,{"$f":"'ダブルス　選手名簿'!B491","v":0},{"$f":"'ダブルス　選手名簿'!C491","v":0},{"$f":"'ダブルス　選手名簿'!D491","v":0}]
[21490,{"$f":"'ダブルス　選手名簿'!B492","v":0},{"$f":"'ダブルス　選手名簿'!C492","v":0},{"$f":"'ダブルス　選手名簿'!D492","v":0}]
[21491,{"$f":"'ダブルス　選手名簿'!B493","v":0},{"$f":"'ダブルス　選手名簿'!C493","v":0},{"$f":"'ダブルス　選手名簿'!D493","v":0}]
[21492,{"$f":"'ダブルス　選手名簿'!B494","v":0},{"$f":"'ダブルス　選手名簿'!C494","v":0},{"$f":"'ダブルス　選手名簿'!D494","v":0}]
[21493,{"$f":"'ダブルス　選手名簿'!B495","v":0},{"$f":"'ダブルス　選手名簿'!C495","v":0},{"$f":"'ダブルス　選手名簿'!D495","v":0}]
[21494,{"$f":"'ダブルス　選手名簿'!B496","v":0},{"$f":"'ダブルス　選手名簿'!C496","v":0},{"$f":"'ダブルス　選手名簿'!D496","v":0}]
[21495,{"$f":"'ダブルス　選手名簿'!B497","v":0},{"$f":"'ダブルス　選手名簿'!C497","v":0},{"$f":"'ダブルス　選手名簿'!D497","v":0}]
[21496,{"$f":"'ダブルス　選手名簿'!B498","v":0},{"$f":"'ダブルス　選手名簿'!C498","v":0},{"$f":"'ダブルス　選手名簿'!D498","v":0}]
[21497,{"$f":"'ダブルス　選手名簿'!B499","v":0},{"$f":"'ダブルス　選手名簿'!C499","v":0},{"$f":"'ダブルス　選手名簿'!D499","v":0}]
[21498,{"$f":"'ダブルス　選手名簿'!B500","v":0},{"$f":"'ダブルス　選手名簿'!C500","v":0},{"$f":"'ダブルス　選手名簿'!D500","v":0}]
[21499,{"$f":"'ダブルス　選手名簿'!B501","v":0},{"$f":"'ダブルス　選手名簿'!C501","v":0},{"$f":"'ダブルス　選手名簿'!D501","v":0}]
[21500,{"$f":"'ダブルス　選手名簿'!B502","v":0},{"$f":"'ダブルス　選手名簿'!C502","v":0},{"$f":"'ダブルス　選手名簿'!D502","v":0}]
[22001,{"$f":"'ダブルス　選手名簿'!G3","v":0},{"$f":"'ダブルス　選手名簿'!H3","v":0},{"$f":"'ダブルス　選手名簿'!I3","v":0}]
[22002,{"$f":"'ダブルス　選手名簿'!G4","v":0},{"$f":"'ダブルス　選手名簿'!H4","v":0},{"$f":"'ダブルス　選手名簿'!I4","v":0}]
[22003,{"$f":"'ダブルス　選手名簿'!G5","v":0},{"$f":"'ダブルス　選手名簿'!H5","v":0},{"$f":"'ダブルス　選手名簿'!I5","v":0}]
[22004,{"$f":"'ダブルス　選手名簿'!G6","v":0},{"$f":"'ダブルス　選手名簿'!H6","v":0},{"$f":"'ダブルス　選手名簿'!I6","v":0}]
[22005,{"$f":"'ダブルス　選手名簿'!G7","v":0},{"$f":"'ダブルス　選手名簿'!H7","v":0},{"$f":"'ダブルス　選手名簿'!I7","v":0}]
[22006,{"$f":"'ダブルス　選手名簿'!G8","v":0},{"$f":"'ダブルス　選手名簿'!H8","v":0},{"$f":"'ダブルス　選手名簿'!I8","v":0}]
[22007,{"$f":"'ダブルス　選手名簿'!G9","v":0},{"$f":"'ダブルス　選手名簿'!H9","v":0},{"$f":"'ダブルス　選手名簿'!I9","v":0}]
[22008,{"$f":"'ダブルス　選手名簿'!G10","v":0},{"$f":"'ダブルス　選手名簿'!H10","v":0},{"$f":"'ダブルス　選手名簿'!I10","v":0}]
[22009,{"$f":"'ダブルス　選手名簿'!G11","v":0},{"$f":"'ダブルス　選手名簿'!H11","v":0},{"$f":"'ダブルス　選手名簿'!I11","v":0}]
[22010,{"$f":"'ダブルス　選手名簿'!G12","v":0},{"$f":"'ダブルス　選手名簿'!H12","v":0},{"$f":"'ダブルス　選手名簿'!I12","v":0}]
[22011,{"$f":"'ダブルス　選手名簿'!G13","v":0},{"$f":"'ダブルス　選手名簿'!H13","v":0},{"$f":"'ダブルス　選手名簿'!I13","v":0}]
[22012,{"$f":"'ダブルス　選手名簿'!G14","v":0},{"$f":"'ダブルス　選手名簿'!H14","v":0},{"$f":"'ダブルス　選手名簿'!I14","v":0}]
[22013,{"$f":"'ダブルス　選手名簿'!G15","v":0},{"$f":"'ダブルス　選手名簿'!H15","v":0},{"$f":"'ダブルス　選手名簿'!I15","v":0}]
[22014,{"$f":"'ダブルス　選手名簿'!G16","v":0},{"$f":"'ダブルス　選手名簿'!H16","v":0},{"$f":"'ダブルス　選手名簿'!I16","v":0}]
[22015,{"$f":"'ダブルス　選手名簿'!G17","v":0},{"$f":"'ダブルス　選手名簿'!H17","v":0},{"$f":"'ダブルス　選手名簿'!I17","v":0}]
[22016,{"$f":"'ダブルス　選手名簿'!G18","v":0},{"$f":"'ダブルス　選手名簿'!H18","v":0},{"$f":"'ダブルス　選手名簿'!I18","v":0}]
[22017,{"$f":"'ダブルス　選手名簿'!G19","v":0},{"$f":"'ダブルス　選手名簿'!H19","v":0},{"$f":"'ダブルス　選手名簿'!I19","v":0}]
[22018,{"$f":"'ダブルス　選手名簿'!G20","v":0},{"$f":"'ダブルス　選手名簿'!H20","v":0},{"$f":"'ダブルス　選手名簿'!I20","v":0}]
[22019,{"$f":"'ダブルス　選手名簿'!G21","v":0},{"$f":"'ダブルス　選手名簿'!H21","v":0},{"$f":"'ダブルス　選手名簿'!I21","v":0}]
[22020,{"$f":"'ダブルス　選手名簿'!G22","v":0},{"$f":"'ダブルス　選手名簿'!H22","v":0},{"$f":"'ダブルス　選手名簿'!I22","v":0}]
[22021,{"$f":"'ダブルス　選手名簿'!G23","v":0},{"$f":"'ダブルス　選手名簿'!H23","v":0},{"$f":"'ダブルス　選手名簿'!I23","v":0}]
[22022,{"$f":"'ダブルス　選手名簿'!G24","v":0},{"$f":"'ダブルス　選手名簿'!H24","v":0},{"$f":"'ダブルス　選手名簿'!I24","v":0}]
[22023,{"$f":"'ダブルス　選手名簿'!G25","v":0},{"$f":"'ダブルス　選手名簿'!H25","v":0},{"$f":"'ダブルス　選手名簿'!I25","v":0}]
[22024,{"$f":"'ダブルス　選手名簿'!G26","v":0},{"$f":"'ダブルス　選手名簿'!H26","v":0},{"$f":"'ダブルス　選手名簿'!I26","v":0}]
[22025,{"$f":"'ダブルス　選手名簿'!G27","v":0},{"$f":"'ダブルス　選手名簿'!H27","v":0},{"$f":"'ダブルス　選手名簿'!I27","v":0}]
[22026,{"$f":"'ダブルス　選手名簿'!G28","v":0},{"$f":"'ダブルス　選手名簿'!H28","v":0},{"$f":"'ダブルス　選手名簿'!I28","v":0}]
[22027,{"$f":"'ダブルス　選手名簿'!G29","v":0},{"$f":"'ダブルス　選手名簿'!H29","v":0},{"$f":"'ダブルス　選手名簿'!I29","v":0}]
[22028,{"$f":"'ダブルス　選手名簿'!G30","v":0},{"$f":"'ダブルス　選手名簿'!H30","v":0},{"$f":"'ダブルス　選手名簿'!I30","v":0}]
[22029,{"$f":"'ダブルス　選手名簿'!G31","v":0},{"$f":"'ダブルス　選手名簿'!H31","v":0},{"$f":"'ダブルス　選手名簿'!I31","v":0}]
[22030,{"$f":"'ダブルス　選手名簿'!G32","v":0},{"$f":"'ダブルス　選手名簿'!H32","v":0},{"$f":"'ダブルス　選手名簿'!I32","v":0}]
[22031,{"$f":"'ダブルス　選手名簿'!G33","v":0},{"$f":"'ダブルス　選手名簿'!H33","v":0},{"$f":"'ダブルス　選手名簿'!I33","v":0}]
[22032,{"$f":"'ダブルス　選手名簿'!G34","v":0},{"$f":"'ダブルス　選手名簿'!H34","v":0},{"$f":"'ダブルス　選手名簿'!I34","v":0}]
[22033,{"$f":"'ダブルス　選手名簿'!G35","v":0},{"$f":"'ダブルス　選手名簿'!H35","v":0},{"$f":"'ダブルス　選手名簿'!I35","v":0}]
[22034,{"$f":"'ダブルス　選手名簿'!G36","v":0},{"$f":"'ダブルス　選手名簿'!H36","v":0},{"$f":"'ダブルス　選手名簿'!I36","v":0}]
[22035,{"$f":"'ダブルス　選手名簿'!G37","v":0},{"$f":"'ダブルス　選手名簿'!H37","v":0},{"$f":"'ダブルス　選手名簿'!I37","v":0}]
[22036,{"$f":"'ダブルス　選手名簿'!G38","v":0},{"$f":"'ダブルス　選手名簿'!H38","v":0},{"$f":"'ダブルス　選手名簿'!I38","v":0}]
[22037,{"$f":"'ダブルス　選手名簿'!G39","v":0},{"$f":"'ダブルス　選手名簿'!H39","v":0},{"$f":"'ダブルス　選手名簿'!I39","v":0}]
[22038,{"$f":"'ダブルス　選手名簿'!G40","v":0},{"$f":"'ダブルス　選手名簿'!H40","v":0},{"$f":"'ダブルス　選手名簿'!I40","v":0}]
[22039,{"$f":"'ダブルス　選手名簿'!G41","v":0},{"$f":"'ダブルス　選手名簿'!H41","v":0},{"$f":"'ダブルス　選手名簿'!I41","v":0}]
[22040,{"$f":"'ダブルス　選手名簿'!G42","v":0},{"$f":"'ダブルス　選手名簿'!H42","v":0},{"$f":"'ダブルス　選手名簿'!I42","v":0}]
[22041,{"$f":"'ダブルス　選手名簿'!G43","v":0},{"$f":"'ダブルス　選手名簿'!H43","v":0},{"$f":"'ダブルス　選手名簿'!I43","v":0}]
[22042,{"$f":"'ダブルス　選手名簿'!G44","v":0},{"$f":"'ダブルス　選手名簿'!H44","v":0},{"$f":"'ダブルス　選手名簿'!I44","v":0}]
[22043,{"$f":"'ダブルス　選手名簿'!G45","v":0},{"$f":"'ダブルス　選手名簿'!H45","v":0},{"$f":"'ダブルス　選手名簿'!I45","v":0}]
[22044,{"$f":"'ダブルス　選手名簿'!G46","v":0},{"$f":"'ダブルス　選手名簿'!H46","v":0},{"$f":"'ダブルス　選手名簿'!I46","v":0}]
[22045,{"$f":"'ダブルス　選手名簿'!G47","v":0},{"$f":"'ダブルス　選手名簿'!H47","v":0},{"$f":"'ダブルス　選手名簿'!I47","v":0}]
[22046,{"$f":"'ダブルス　選手名簿'!G48","v":0},{"$f":"'ダブルス　選手名簿'!H48","v":0},{"$f":"'ダブルス　選手名簿'!I48","v":0}]
[22047,{"$f":"'ダブルス　選手名簿'!G49","v":0},{"$f":"'ダブルス　選手名簿'!H49","v":0},{"$f":"'ダブルス　選手名簿'!I49","v":0}]
[22048,{"$f":"'ダブルス　選手名簿'!G50","v":0},{"$f":"'ダブルス　選手名簿'!H50","v":0},{"$f":"'ダブルス　選手名簿'!I50","v":0}]
[22049,{"$f":"'ダブルス　選手名簿'!G51","v":0},{"$f":"'ダブルス　選手名簿'!H51","v":0},{"$f":"'ダブルス　選手名簿'!I51","v":0}]
[22050,{"$f":"'ダブルス　選手名簿'!G52","v":0},{"$f":"'ダブルス　選手名簿'!H52","v":0},{"$f":"'ダブルス　選手名簿'!I52","v":0}]
[22051,{"$f":"'ダブルス　選手名簿'!G53","v":0},{"$f":"'ダブルス　選手名簿'!H53","v":0},{"$f":"'ダブルス　選手名簿'!I53","v":0}]
[22052,{"$f":"'ダブルス　選手名簿'!G54","v":0},{"$f":"'ダブルス　選手名簿'!H54","v":0},{"$f":"'ダブルス　選手名簿'!I54","v":0}]
[22053,{"$f":"'ダブルス　選手名簿'!G55","v":0},{"$f":"'ダブルス　選手名簿'!H55","v":0},{"$f":"'ダブルス　選手名簿'!I55","v":0}]
[22054,{"$f":"'ダブルス　選手名簿'!G56","v":0},{"$f":"'ダブルス　選手名簿'!H56","v":0},{"$f":"'ダブルス　選手名簿'!I56","v":0}]
[22055,{"$f":"'ダブルス　選手名簿'!G57","v":0},{"$f":"'ダブルス　選手名簿'!H57","v":0},{"$f":"'ダブルス　選手名簿'!I57","v":0}]
[22056,{"$f":"'ダブルス　選手名簿'!G58","v":0},{"$f":"'ダブルス　選手名簿'!H58","v":0},{"$f":"'ダブルス　選手名簿'!I58","v":0}]
[22057,{"$f":"'ダブルス　選手名簿'!G59","v":0},{"$f":"'ダブルス　選手名簿'!H59","v":0},{"$f":"'ダブルス　選手名簿'!I59","v":0}]
[22058,{"$f":"'ダブルス　選手名簿'!G60","v":0},{"$f":"'ダブルス　選手名簿'!H60","v":0},{"$f":"'ダブルス　選手名簿'!I60","v":0}]
[22059,{"$f":"'ダブルス　選手名簿'!G61","v":0},{"$f":"'ダブルス　選手名簿'!H61","v":0},{"$f":"'ダブルス　選手名簿'!I61","v":0}]
[22060,{"$f":"'ダブルス　選手名簿'!G62","v":0},{"$f":"'ダブルス　選手名簿'!H62","v":0},{"$f":"'ダブルス　選手名簿'!I62","v":0}]
[22061,{"$f":"'ダブルス　選手名簿'!G63","v":0},{"$f":"'ダブルス　選手名簿'!H63","v":0},{"$f":"'ダブルス　選手名簿'!I63","v":0}]
[22062,{"$f":"'ダブルス　選手名簿'!G64","v":0},{"$f":"'ダブルス　選手名簿'!H64","v":0},{"$f":"'ダブルス　選手名簿'!I64","v":0}]
[22063,{"$f":"'ダブルス　選手名簿'!G65","v":0},{"$f":"'ダブルス　選手名簿'!H65","v":0},{"$f":"'ダブルス　選手名簿'!I65","v":0}]
[22064,{"$f":"'ダブルス　選手名簿'!G66","v":0},{"$f":"'ダブルス　選手名簿'!H66","v":0},{"$f":"'ダブルス　選手名簿'!I66","v":0}]
[22065,{"$f":"'ダブルス　選手名簿'!G67","v":0},{"$f":"'ダブルス　選手名簿'!H67","v":0},{"$f":"'ダブルス　選手名簿'!I67","v":0}]
[22066,{"$f":"'ダブルス　選手名簿'!G68","v":0},{"$f":"'ダブルス　選手名簿'!H68","v":0},{"$f":"'ダブルス　選手名簿'!I68","v":0}]
[22067,{"$f":"'ダブルス　選手名簿'!G69","v":0},{"$f":"'ダブルス　選手名簿'!H69","v":0},{"$f":"'ダブルス　選手名簿'!I69","v":0}]
[22068,{"$f":"'ダブルス　選手名簿'!G70","v":0},{"$f":"'ダブルス　選手名簿'!H70","v":0},{"$f":"'ダブルス　選手名簿'!I70","v":0}]
[22069,{"$f":"'ダブルス　選手名簿'!G71","v":0},{"$f":"'ダブルス　選手名簿'!H71","v":0},{"$f":"'ダブルス　選手名簿'!I71","v":0}]
[22070,{"$f":"'ダブルス　選手名簿'!G72","v":0},{"$f":"'ダブルス　選手名簿'!H72","v":0},{"$f":"'ダブルス　選手名簿'!I72","v":0}]
[22071,{"$f":"'ダブルス　選手名簿'!G73","v":0},{"$f":"'ダブルス　選手名簿'!H73","v":0},{"$f":"'ダブルス　選手名簿'!I73","v":0}]
[22072,{"$f":"'ダブルス　選手名簿'!G74","v":0},{"$f":"'ダブルス　選手名簿'!H74","v":0},{"$f":"'ダブルス　選手名簿'!I74","v":0}]
[22073,{"$f":"'ダブルス　選手名簿'!G75","v":0},{"$f":"'ダブルス　選手名簿'!H75","v":0},{"$f":"'ダブルス　選手名簿'!I75","v":0}]
[22074,{"$f":"'ダブルス　選手名簿'!G76","v":0},{"$f":"'ダブルス　選手名簿'!H76","v":0},{"$f":"'ダブルス　選手名簿'!I76","v":0}]
[22075,{"$f":"'ダブルス　選手名簿'!G77","v":0},{"$f":"'ダブルス　選手名簿'!H77","v":0},{"$f":"'ダブルス　選手名簿'!I77","v":0}]
[22076,{"$f":"'ダブルス　選手名簿'!G78","v":0},{"$f":"'ダブルス　選手名簿'!H78","v":0},{"$f":"'ダブルス　選手名簿'!I78","v":0}]
[22077,{"$f":"'ダブルス　選手名簿'!G79","v":0},{"$f":"'ダブルス　選手名簿'!H79","v":0},{"$f":"'ダブルス　選手名簿'!I79","v":0}]
[22078,{"$f":"'ダブルス　選手名簿'!G80","v":0},{"$f":"'ダブルス　選手名簿'!H80","v":0},{"$f":"'ダブルス　選手名簿'!I80","v":0}]
[22079,{"$f":"'ダブルス　選手名簿'!G81","v":0},{"$f":"'ダブルス　選手名簿'!H81","v":0},{"$f":"'ダブルス　選手名簿'!I81","v":0}]
[22080,{"$f":"'ダブルス　選手名簿'!G82","v":0},{"$f":"'ダブルス　選手名簿'!H82","v":0},{"$f":"'ダブルス　選手名簿'!I82","v":0}]
[22081,{"$f":"'ダブルス　選手名簿'!G83","v":0},{"$f":"'ダブルス　選手名簿'!H83","v":0},{"$f":"'ダブルス　選手名簿'!I83","v":0}]
[22082,{"$f":"'ダブルス　選手名簿'!G84","v":0},{"$f":"'ダブルス　選手名簿'!H84","v":0},{"$f":"'ダブルス　選手名簿'!I84","v":0}]
[22083,{"$f":"'ダブルス　選手名簿'!G85","v":0},{"$f":"'ダブルス　選手名簿'!H85","v":0},{"$f":"'ダブルス　選手名簿'!I85","v":0}]
[22084,{"$f":"'ダブルス　選手名簿'!G86","v":0},{"$f":"'ダブルス　選手名簿'!H86","v":0},{"$f":"'ダブルス　選手名簿'!I86","v":0}]
[22085,{"$f":"'ダブルス　選手名簿'!G87","v":0},{"$f":"'ダブルス　選手名簿'!H87","v":0},{"$f":"'ダブルス　選手名簿'!I87","v":0}]
[22086,{"$f":"'ダブルス　選手名簿'!G88","v":0},{"$f":"'ダブルス　選手名簿'!H88","v":0},{"$f":"'ダブルス　選手名簿'!I88","v":0}]
[22087,{"$f":"'ダブルス　選手名簿'!G89","v":0},{"$f":"'ダブルス　選手名簿'!H89","v":0},{"$f":"'ダブルス　選手名簿'!I89","v":0}]
[22088,{"$f":"'ダブルス　選手名簿'!G90","v":0},{"$f":"'ダブルス　選手名簿'!H90","v":0},{"$f":"'ダブルス　選手名簿'!I90","v":0}]
[22089,{"$f":"'ダブルス　選手名簿'!G91","v":0},{"$f":"'ダブルス　選手名簿'!H91","v":0},{"$f":"'ダブルス　選手名簿'!I91","v":0}]
[22090,{"$f":"'ダブルス　選手名簿'!G92","v":0},{"$f":"'ダブルス　選手名簿'!H92","v":0},{"$f":"'ダブルス　選手名簿'!I92","v":0}]
[22091,{"$f":"'ダブルス　選手名簿'!G93","v":0},{"$f":"'ダブルス　選手名簿'!H93","v":0},{"$f":"'ダブルス　選手名簿'!I93","v":0}]
[22092,{"$f":"'ダブルス　選手名簿'!G94","v":0},{"$f":"'ダブルス　選手名簿'!H94","v":0},{"$f":"'ダブルス　選手名簿'!I94","v":0}]
[22093,{"$f":"'ダブルス　選手名簿'!G95","v":0},{"$f":"'ダブルス　選手名簿'!H95","v":0},{"$f":"'ダブルス　選手名簿'!I95","v":0}]
[22094,{"$f":"'ダブルス　選手名簿'!G96","v":0},{"$f":"'ダブルス　選手名簿'!H96","v":0},{"$f":"'ダブルス　選手名簿'!I96","v":0}]
[22095,{"$f":"'ダブルス　選手名簿'!G97","v":0},{"$f":"'ダブルス　選手名簿'!H97","v":0},{"$f":"'ダブルス　選手名簿'!I97","v":0}]
[22096,{"$f":"'ダブルス　選手名簿'!G98","v":0},{"$f":"'ダブルス　選手名簿'!H98","v":0},{"$f":"'ダブルス　選手名簿'!I98","v":0}]
[22097,{"$f":"'ダブルス　選手名簿'!G99","v":0},{"$f":"'ダブルス　選手名簿'!H99","v":0},{"$f":"'ダブルス　選手名簿'!I99","v":0}]
[22098,{"$f":"'ダブルス　選手名簿'!G100","v":0},{"$f":"'ダブルス　選手名簿'!H100","v":0},{"$f":"'ダブルス　選手名簿'!I100","v":0}]
[22099,{"$f":"'ダブルス　選手名簿'!G101","v":0},{"$f":"'ダブルス　選手名簿'!H101","v":0},{"$f":"'ダブルス　選手名簿'!I101","v":0}]
[22100,{"$f":"'ダブルス　選手名簿'!G102","v":0},{"$f":"'ダブルス　選手名簿'!H102","v":0},{"$f":"'ダブルス　選手名簿'!I102","v":0}]
[22101,{"$f":"'ダブルス　選手名簿'!G103","v":0},{"$f":"'ダブルス　選手名簿'!H103","v":0},{"$f":"'ダブルス　選手名簿'!I103","v":0}]
[22102,{"$f":"'ダブルス　選手名簿'!G104","v":0},{"$f":"'ダブルス　選手名簿'!H104","v":0},{"$f":"'ダブルス　選手名簿'!I104","v":0}]
[22103,{"$f":"'ダブルス　選手名簿'!G105","v":0},{"$f":"'ダブルス　選手名簿'!H105","v":0},{"$f":"'ダブルス　選手名簿'!I105","v":0}]
[22104,{"$f":"'ダブルス　選手名簿'!G106","v":0},{"$f":"'ダブルス　選手名簿'!H106","v":0},{"$f":"'ダブルス　選手名簿'!I106","v":0}]
[22105,{"$f":"'ダブルス　選手名簿'!G107","v":0},{"$f":"'ダブルス　選手名簿'!H107","v":0},{"$f":"'ダブルス　選手名簿'!I107","v":0}]
[22106,{"$f":"'ダブルス　選手名簿'!G108","v":0},{"$f":"'ダブルス　選手名簿'!H108","v":0},{"$f":"'ダブルス　選手名簿'!I108","v":0}]
[22107,{"$f":"'ダブルス　選手名簿'!G109","v":0},{"$f":"'ダブルス　選手名簿'!H109","v":0},{"$f":"'ダブルス　選手名簿'!I109","v":0}]
[22108,{"$f":"'ダブルス　選手名簿'!G110","v":0},{"$f":"'ダブルス　選手名簿'!H110","v":0},{"$f":"'ダブルス　選手名簿'!I110","v":0}]
[22109,{"$f":"'ダブルス　選手名簿'!G111","v":0},{"$f":"'ダブルス　選手名簿'!H111","v":0},{"$f":"'ダブルス　選手名簿'!I111","v":0}]
[22110,{"$f":"'ダブルス　選手名簿'!G112","v":0},{"$f":"'ダブルス　選手名簿'!H112","v":0},{"$f":"'ダブルス　選手名簿'!I112","v":0}]
[22111,{"$f":"'ダブルス　選手名簿'!G113","v":0},{"$f":"'ダブルス　選手名簿'!H113","v":0},{"$f":"'ダブルス　選手名簿'!I113","v":0}]
[22112,{"$f":"'ダブルス　選手名簿'!G114","v":0},{"$f":"'ダブルス　選手名簿'!H114","v":0},{"$f":"'ダブルス　選手名簿'!I114","v":0}]
[22113,{"$f":"'ダブルス　選手名簿'!G115","v":0},{"$f":"'ダブルス　選手名簿'!H115","v":0},{"$f":"'ダブルス　選手名簿'!I115","v":0}]
[22114,{"$f":"'ダブルス　選手名簿'!G116","v":0},{"$f":"'ダブルス　選手名簿'!H116","v":0},{"$f":"'ダブルス　選手名簿'!I116","v":0}]
[22115,{"$f":"'ダブルス　選手名簿'!G117","v":0},{"$f":"'ダブルス　選手名簿'!H117","v":0},{"$f":"'ダブルス　選手名簿'!I117","v":0}]
[22116,{"$f":"'ダブルス　選手名簿'!G118","v":0},{"$f":"'ダブルス　選手名簿'!H118","v":0},{"$f":"'ダブルス　選手名簿'!I118","v":0}]
[22117,{"$f":"'ダブルス　選手名簿'!G119","v":0},{"$f":"'ダブルス　選手名簿'!H119","v":0},{"$f":"'ダブルス　選手名簿'!I119","v":0}]
[22118,{"$f":"'ダブルス　選手名簿'!G120","v":0},{"$f":"'ダブルス　選手名簿'!H120","v":0},{"$f":"'ダブルス　選手名簿'!I120","v":0}]
[22119,{"$f":"'ダブルス　選手名簿'!G121","v":0},{"$f":"'ダブルス　選手名簿'!H121","v":0},{"$f":"'ダブルス　選手名簿'!I121","v":0}]
[22120,{"$f":"'ダブルス　選手名簿'!G122","v":0},{"$f":"'ダブルス　選手名簿'!H122","v":0},{"$f":"'ダブルス　選手名簿'!I122","v":0}]
[22121,{"$f":"'ダブルス　選手名簿'!G123","v":0},{"$f":"'ダブルス　選手名簿'!H123","v":0},{"$f":"'ダブルス　選手名簿'!I123","v":0}]
[22122,{"$f":"'ダブルス　選手名簿'!G124","v":0},{"$f":"'ダブルス　選手名簿'!H124","v":0},{"$f":"'ダブルス　選手名簿'!I124","v":0}]
[22123,{"$f":"'ダブルス　選手名簿'!G125","v":0},{"$f":"'ダブルス　選手名簿'!H125","v":0},{"$f":"'ダブルス　選手名簿'!I125","v":0}]
[22124,{"$f":"'ダブルス　選手名簿'!G126","v":0},{"$f":"'ダブルス　選手名簿'!H126","v":0},{"$f":"'ダブルス　選手名簿'!I126","v":0}]
[22125,{"$f":"'ダブルス　選手名簿'!G127","v":0},{"$f":"'ダブルス　選手名簿'!H127","v":0},{"$f":"'ダブルス　選手名簿'!I127","v":0}]
[22126,{"$f":"'ダブルス　選手名簿'!G128","v":0},{"$f":"'ダブルス　選手名簿'!H128","v":0},{"$f":"'ダブルス　選手名簿'!I128","v":0}]
[22127,{"$f":"'ダブルス　選手名簿'!G129","v":0},{"$f":"'ダブルス　選手名簿'!H129","v":0},{"$f":"'ダブルス　選手名簿'!I129","v":0}]
[22128,{"$f":"'ダブルス　選手名簿'!G130","v":0},{"$f":"'ダブルス　選手名簿'!H130","v":0},{"$f":"'ダブルス　選手名簿'!I130","v":0}]
[22129,{"$f":"'ダブルス　選手名簿'!G131","v":0},{"$f":"'ダブルス　選手名簿'!H131","v":0},{"$f":"'ダブルス　選手名簿'!I131","v":0}]
[22130,{"$f":"'ダブルス　選手名簿'!G132","v":0},{"$f":"'ダブルス　選手名簿'!H132","v":0},{"$f":"'ダブルス　選手名簿'!I132","v":0}]
[22131,{"$f":"'ダブルス　選手名簿'!G133","v":0},{"$f":"'ダブルス　選手名簿'!H133","v":0},{"$f":"'ダブルス　選手名簿'!I133","v":0}]
[22132,{"$f":"'ダブルス　選手名簿'!G134","v":0},{"$f":"'ダブルス　選手名簿'!H134","v":0},{"$f":"'ダブルス　選手名簿'!I134","v":0}]
[22133,{"$f":"'ダブルス　選手名簿'!G135","v":0},{"$f":"'ダブルス　選手名簿'!H135","v":0},{"$f":"'ダブルス　選手名簿'!I135","v":0}]
[22134,{"$f":"'ダブルス　選手名簿'!G136","v":0},{"$f":"'ダブルス　選手名簿'!H136","v":0},{"$f":"'ダブルス　選手名簿'!I136","v":0}]
[22135,{"$f":"'ダブルス　選手名簿'!G137","v":0},{"$f":"'ダブルス　選手名簿'!H137","v":0},{"$f":"'ダブルス　選手名簿'!I137","v":0}]
[22136,{"$f":"'ダブルス　選手名簿'!G138","v":0},{"$f":"'ダブルス　選手名簿'!H138","v":0},{"$f":"'ダブルス　選手名簿'!I138","v":0}]
[22137,{"$f":"'ダブルス　選手名簿'!G139","v":0},{"$f":"'ダブルス　選手名簿'!H139","v":0},{"$f":"'ダブルス　選手名簿'!I139","v":0}]
[22138,{"$f":"'ダブルス　選手名簿'!G140","v":0},{"$f":"'ダブルス　選手名簿'!H140","v":0},{"$f":"'ダブルス　選手名簿'!I140","v":0}]
[22139,{"$f":"'ダブルス　選手名簿'!G141","v":0},{"$f":"'ダブルス　選手名簿'!H141","v":0},{"$f":"'ダブルス　選手名簿'!I141","v":0}]
[22140,{"$f":"'ダブルス　選手名簿'!G142","v":0},{"$f":"'ダブルス　選手名簿'!H142","v":0},{"$f":"'ダブルス　選手名簿'!I142","v":0}]
[22141,{"$f":"'ダブルス　選手名簿'!G143","v":0},{"$f":"'ダブルス　選手名簿'!H143","v":0},{"$f":"'ダブルス　選手名簿'!I143","v":0}]
[22142,{"$f":"'ダブルス　選手名簿'!G144","v":0},{"$f":"'ダブルス　選手名簿'!H144","v":0},{"$f":"'ダブルス　選手名簿'!I144","v":0}]
[22143,{"$f":"'ダブルス　選手名簿'!G145","v":0},{"$f":"'ダブルス　選手名簿'!H145","v":0},{"$f":"'ダブルス　選手名簿'!I145","v":0}]
[22144,{"$f":"'ダブルス　選手名簿'!G146","v":0},{"$f":"'ダブルス　選手名簿'!H146","v":0},{"$f":"'ダブルス　選手名簿'!I146","v":0}]
[22145,{"$f":"'ダブルス　選手名簿'!G147","v":0},{"$f":"'ダブルス　選手名簿'!H147","v":0},{"$f":"'ダブルス　選手名簿'!I147","v":0}]
[22146,{"$f":"'ダブルス　選手名簿'!G148","v":0},{"$f":"'ダブルス　選手名簿'!H148","v":0},{"$f":"'ダブルス　選手名簿'!I148","v":0}]
[22147,{"$f":"'ダブルス　選手名簿'!G149","v":0},{"$f":"'ダブルス　選手名簿'!H149","v":0},{"$f":"'ダブルス　選手名簿'!I149","v":0}]
[22148,{"$f":"'ダブルス　選手名簿'!G150","v":0},{"$f":"'ダブルス　選手名簿'!H150","v":0},{"$f":"'ダブルス　選手名簿'!I150","v":0}]
[22149,{"$f":"'ダブルス　選手名簿'!G151","v":0},{"$f":"'ダブルス　選手名簿'!H151","v":0},{"$f":"'ダブルス　選手名簿'!I151","v":0}]
[22150,{"$f":"'ダブルス　選手名簿'!G152","v":0},{"$f":"'ダブルス　選手名簿'!H152","v":0},{"$f":"'ダブルス　選手名簿'!I152","v":0}]
[22151,{"$f":"'ダブルス　選手名簿'!G153","v":0},{"$f":"'ダブルス　選手名簿'!H153","v":0},{"$f":"'ダブルス　選手名簿'!I153","v":0}]
[22152,{"$f":"'ダブルス　選手名簿'!G154","v":0},{"$f":"'ダブルス　選手名簿'!H154","v":0},{"$f":"'ダブルス　選手名簿'!I154","v":0}]
[22153,{"$f":"'ダブルス　選手名簿'!G155","v":0},{"$f":"'ダブルス　選手名簿'!H155","v":0},{"$f":"'ダブルス　選手名簿'!I155","v":0}]
[22154,{"$f":"'ダブルス　選手名簿'!G156","v":0},{"$f":"'ダブルス　選手名簿'!H156","v":0},{"$f":"'ダブルス　選手名簿'!I156","v":0}]
[22155,{"$f":"'ダブルス　選手名簿'!G157","v":0},{"$f":"'ダブルス　選手名簿'!H157","v":0},{"$f":"'ダブルス　選手名簿'!I157","v":0}]
[22156,{"$f":"'ダブルス　選手名簿'!G158","v":0},{"$f":"'ダブルス　選手名簿'!H158","v":0},{"$f":"'ダブルス　選手名簿'!I158","v":0}]
[22157,{"$f":"'ダブルス　選手名簿'!G159","v":0},{"$f":"'ダブルス　選手名簿'!H159","v":0},{"$f":"'ダブルス　選手名簿'!I159","v":0}]
[22158,{"$f":"'ダブルス　選手名簿'!G160","v":0},{"$f":"'ダブルス　選手名簿'!H160","v":0},{"$f":"'ダブルス　選手名簿'!I160","v":0}]
[22159,{"$f":"'ダブルス　選手名簿'!G161","v":0},{"$f":"'ダブルス　選手名簿'!H161","v":0},{"$f":"'ダブルス　選手名簿'!I161","v":0}]
[22160,{"$f":"'ダブルス　選手名簿'!G162","v":0},{"$f":"'ダブルス　選手名簿'!H162","v":0},{"$f":"'ダブルス　選手名簿'!I162","v":0}]
[22161,{"$f":"'ダブルス　選手名簿'!G163","v":0},{"$f":"'ダブルス　選手名簿'!H163","v":0},{"$f":"'ダブルス　選手名簿'!I163","v":0}]
[22162,{"$f":"'ダブルス　選手名簿'!G164","v":0},{"$f":"'ダブルス　選手名簿'!H164","v":0},{"$f":"'ダブルス　選手名簿'!I164","v":0}]
[22163,{"$f":"'ダブルス　選手名簿'!G165","v":0},{"$f":"'ダブルス　選手名簿'!H165","v":0},{"$f":"'ダブルス　選手名簿'!I165","v":0}]
[22164,{"$f":"'ダブルス　選手名簿'!G166","v":0},{"$f":"'ダブルス　選手名簿'!H166","v":0},{"$f":"'ダブルス　選手名簿'!I166","v":0}]
[22165,{"$f":"'ダブルス　選手名簿'!G167","v":0},{"$f":"'ダブルス　選手名簿'!H167","v":0},{"$f":"'ダブルス　選手名簿'!I167","v":0}]
[22166,{"$f":"'ダブルス　選手名簿'!G168","v":0},{"$f":"'ダブルス　選手名簿'!H168","v":0},{"$f":"'ダブルス　選手名簿'!I168","v":0}]
[22167,{"$f":"'ダブルス　選手名簿'!G169","v":0},{"$f":"'ダブルス　選手名簿'!H169","v":0},{"$f":"'ダブルス　選手名簿'!I169","v":0}]
[22168,{"$f":"'ダブルス　選手名簿'!G170","v":0},{"$f":"'ダブルス　選手名簿'!H170","v":0},{"$f":"'ダブルス　選手名簿'!I170","v":0}]
[22169,{"$f":"'ダブルス　選手名簿'!G171","v":0},{"$f":"'ダブルス　選手名簿'!H171","v":0},{"$f":"'ダブルス　選手名簿'!I171","v":0}]
[22170,{"$f":"'ダブルス　選手名簿'!G172","v":0},{"$f":"'ダブルス　選手名簿'!H172","v":0},{"$f":"'ダブルス　選手名簿'!I172","v":0}]
[22171,{"$f":"'ダブルス　選手名簿'!G173","v":0},{"$f":"'ダブルス　選手名簿'!H173","v":0},{"$f":"'ダブルス　選手名簿'!I173","v":0}]
[22172,{"$f":"'ダブルス　選手名簿'!G174","v":0},{"$f":"'ダブルス　選手名簿'!H174","v":0},{"$f":"'ダブルス　選手名簿'!I174","v":0}]
[22173,{"$f":"'ダブルス　選手名簿'!G175","v":0},{"$f":"'ダブルス　選手名簿'!H175","v":0},{"$f":"'ダブルス　選手名簿'!I175","v":0}]
[22174,{"$f":"'ダブルス　選手名簿'!G176","v":0},{"$f":"'ダブルス　選手名簿'!H176","v":0},{"$f":"'ダブルス　選手名簿'!I176","v":0}]
[22175,{"$f":"'ダブルス　選手名簿'!G177","v":0},{"$f":"'ダブルス　選手名簿'!H177","v":0},{"$f":"'ダブルス　選手名簿'!I177","v":0}]
[22176,{"$f":"'ダブルス　選手名簿'!G178","v":0},{"$f":"'ダブルス　選手名簿'!H178","v":0},{"$f":"'ダブルス　選手名簿'!I178","v":0}]
[22177,{"$f":"'ダブルス　選手名簿'!G179","v":0},{"$f":"'ダブルス　選手名簿'!H179","v":0},{"$f":"'ダブルス　選手名簿'!I179","v":0}]
[22178,{"$f":"'ダブルス　選手名簿'!G180","v":0},{"$f":"'ダブルス　選手名簿'!H180","v":0},{"$f":"'ダブルス　選手名簿'!I180","v":0}]
[22179,{"$f":"'ダブルス　選手名簿'!G181","v":0},{"$f":"'ダブルス　選手名簿'!H181","v":0},{"$f":"'ダブルス　選手名簿'!I181","v":0}]
[22180,{"$f":"'ダブルス　選手名簿'!G182","v":0},{"$f":"'ダブルス　選手名簿'!H182","v":0},{"$f":"'ダブルス　選手名簿'!I182","v":0}]
[22181,{"$f":"'ダブルス　選手名簿'!G183","v":0},{"$f":"'ダブルス　選手名簿'!H183","v":0},{"$f":"'ダブルス　選手名簿'!I183","v":0}]
[22182,{"$f":"'ダブルス　選手名簿'!G184","v":0},{"$f":"'ダブルス　選手名簿'!H184","v":0},{"$f":"'ダブルス　選手名簿'!I184","v":0}]
[22183,{"$f":"'ダブルス　選手名簿'!G185","v":0},{"$f":"'ダブルス　選手名簿'!H185","v":0},{"$f":"'ダブルス　選手名簿'!I185","v":0}]
[22184,{"$f":"'ダブルス　選手名簿'!G186","v":0},{"$f":"'ダブルス　選手名簿'!H186","v":0},{"$f":"'ダブルス　選手名簿'!I186","v":0}]
[22185,{"$f":"'ダブルス　選手名簿'!G187","v":0},{"$f":"'ダブルス　選手名簿'!H187","v":0},{"$f":"'ダブルス　選手名簿'!I187","v":0}]
[22186,{"$f":"'ダブルス　選手名簿'!G188","v":0},{"$f":"'ダブルス　選手名簿'!H188","v":0},{"$f":"'ダブルス　選手名簿'!I188","v":0}]
[22187,{"$f":"'ダブルス　選手名簿'!G189","v":0},{"$f":"'ダブルス　選手名簿'!H189","v":0},{"$f":"'ダブルス　選手名簿'!I189","v":0}]
[22188,{"$f":"'ダブルス　選手名簿'!G190","v":0},{"$f":"'ダブルス　選手名簿'!H190","v":0},{"$f":"'ダブルス　選手名簿'!I190","v":0}]
[22189,{"$f":"'ダブルス　選手名簿'!G191","v":0},{"$f":"'ダブルス　選手名簿'!H191","v":0},{"$f":"'ダブルス　選手名簿'!I191","v":0}]
[22190,{"$f":"'ダブルス　選手名簿'!G192","v":0},{"$f":"'ダブルス　選手名簿'!H192","v":0},{"$f":"'ダブルス　選手名簿'!I192","v":0}]
[22191,{"$f":"'ダブルス　選手名簿'!G193","v":0},{"$f":"'ダブルス　選手名簿'!H193","v":0},{"$f":"'ダブルス　選手名簿'!I193","v":0}]
[22192,{"$f":"'ダブルス　選手名簿'!G194","v":0},{"$f":"'ダブルス　選手名簿'!H194","v":0},{"$f":"'ダブルス　選手名簿'!I194","v":0}]
[22193,{"$f":"'ダブルス　選手名簿'!G195","v":0},{"$f":"'ダブルス　選手名簿'!H195","v":0},{"$f":"'ダブルス　選手名簿'!I195","v":0}]
[22194,{"$f":"'ダブルス　選手名簿'!G196","v":0},{"$f":"'ダブルス　選手名簿'!H196","v":0},{"$f":"'ダブルス　選手名簿'!I196","v":0}]
[22195,{"$f":"'ダブルス　選手名簿'!G197","v":0},{"$f":"'ダブルス　選手名簿'!H197","v":0},{"$f":"'ダブルス　選手名簿'!I197","v":0}]
[22196,{"$f":"'ダブルス　選手名簿'!G198","v":0},{"$f":"'ダブルス　選手名簿'!H198","v":0},{"$f":"'ダブルス　選手名簿'!I198","v":0}]
[22197,{"$f":"'ダブルス　選手名簿'!G199","v":0},{"$f":"'ダブルス　選手名簿'!H199","v":0},{"$f":"'ダブルス　選手名簿'!I199","v":0}]
[22198,{"$f":"'ダブルス　選手名簿'!G200","v":0},{"$f":"'ダブルス　選手名簿'!H200","v":0},{"$f":"'ダブルス　選手名簿'!I200","v":0}]
[22199,{"$f":"'ダブルス　選手名簿'!G201","v":0},{"$f":"'ダブルス　選手名簿'!H201","v":0},{"$f":"'ダブルス　選手名簿'!I201","v":0}]
[22200,{"$f":"'ダブルス　選手名簿'!G202","v":0},{"$f":"'ダブルス　選手名簿'!H202","v":0},{"$f":"'ダブルス　選手名簿'!I202","v":0}]
[22201,{"$f":"'ダブルス　選手名簿'!G203","v":0},{"$f":"'ダブルス　選手名簿'!H203","v":0},{"$f":"'ダブルス　選手名簿'!I203","v":0}]
[22202,{"$f":"'ダブルス　選手名簿'!G204","v":0},{"$f":"'ダブルス　選手名簿'!H204","v":0},{"$f":"'ダブルス　選手名簿'!I204","v":0}]
[22203,{"$f":"'ダブルス　選手名簿'!G205","v":0},{"$f":"'ダブルス　選手名簿'!H205","v":0},{"$f":"'ダブルス　選手名簿'!I205","v":0}]
[22204,{"$f":"'ダブルス　選手名簿'!G206","v":0},{"$f":"'ダブルス　選手名簿'!H206","v":0},{"$f":"'ダブルス　選手名簿'!I206","v":0}]
[22205,{"$f":"'ダブルス　選手名簿'!G207","v":0},{"$f":"'ダブルス　選手名簿'!H207","v":0},{"$f":"'ダブルス　選手名簿'!I207","v":0}]
[22206,{"$f":"'ダブルス　選手名簿'!G208","v":0},{"$f":"'ダブルス　選手名簿'!H208","v":0},{"$f":"'ダブルス　選手名簿'!I208","v":0}]
[22207,{"$f":"'ダブルス　選手名簿'!G209","v":0},{"$f":"'ダブルス　選手名簿'!H209","v":0},{"$f":"'ダブルス　選手名簿'!I209","v":0}]
[22208,{"$f":"'ダブルス　選手名簿'!G210","v":0},{"$f":"'ダブルス　選手名簿'!H210","v":0},{"$f":"'ダブルス　選手名簿'!I210","v":0}]
[22209,{"$f":"'ダブルス　選手名簿'!G211","v":0},{"$f":"'ダブルス　選手名簿'!H211","v":0},{"$f":"'ダブルス　選手名簿'!I211","v":0}]
[22210,{"$f":"'ダブルス　選手名簿'!G212","v":0},{"$f":"'ダブルス　選手名簿'!H212","v":0},{"$f":"'ダブルス　選手名簿'!I212","v":0}]
[22211,{"$f":"'ダブルス　選手名簿'!G213","v":0},{"$f":"'ダブルス　選手名簿'!H213","v":0},{"$f":"'ダブルス　選手名簿'!I213","v":0}]
[22212,{"$f":"'ダブルス　選手名簿'!G214","v":0},{"$f":"'ダブルス　選手名簿'!H214","v":0},{"$f":"'ダブルス　選手名簿'!I214","v":0}]
[22213,{"$f":"'ダブルス　選手名簿'!G215","v":0},{"$f":"'ダブルス　選手名簿'!H215","v":0},{"$f":"'ダブルス　選手名簿'!I215","v":0}]
[22214,{"$f":"'ダブルス　選手名簿'!G216","v":0},{"$f":"'ダブルス　選手名簿'!H216","v":0},{"$f":"'ダブルス　選手名簿'!I216","v":0}]
[22215,{"$f":"'ダブルス　選手名簿'!G217","v":0},{"$f":"'ダブルス　選手名簿'!H217","v":0},{"$f":"'ダブルス　選手名簿'!I217","v":0}]
[22216,{"$f":"'ダブルス　選手名簿'!G218","v":0},{"$f":"'ダブルス　選手名簿'!H218","v":0},{"$f":"'ダブルス　選手名簿'!I218","v":0}]
[22217,{"$f":"'ダブルス　選手名簿'!G219","v":0},{"$f":"'ダブルス　選手名簿'!H219","v":0},{"$f":"'ダブルス　選手名簿'!I219","v":0}]
[22218,{"$f":"'ダブルス　選手名簿'!G220","v":0},{"$f":"'ダブルス　選手名簿'!H220","v":0},{"$f":"'ダブルス　選手名簿'!I220","v":0}]
[22219,{"$f":"'ダブルス　選手名簿'!G221","v":0},{"$f":"'ダブルス　選手名簿'!H221","v":0},{"$f":"'ダブルス　選手名簿'!I221","v":0}]
[22220,{"$f":"'ダブルス　選手名簿'!G222","v":0},{"$f":"'ダブルス　選手名簿'!H222","v":0},{"$f":"'ダブルス　選手名簿'!I222","v":0}]
[22221,{"$f":"'ダブルス　選手名簿'!G223","v":0},{"$f":"'ダブルス　選手名簿'!H223","v":0},{"$f":"'ダブルス　選手名簿'!I223","v":0}]
[22222,{"$f":"'ダブルス　選手名簿'!G224","v":0},{"$f":"'ダブルス　選手名簿'!H224","v":0},{"$f":"'ダブルス　選手名簿'!I224","v":0}]
[22223,{"$f":"'ダブルス　選手名簿'!G225","v":0},{"$f":"'ダブルス　選手名簿'!H225","v":0},{"$f":"'ダブルス　選手名簿'!I225","v":0}]
[22224,{"$f":"'ダブルス　選手名簿'!G226","v":0},{"$f":"'ダブルス　選手名簿'!H226","v":0},{"$f":"'ダブルス　選手名簿'!I226","v":0}]
[22225,{"$f":"'ダブルス　選手名簿'!G227","v":0},{"$f":"'ダブルス　選手名簿'!H227","v":0},{"$f":"'ダブルス　選手名簿'!I227","v":0}]
[22226,{"$f":"'ダブルス　選手名簿'!G228","v":0},{"$f":"'ダブルス　選手名簿'!H228","v":0},{"$f":"'ダブルス　選手名簿'!I228","v":0}]
[22227,{"$f":"'ダブルス　選手名簿'!G229","v":0},{"$f":"'ダブルス　選手名簿'!H229","v":0},{"$f":"'ダブルス　選手名簿'!I229","v":0}]
[22228,{"$f":"'ダブルス　選手名簿'!G230","v":0},{"$f":"'ダブルス　選手名簿'!H230","v":0},{"$f":"'ダブルス　選手名簿'!I230","v":0}]
[22229,{"$f":"'ダブルス　選手名簿'!G231","v":0},{"$f":"'ダブルス　選手名簿'!H231","v":0},{"$f":"'ダブルス　選手名簿'!I231","v":0}]
[22230,{"$f":"'ダブルス　選手名簿'!G232","v":0},{"$f":"'ダブルス　選手名簿'!H232","v":0},{"$f":"'ダブルス　選手名簿'!I232","v":0}]
[22231,{"$f":"'ダブルス　選手名簿'!G233","v":0},{"$f":"'ダブルス　選手名簿'!H233","v":0},{"$f":"'ダブルス　選手名簿'!I233","v":0}]
[22232,{"$f":"'ダブルス　選手名簿'!G234","v":0},{"$f":"'ダブルス　選手名簿'!H234","v":0},{"$f":"'ダブルス　選手名簿'!I234","v":0}]
[22233,{"$f":"'ダブルス　選手名簿'!G235","v":0},{"$f":"'ダブルス　選手名簿'!H235","v":0},{"$f":"'ダブルス　選手名簿'!I235","v":0}]
[22234,{"$f":"'ダブルス　選手名簿'!G236","v":0},{"$f":"'ダブルス　選手名簿'!H236","v":0},{"$f":"'ダブルス　選手名簿'!I236","v":0}]
[22235,{"$f":"'ダブルス　選手名簿'!G237","v":0},{"$f":"'ダブルス　選手名簿'!H237","v":0},{"$f":"'ダブルス　選手名簿'!I237","v":0}]
[22236,{"$f":"'ダブルス　選手名簿'!G238","v":0},{"$f":"'ダブルス　選手名簿'!H238","v":0},{"$f":"'ダブルス　選手名簿'!I238","v":0}]
[22237,{"$f":"'ダブルス　選手名簿'!G239","v":0},{"$f":"'ダブルス　選手名簿'!H239","v":0},{"$f":"'ダブルス　選手名簿'!I239","v":0}]
[22238,{"$f":"'ダブルス　選手名簿'!G240","v":0},{"$f":"'ダブルス　選手名簿'!H240","v":0},{"$f":"'ダブルス　選手名簿'!I240","v":0}]
[22239,{"$f":"'ダブルス　選手名簿'!G241","v":0},{"$f":"'ダブルス　選手名簿'!H241","v":0},{"$f":"'ダブルス　選手名簿'!I241","v":0}]
[22240,{"$f":"'ダブルス　選手名簿'!G242","v":0},{"$f":"'ダブルス　選手名簿'!H242","v":0},{"$f":"'ダブルス　選手名簿'!I242","v":0}]
[22241,{"$f":"'ダブルス　選手名簿'!G243","v":0},{"$f":"'ダブルス　選手名簿'!H243","v":0},{"$f":"'ダブルス　選手名簿'!I243","v":0}]
[22242,{"$f":"'ダブルス　選手名簿'!G244","v":0},{"$f":"'ダブルス　選手名簿'!H244","v":0},{"$f":"'ダブルス　選手名簿'!I244","v":0}]
[22243,{"$f":"'ダブルス　選手名簿'!G245","v":0},{"$f":"'ダブルス　選手名簿'!H245","v":0},{"$f":"'ダブルス　選手名簿'!I245","v":0}]
[22244,{"$f":"'ダブルス　選手名簿'!G246","v":0},{"$f":"'ダブルス　選手名簿'!H246","v":0},{"$f":"'ダブルス　選手名簿'!I246","v":0}]
[22245,{"$f":"'ダブルス　選手名簿'!G247","v":0},{"$f":"'ダブルス　選手名簿'!H247","v":0},{"$f":"'ダブルス　選手名簿'!I247","v":0}]
[22246,{"$f":"'ダブルス　選手名簿'!G248","v":0},{"$f":"'ダブルス　選手名簿'!H248","v":0},{"$f":"'ダブルス　選手名簿'!I248","v":0}]
[22247,{"$f":"'ダブルス　選手名簿'!G249","v":0},{"$f":"'ダブルス　選手名簿'!H249","v":0},{"$f":"'ダブルス　選手名簿'!I249","v":0}]
[22248,{"$f":"'ダブルス　選手名簿'!G250","v":0},{"$f":"'ダブルス　選手名簿'!H250","v":0},{"$f":"'ダブルス　選手名簿'!I250","v":0}]
[22249,{"$f":"'ダブルス　選手名簿'!G251","v":0},{"$f":"'ダブルス　選手名簿'!H251","v":0},{"$f":"'ダブルス　選手名簿'!I251","v":0}]
[22250,{"$f":"'ダブルス　選手名簿'!G252","v":0},{"$f":"'ダブルス　選手名簿'!H252","v":0},{"$f":"'ダブルス　選手名簿'!I252","v":0}]
[22251,{"$f":"'ダブルス　選手名簿'!G253","v":0},{"$f":"'ダブルス　選手名簿'!H253","v":0},{"$f":"'ダブルス　選手名簿'!I253","v":0}]
[22252,{"$f":"'ダブルス　選手名簿'!G254","v":0},{"$f":"'ダブルス　選手名簿'!H254","v":0},{"$f":"'ダブルス　選手名簿'!I254","v":0}]
[22253,{"$f":"'ダブルス　選手名簿'!G255","v":0},{"$f":"'ダブルス　選手名簿'!H255","v":0},{"$f":"'ダブルス　選手名簿'!I255","v":0}]
[22254,{"$f":"'ダブルス　選手名簿'!G256","v":0},{"$f":"'ダブルス　選手名簿'!H256","v":0},{"$f":"'ダブルス　選手名簿'!I256","v":0}]
[22255,{"$f":"'ダブルス　選手名簿'!G257","v":0},{"$f":"'ダブルス　選手名簿'!H257","v":0},{"$f":"'ダブルス　選手名簿'!I257","v":0}]
[22256,{"$f":"'ダブルス　選手名簿'!G258","v":0},{"$f":"'ダブルス　選手名簿'!H258","v":0},{"$f":"'ダブルス　選手名簿'!I258","v":0}]
[22257,{"$f":"'ダブルス　選手名簿'!G259","v":0},{"$f":"'ダブルス　選手名簿'!H259","v":0},{"$f":"'ダブルス　選手名簿'!I259","v":0}]
[22258,{"$f":"'ダブルス　選手名簿'!G260","v":0},{"$f":"'ダブルス　選手名簿'!H260","v":0},{"$f":"'ダブルス　選手名簿'!I260","v":0}]
[22259,{"$f":"'ダブルス　選手名簿'!G261","v":0},{"$f":"'ダブルス　選手名簿'!H261","v":0},{"$f":"'ダブルス　選手名簿'!I261","v":0}]
[22260,{"$f":"'ダブルス　選手名簿'!G262","v":0},{"$f":"'ダブルス　選手名簿'!H262","v":0},{"$f":"'ダブルス　選手名簿'!I262","v":0}]
[22261,{"$f":"'ダブルス　選手名簿'!G263","v":0},{"$f":"'ダブルス　選手名簿'!H263","v":0},{"$f":"'ダブルス　選手名簿'!I263","v":0}]
[22262,{"$f":"'ダブルス　選手名簿'!G264","v":0},{"$f":"'ダブルス　選手名簿'!H264","v":0},{"$f":"'ダブルス　選手名簿'!I264","v":0}]
[22263,{"$f":"'ダブルス　選手名簿'!G265","v":0},{"$f":"'ダブルス　選手名簿'!H265","v":0},{"$f":"'ダブルス　選手名簿'!I265","v":0}]
[22264,{"$f":"'ダブルス　選手名簿'!G266","v":0},{"$f":"'ダブルス　選手名簿'!H266","v":0},{"$f":"'ダブルス　選手名簿'!I266","v":0}]
[22265,{"$f":"'ダブルス　選手名簿'!G267","v":0},{"$f":"'ダブルス　選手名簿'!H267","v":0},{"$f":"'ダブルス　選手名簿'!I267","v":0}]
[22266,{"$f":"'ダブルス　選手名簿'!G268","v":0},{"$f":"'ダブルス　選手名簿'!H268","v":0},{"$f":"'ダブルス　選手名簿'!I268","v":0}]
[22267,{"$f":"'ダブルス　選手名簿'!G269","v":0},{"$f":"'ダブルス　選手名簿'!H269","v":0},{"$f":"'ダブルス　選手名簿'!I269","v":0}]
[22268,{"$f":"'ダブルス　選手名簿'!G270","v":0},{"$f":"'ダブルス　選手名簿'!H270","v":0},{"$f":"'ダブルス　選手名簿'!I270","v":0}]
[22269,{"$f":"'ダブルス　選手名簿'!G271","v":0},{"$f":"'ダブルス　選手名簿'!H271","v":0},{"$f":"'ダブルス　選手名簿'!I271","v":0}]
[22270,{"$f":"'ダブルス　選手名簿'!G272","v":0},{"$f":"'ダブルス　選手名簿'!H272","v":0},{"$f":"'ダブルス　選手名簿'!I272","v":0}]
[22271,{"$f":"'ダブルス　選手名簿'!G273","v":0},{"$f":"'ダブルス　選手名簿'!H273","v":0},{"$f":"'ダブルス　選手名簿'!I273","v":0}]
[22272,{"$f":"'ダブルス　選手名簿'!G274","v":0},{"$f":"'ダブルス　選手名簿'!H274","v":0},{"$f":"'ダブルス　選手名簿'!I274","v":0}]
[22273,{"$f":"'ダブルス　選手名簿'!G275","v":0},{"$f":"'ダブルス　選手名簿'!H275","v":0},{"$f":"'ダブルス　選手名簿'!I275","v":0}]
[22274,{"$f":"'ダブルス　選手名簿'!G276","v":0},{"$f":"'ダブルス　選手名簿'!H276","v":0},{"$f":"'ダブルス　選手名簿'!I276","v":0}]
[22275,{"$f":"'ダブルス　選手名簿'!G277","v":0},{"$f":"'ダブルス　選手名簿'!H277","v":0},{"$f":"'ダブルス　選手名簿'!I277","v":0}]
[22276,{"$f":"'ダブルス　選手名簿'!G278","v":0},{"$f":"'ダブルス　選手名簿'!H278","v":0},{"$f":"'ダブルス　選手名簿'!I278","v":0}]
[22277,{"$f":"'ダブルス　選手名簿'!G279","v":0},{"$f":"'ダブルス　選手名簿'!H279","v":0},{"$f":"'ダブルス　選手名簿'!I279","v":0}]
[22278,{"$f":"'ダブルス　選手名簿'!G280","v":0},{"$f":"'ダブルス　選手名簿'!H280","v":0},{"$f":"'ダブルス　選手名簿'!I280","v":0}]
[22279,{"$f":"'ダブルス　選手名簿'!G281","v":0},{"$f":"'ダブルス　選手名簿'!H281","v":0},{"$f":"'ダブルス　選手名簿'!I281","v":0}]
[22280,{"$f":"'ダブルス　選手名簿'!G282","v":0},{"$f":"'ダブルス　選手名簿'!H282","v":0},{"$f":"'ダブルス　選手名簿'!I282","v":0}]
[22281,{"$f":"'ダブルス　選手名簿'!G283","v":0},{"$f":"'ダブルス　選手名簿'!H283","v":0},{"$f":"'ダブルス　選手名簿'!I283","v":0}]
[22282,{"$f":"'ダブルス　選手名簿'!G284","v":0},{"$f":"'ダブルス　選手名簿'!H284","v":0},{"$f":"'ダブルス　選手名簿'!I284","v":0}]
[22283,{"$f":"'ダブルス　選手名簿'!G285","v":0},{"$f":"'ダブルス　選手名簿'!H285","v":0},{"$f":"'ダブルス　選手名簿'!I285","v":0}]
[22284,{"$f":"'ダブルス　選手名簿'!G286","v":0},{"$f":"'ダブルス　選手名簿'!H286","v":0},{"$f":"'ダブルス　選手名簿'!I286","v":0}]
[22285,{"$f":"'ダブルス　選手名簿'!G287","v":0},{"$f":"'ダブルス　選手名簿'!H287","v":0},{"$f":"'ダブルス　選手名簿'!I287","v":0}]
[22286,{"$f":"'ダブルス　選手名簿'!G288","v":0},{"$f":"'ダブルス　選手名簿'!H288","v":0},{"$f":"'ダブルス　選手名簿'!I288","v":0}]
[22287,{"$f":"'ダブルス　選手名簿'!G289","v":0},{"$f":"'ダブルス　選手名簿'!H289","v":0},{"$f":"'ダブルス　選手名簿'!I289","v":0}]
[22288,{"$f":"'ダブルス　選手名簿'!G290","v":0},{"$f":"'ダブルス　選手名簿'!H290","v":0},{"$f":"'ダブルス　選手名簿'!I290","v":0}]
[22289,{"$f":"'ダブルス　選手名簿'!G291","v":0},{"$f":"'ダブルス　選手名簿'!H291","v":0},{"$f":"'ダブルス　選手名簿'!I291","v":0}]
[22290,{"$f":"'ダブルス　選手名簿'!G292","v":0},{"$f":"'ダブルス　選手名簿'!H292","v":0},{"$f":"'ダブルス　選手名簿'!I292","v":0}]
[22291,{"$f":"'ダブルス　選手名簿'!G293","v":0},{"$f":"'ダブルス　選手名簿'!H293","v":0},{"$f":"'ダブルス　選手名簿'!I293","v":0}]
[22292,{"$f":"'ダブルス　選手名簿'!G294","v":0},{"$f":"'ダブルス　選手名簿'!H294","v":0},{"$f":"'ダブルス　選手名簿'!I294","v":0}]
[22293,{"$f":"'ダブルス　選手名簿'!G295","v":0},{"$f":"'ダブルス　選手名簿'!H295","v":0},{"$f":"'ダブルス　選手名簿'!I295","v":0}]
[22294,{"$f":"'ダブルス　選手名簿'!G296","v":0},{"$f":"'ダブルス　選手名簿'!H296","v":0},{"$f":"'ダブルス　選手名簿'!I296","v":0}]
[22295,{"$f":"'ダブルス　選手名簿'!G297","v":0},{"$f":"'ダブルス　選手名簿'!H297","v":0},{"$f":"'ダブルス　選手名簿'!I297","v":0}]
[22296,{"$f":"'ダブルス　選手名簿'!G298","v":0},{"$f":"'ダブルス　選手名簿'!H298","v":0},{"$f":"'ダブルス　選手名簿'!I298","v":0}]
[22297,{"$f":"'ダブルス　選手名簿'!G299","v":0},{"$f":"'ダブルス　選手名簿'!H299","v":0},{"$f":"'ダブルス　選手名簿'!I299","v":0}]
[22298,{"$f":"'ダブルス　選手名簿'!G300","v":0},{"$f":"'ダブルス　選手名簿'!H300","v":0},{"$f":"'ダブルス　選手名簿'!I300","v":0}]
[22299,{"$f":"'ダブルス　選手名簿'!G301","v":0},{"$f":"'ダブルス　選手名簿'!H301","v":0},{"$f":"'ダブルス　選手名簿'!I301","v":0}]
[22300,{"$f":"'ダブルス　選手名簿'!G302","v":0},{"$f":"'ダブルス　選手名簿'!H302","v":0},{"$f":"'ダブルス　選手名簿'!I302","v":0}]
[22301,{"$f":"'ダブルス　選手名簿'!G303","v":0},{"$f":"'ダブルス　選手名簿'!H303","v":0},{"$f":"'ダブルス　選手名簿'!I303","v":0}]
[22302,{"$f":"'ダブルス　選手名簿'!G304","v":0},{"$f":"'ダブルス　選手名簿'!H304","v":0},{"$f":"'ダブルス　選手名簿'!I304","v":0}]
[22303,{"$f":"'ダブルス　選手名簿'!G305","v":0},{"$f":"'ダブルス　選手名簿'!H305","v":0},{"$f":"'ダブルス　選手名簿'!I305","v":0}]
[22304,{"$f":"'ダブルス　選手名簿'!G306","v":0},{"$f":"'ダブルス　選手名簿'!H306","v":0},{"$f":"'ダブルス　選手名簿'!I306","v":0}]
[22305,{"$f":"'ダブルス　選手名簿'!G307","v":0},{"$f":"'ダブルス　選手名簿'!H307","v":0},{"$f":"'ダブルス　選手名簿'!I307","v":0}]
[22306,{"$f":"'ダブルス　選手名簿'!G308","v":0},{"$f":"'ダブルス　選手名簿'!H308","v":0},{"$f":"'ダブルス　選手名簿'!I308","v":0}]
[22307,{"$f":"'ダブルス　選手名簿'!G309","v":0},{"$f":"'ダブルス　選手名簿'!H309","v":0},{"$f":"'ダブルス　選手名簿'!I309","v":0}]
[22308,{"$f":"'ダブルス　選手名簿'!G310","v":0},{"$f":"'ダブルス　選手名簿'!H310","v":0},{"$f":"'ダブルス　選手名簿'!I310","v":0}]
[22309,{"$f":"'ダブルス　選手名簿'!G311","v":0},{"$f":"'ダブルス　選手名簿'!H311","v":0},{"$f":"'ダブルス　選手名簿'!I311","v":0}]
[22310,{"$f":"'ダブルス　選手名簿'!G312","v":0},{"$f":"'ダブルス　選手名簿'!H312","v":0},{"$f":"'ダブルス　選手名簿'!I312","v":0}]
[22311,{"$f":"'ダブルス　選手名簿'!G313","v":0},{"$f":"'ダブルス　選手名簿'!H313","v":0},{"$f":"'ダブルス　選手名簿'!I313","v":0}]
[22312,{"$f":"'ダブルス　選手名簿'!G314","v":0},{"$f":"'ダブルス　選手名簿'!H314","v":0},{"$f":"'ダブルス　選手名簿'!I314","v":0}]
[22313,{"$f":"'ダブルス　選手名簿'!G315","v":0},{"$f":"'ダブルス　選手名簿'!H315","v":0},{"$f":"'ダブルス　選手名簿'!I315","v":0}]
[22314,{"$f":"'ダブルス　選手名簿'!G316","v":0},{"$f":"'ダブルス　選手名簿'!H316","v":0},{"$f":"'ダブルス　選手名簿'!I316","v":0}]
[22315,{"$f":"'ダブルス　選手名簿'!G317","v":0},{"$f":"'ダブルス　選手名簿'!H317","v":0},{"$f":"'ダブルス　選手名簿'!I317","v":0}]
[22316,{"$f":"'ダブルス　選手名簿'!G318","v":0},{"$f":"'ダブルス　選手名簿'!H318","v":0},{"$f":"'ダブルス　選手名簿'!I318","v":0}]
[22317,{"$f":"'ダブルス　選手名簿'!G319","v":0},{"$f":"'ダブルス　選手名簿'!H319","v":0},{"$f":"'ダブルス　選手名簿'!I319","v":0}]
[22318,{"$f":"'ダブルス　選手名簿'!G320","v":0},{"$f":"'ダブルス　選手名簿'!H320","v":0},{"$f":"'ダブルス　選手名簿'!I320","v":0}]
[22319,{"$f":"'ダブルス　選手名簿'!G321","v":0},{"$f":"'ダブルス　選手名簿'!H321","v":0},{"$f":"'ダブルス　選手名簿'!I321","v":0}]
[22320,{"$f":"'ダブルス　選手名簿'!G322","v":0},{"$f":"'ダブルス　選手名簿'!H322","v":0},{"$f":"'ダブルス　選手名簿'!I322","v":0}]
[22321,{"$f":"'ダブルス　選手名簿'!G323","v":0},{"$f":"'ダブルス　選手名簿'!H323","v":0},{"$f":"'ダブルス　選手名簿'!I323","v":0}]
[22322,{"$f":"'ダブルス　選手名簿'!G324","v":0},{"$f":"'ダブルス　選手名簿'!H324","v":0},{"$f":"'ダブルス　選手名簿'!I324","v":0}]
[22323,{"$f":"'ダブルス　選手名簿'!G325","v":0},{"$f":"'ダブルス　選手名簿'!H325","v":0},{"$f":"'ダブルス　選手名簿'!I325","v":0}]
[22324,{"$f":"'ダブルス　選手名簿'!G326","v":0},{"$f":"'ダブルス　選手名簿'!H326","v":0},{"$f":"'ダブルス　選手名簿'!I326","v":0}]
[22325,{"$f":"'ダブルス　選手名簿'!G327","v":0},{"$f":"'ダブルス　選手名簿'!H327","v":0},{"$f":"'ダブルス　選手名簿'!I327","v":0}]
[22326,{"$f":"'ダブルス　選手名簿'!G328","v":0},{"$f":"'ダブルス　選手名簿'!H328","v":0},{"$f":"'ダブルス　選手名簿'!I328","v":0}]
[22327,{"$f":"'ダブルス　選手名簿'!G329","v":0},{"$f":"'ダブルス　選手名簿'!H329","v":0},{"$f":"'ダブルス　選手名簿'!I329","v":0}]
[22328,{"$f":"'ダブルス　選手名簿'!G330","v":0},{"$f":"'ダブルス　選手名簿'!H330","v":0},{"$f":"'ダブルス　選手名簿'!I330","v":0}]
[22329,{"$f":"'ダブルス　選手名簿'!G331","v":0},{"$f":"'ダブルス　選手名簿'!H331","v":0},{"$f":"'ダブルス　選手名簿'!I331","v":0}]
[22330,{"$f":"'ダブルス　選手名簿'!G332","v":0},{"$f":"'ダブルス　選手名簿'!H332","v":0},{"$f":"'ダブルス　選手名簿'!I332","v":0}]
[22331,{"$f":"'ダブルス　選手名簿'!G333","v":0},{"$f":"'ダブルス　選手名簿'!H333","v":0},{"$f":"'ダブルス　選手名簿'!I333","v":0}]
[22332,{"$f":"'ダブルス　選手名簿'!G334","v":0},{"$f":"'ダブルス　選手名簿'!H334","v":0},{"$f":"'ダブルス　選手名簿'!I334","v":0}]
[22333,{"$f":"'ダブルス　選手名簿'!G335","v":0},{"$f":"'ダブルス　選手名簿'!H335","v":0},{"$f":"'ダブルス　選手名簿'!I335","v":0}]
[22334,{"$f":"'ダブルス　選手名簿'!G336","v":0},{"$f":"'ダブルス　選手名簿'!H336","v":0},{"$f":"'ダブルス　選手名簿'!I336","v":0}]
[22335,{"$f":"'ダブルス　選手名簿'!G337","v":0},{"$f":"'ダブルス　選手名簿'!H337","v":0},{"$f":"'ダブルス　選手名簿'!I337","v":0}]
[22336,{"$f":"'ダブルス　選手名簿'!G338","v":0},{"$f":"'ダブルス　選手名簿'!H338","v":0},{"$f":"'ダブルス　選手名簿'!I338","v":0}]
[22337,{"$f":"'ダブルス　選手名簿'!G339","v":0},{"$f":"'ダブルス　選手名簿'!H339","v":0},{"$f":"'ダブルス　選手名簿'!I339","v":0}]
[22338,{"$f":"'ダブルス　選手名簿'!G340","v":0},{"$f":"'ダブルス　選手名簿'!H340","v":0},{"$f":"'ダブルス　選手名簿'!I340","v":0}]
[22339,{"$f":"'ダブルス　選手名簿'!G341","v":0},{"$f":"'ダブルス　選手名簿'!H341","v":0},{"$f":"'ダブルス　選手名簿'!I341","v":0}]
[22340,{"$f":"'ダブルス　選手名簿'!G342","v":0},{"$f":"'ダブルス　選手名簿'!H342","v":0},{"$f":"'ダブルス　選手名簿'!I342","v":0}]
[22341,{"$f":"'ダブルス　選手名簿'!G343","v":0},{"$f":"'ダブルス　選手名簿'!H343","v":0},{"$f":"'ダブルス　選手名簿'!I343","v":0}]
[22342,{"$f":"'ダブルス　選手名簿'!G344","v":0},{"$f":"'ダブルス　選手名簿'!H344","v":0},{"$f":"'ダブルス　選手名簿'!I344","v":0}]
[22343,{"$f":"'ダブルス　選手名簿'!G345","v":0},{"$f":"'ダブルス　選手名簿'!H345","v":0},{"$f":"'ダブルス　選手名簿'!I345","v":0}]
[22344,{"$f":"'ダブルス　選手名簿'!G346","v":0},{"$f":"'ダブルス　選手名簿'!H346","v":0},{"$f":"'ダブルス　選手名簿'!I346","v":0}]
[22345,{"$f":"'ダブルス　選手名簿'!G347","v":0},{"$f":"'ダブルス　選手名簿'!H347","v":0},{"$f":"'ダブルス　選手名簿'!I347","v":0}]
[22346,{"$f":"'ダブルス　選手名簿'!G348","v":0},{"$f":"'ダブルス　選手名簿'!H348","v":0},{"$f":"'ダブルス　選手名簿'!I348","v":0}]
[22347,{"$f":"'ダブルス　選手名簿'!G349","v":0},{"$f":"'ダブルス　選手名簿'!H349","v":0},{"$f":"'ダブルス　選手名簿'!I349","v":0}]
[22348,{"$f":"'ダブルス　選手名簿'!G350","v":0},{"$f":"'ダブルス　選手名簿'!H350","v":0},{"$f":"'ダブルス　選手名簿'!I350","v":0}]
[22349,{"$f":"'ダブルス　選手名簿'!G351","v":0},{"$f":"'ダブルス　選手名簿'!H351","v":0},{"$f":"'ダブルス　選手名簿'!I351","v":0}]
[22350,{"$f":"'ダブルス　選手名簿'!G352","v":0},{"$f":"'ダブルス　選手名簿'!H352","v":0},{"$f":"'ダブルス　選手名簿'!I352","v":0}]
[22351,{"$f":"'ダブルス　選手名簿'!G353","v":0},{"$f":"'ダブルス　選手名簿'!H353","v":0},{"$f":"'ダブルス　選手名簿'!I353","v":0}]
[22352,{"$f":"'ダブルス　選手名簿'!G354","v":0},{"$f":"'ダブルス　選手名簿'!H354","v":0},{"$f":"'ダブルス　選手名簿'!I354","v":0}]
[22353,{"$f":"'ダブルス　選手名簿'!G355","v":0},{"$f":"'ダブルス　選手名簿'!H355","v":0},{"$f":"'ダブルス　選手名簿'!I355","v":0}]
[22354,{"$f":"'ダブルス　選手名簿'!G356","v":0},{"$f":"'ダブルス　選手名簿'!H356","v":0},{"$f":"'ダブルス　選手名簿'!I356","v":0}]
[22355,{"$f":"'ダブルス　選手名簿'!G357","v":0},{"$f":"'ダブルス　選手名簿'!H357","v":0},{"$f":"'ダブルス　選手名簿'!I357","v":0}]
[22356,{"$f":"'ダブルス　選手名簿'!G358","v":0},{"$f":"'ダブルス　選手名簿'!H358","v":0},{"$f":"'ダブルス　選手名簿'!I358","v":0}]
[22357,{"$f":"'ダブルス　選手名簿'!G359","v":0},{"$f":"'ダブルス　選手名簿'!H359","v":0},{"$f":"'ダブルス　選手名簿'!I359","v":0}]
[22358,{"$f":"'ダブルス　選手名簿'!G360","v":0},{"$f":"'ダブルス　選手名簿'!H360","v":0},{"$f":"'ダブルス　選手名簿'!I360","v":0}]
[22359,{"$f":"'ダブルス　選手名簿'!G361","v":0},{"$f":"'ダブルス　選手名簿'!H361","v":0},{"$f":"'ダブルス　選手名簿'!I361","v":0}]
[22360,{"$f":"'ダブルス　選手名簿'!G362","v":0},{"$f":"'ダブルス　選手名簿'!H362","v":0},{"$f":"'ダブルス　選手名簿'!I362","v":0}]
[22361,{"$f":"'ダブルス　選手名簿'!G363","v":0},{"$f":"'ダブルス　選手名簿'!H363","v":0},{"$f":"'ダブルス　選手名簿'!I363","v":0}]
[22362,{"$f":"'ダブルス　選手名簿'!G364","v":0},{"$f":"'ダブルス　選手名簿'!H364","v":0},{"$f":"'ダブルス　選手名簿'!I364","v":0}]
[22363,{"$f":"'ダブルス　選手名簿'!G365","v":0},{"$f":"'ダブルス　選手名簿'!H365","v":0},{"$f":"'ダブルス　選手名簿'!I365","v":0}]
[22364,{"$f":"'ダブルス　選手名簿'!G366","v":0},{"$f":"'ダブルス　選手名簿'!H366","v":0},{"$f":"'ダブルス　選手名簿'!I366","v":0}]
[22365,{"$f":"'ダブルス　選手名簿'!G367","v":0},{"$f":"'ダブルス　選手名簿'!H367","v":0},{"$f":"'ダブルス　選手名簿'!I367","v":0}]
[22366,{"$f":"'ダブルス　選手名簿'!G368","v":0},{"$f":"'ダブルス　選手名簿'!H368","v":0},{"$f":"'ダブルス　選手名簿'!I368","v":0}]
[22367,{"$f":"'ダブルス　選手名簿'!G369","v":0},{"$f":"'ダブルス　選手名簿'!H369","v":0},{"$f":"'ダブルス　選手名簿'!I369","v":0}]
[22368,{"$f":"'ダブルス　選手名簿'!G370","v":0},{"$f":"'ダブルス　選手名簿'!H370","v":0},{"$f":"'ダブルス　選手名簿'!I370","v":0}]
[22369,{"$f":"'ダブルス　選手名簿'!G371","v":0},{"$f":"'ダブルス　選手名簿'!H371","v":0},{"$f":"'ダブルス　選手名簿'!I371","v":0}]
[22370,{"$f":"'ダブルス　選手名簿'!G372","v":0},{"$f":"'ダブルス　選手名簿'!H372","v":0},{"$f":"'ダブルス　選手名簿'!I372","v":0}]
[22371,{"$f":"'ダブルス　選手名簿'!G373","v":0},{"$f":"'ダブルス　選手名簿'!H373","v":0},{"$f":"'ダブルス　選手名簿'!I373","v":0}]
[22372,{"$f":"'ダブルス　選手名簿'!G374","v":0},{"$f":"'ダブルス　選手名簿'!H374","v":0},{"$f":"'ダブルス　選手名簿'!I374","v":0}]
[22373,{"$f":"'ダブルス　選手名簿'!G375","v":0},{"$f":"'ダブルス　選手名簿'!H375","v":0},{"$f":"'ダブルス　選手名簿'!I375","v":0}]
[22374,{"$f":"'ダブルス　選手名簿'!G376","v":0},{"$f":"'ダブルス　選手名簿'!H376","v":0},{"$f":"'ダブルス　選手名簿'!I376","v":0}]
[22375,{"$f":"'ダブルス　選手名簿'!G377","v":0},{"$f":"'ダブルス　選手名簿'!H377","v":0},{"$f":"'ダブルス　選手名簿'!I377","v":0}]
[22376,{"$f":"'ダブルス　選手名簿'!G378","v":0},{"$f":"'ダブルス　選手名簿'!H378","v":0},{"$f":"'ダブルス　選手名簿'!I378","v":0}]
[22377,{"$f":"'ダブルス　選手名簿'!G379","v":0},{"$f":"'ダブルス　選手名簿'!H379","v":0},{"$f":"'ダブルス　選手名簿'!I379","v":0}]
[22378,{"$f":"'ダブルス　選手名簿'!G380","v":0},{"$f":"'ダブルス　選手名簿'!H380","v":0},{"$f":"'ダブルス　選手名簿'!I380","v":0}]
[22379,{"$f":"'ダブルス　選手名簿'!G381","v":0},{"$f":"'ダブルス　選手名簿'!H381","v":0},{"$f":"'ダブルス　選手名簿'!I381","v":0}]
[22380,{"$f":"'ダブルス　選手名簿'!G382","v":0},{"$f":"'ダブルス　選手名簿'!H382","v":0},{"$f":"'ダブルス　選手名簿'!I382","v":0}]
[22381,{"$f":"'ダブルス　選手名簿'!G383","v":0},{"$f":"'ダブルス　選手名簿'!H383","v":0},{"$f":"'ダブルス　選手名簿'!I383","v":0}]
[22382,{"$f":"'ダブルス　選手名簿'!G384","v":0},{"$f":"'ダブルス　選手名簿'!H384","v":0},{"$f":"'ダブルス　選手名簿'!I384","v":0}]
[22383,{"$f":"'ダブルス　選手名簿'!G385","v":0},{"$f":"'ダブルス　選手名簿'!H385","v":0},{"$f":"'ダブルス　選手名簿'!I385","v":0}]
[22384,{"$f":"'ダブルス　選手名簿'!G386","v":0},{"$f":"'ダブルス　選手名簿'!H386","v":0},{"$f":"'ダブルス　選手名簿'!I386","v":0}]
[22385,{"$f":"'ダブルス　選手名簿'!G387","v":0},{"$f":"'ダブルス　選手名簿'!H387","v":0},{"$f":"'ダブルス　選手名簿'!I387","v":0}]
[22386,{"$f":"'ダブルス　選手名簿'!G388","v":0},{"$f":"'ダブルス　選手名簿'!H388","v":0},{"$f":"'ダブルス　選手名簿'!I388","v":0}]
[22387,{"$f":"'ダブルス　選手名簿'!G389","v":0},{"$f":"'ダブルス　選手名簿'!H389","v":0},{"$f":"'ダブルス　選手名簿'!I389","v":0}]
[22388,{"$f":"'ダブルス　選手名簿'!G390","v":0},{"$f":"'ダブルス　選手名簿'!H390","v":0},{"$f":"'ダブルス　選手名簿'!I390","v":0}]
[22389,{"$f":"'ダブルス　選手名簿'!G391","v":0},{"$f":"'ダブルス　選手名簿'!H391","v":0},{"$f":"'ダブルス　選手名簿'!I391","v":0}]
[22390,{"$f":"'ダブルス　選手名簿'!G392","v":0},{"$f":"'ダブルス　選手名簿'!H392","v":0},{"$f":"'ダブルス　選手名簿'!I392","v":0}]
[22391,{"$f":"'ダブルス　選手名簿'!G393","v":0},{"$f":"'ダブルス　選手名簿'!H393","v":0},{"$f":"'ダブルス　選手名簿'!I393","v":0}]
[22392,{"$f":"'ダブルス　選手名簿'!G394","v":0},{"$f":"'ダブルス　選手名簿'!H394","v":0},{"$f":"'ダブルス　選手名簿'!I394","v":0}]
[22393,{"$f":"'ダブルス　選手名簿'!G395","v":0},{"$f":"'ダブルス　選手名簿'!H395","v":0},{"$f":"'ダブルス　選手名簿'!I395","v":0}]
[22394,{"$f":"'ダブルス　選手名簿'!G396","v":0},{"$f":"'ダブルス　選手名簿'!H396","v":0},{"$f":"'ダブルス　選手名簿'!I396","v":0}]
[22395,{"$f":"'ダブルス　選手名簿'!G397","v":0},{"$f":"'ダブルス　選手名簿'!H397","v":0},{"$f":"'ダブルス　選手名簿'!I397","v":0}]
[22396,{"$f":"'ダブルス　選手名簿'!G398","v":0},{"$f":"'ダブルス　選手名簿'!H398","v":0},{"$f":"'ダブルス　選手名簿'!I398","v":0}]
[22397,{"$f":"'ダブルス　選手名簿'!G399","v":0},{"$f":"'ダブルス　選手名簿'!H399","v":0},{"$f":"'ダブルス　選手名簿'!I399","v":0}]
[22398,{"$f":"'ダブルス　選手名簿'!G400","v":0},{"$f":"'ダブルス　選手名簿'!H400","v":0},{"$f":"'ダブルス　選手名簿'!I400","v":0}]
[22399,{"$f":"'ダブルス　選手名簿'!G401","v":0},{"$f":"'ダブルス　選手名簿'!H401","v":0},{"$f":"'ダブルス　選手名簿'!I401","v":0}]
[22400,{"$f":"'ダブルス　選手名簿'!G402","v":0},{"$f":"'ダブルス　選手名簿'!H402","v":0},{"$f":"'ダブルス　選手名簿'!I402","v":0}]
[22401,{"$f":"'ダブルス　選手名簿'!G403","v":0},{"$f":"'ダブルス　選手名簿'!H403","v":0},{"$f":"'ダブルス　選手名簿'!I403","v":0}]
[22402,{"$f":"'ダブルス　選手名簿'!G404","v":0},{"$f":"'ダブルス　選手名簿'!H404","v":0},{"$f":"'ダブルス　選手名簿'!I404","v":0}]
[22403,{"$f":"'ダブルス　選手名簿'!G405","v":0},{"$f":"'ダブルス　選手名簿'!H405","v":0},{"$f":"'ダブルス　選手名簿'!I405","v":0}]
[22404,{"$f":"'ダブルス　選手名簿'!G406","v":0},{"$f":"'ダブルス　選手名簿'!H406","v":0},{"$f":"'ダブルス　選手名簿'!I406","v":0}]
[22405,{"$f":"'ダブルス　選手名簿'!G407","v":0},{"$f":"'ダブルス　選手名簿'!H407","v":0},{"$f":"'ダブルス　選手名簿'!I407","v":0}]
[22406,{"$f":"'ダブルス　選手名簿'!G408","v":0},{"$f":"'ダブルス　選手名簿'!H408","v":0},{"$f":"'ダブルス　選手名簿'!I408","v":0}]
[22407,{"$f":"'ダブルス　選手名簿'!G409","v":0},{"$f":"'ダブルス　選手名簿'!H409","v":0},{"$f":"'ダブルス　選手名簿'!I409","v":0}]
[22408,{"$f":"'ダブルス　選手名簿'!G410","v":0},{"$f":"'ダブルス　選手名簿'!H410","v":0},{"$f":"'ダブルス　選手名簿'!I410","v":0}]
[22409,{"$f":"'ダブルス　選手名簿'!G411","v":0},{"$f":"'ダブルス　選手名簿'!H411","v":0},{"$f":"'ダブルス　選手名簿'!I411","v":0}]
[22410,{"$f":"'ダブルス　選手名簿'!G412","v":0},{"$f":"'ダブルス　選手名簿'!H412","v":0},{"$f":"'ダブルス　選手名簿'!I412","v":0}]
[22411,{"$f":"'ダブルス　選手名簿'!G413","v":0},{"$f":"'ダブルス　選手名簿'!H413","v":0},{"$f":"'ダブルス　選手名簿'!I413","v":0}]
[22412,{"$f":"'ダブルス　選手名簿'!G414","v":0},{"$f":"'ダブルス　選手名簿'!H414","v":0},{"$f":"'ダブルス　選手名簿'!I414","v":0}]
[22413,{"$f":"'ダブルス　選手名簿'!G415","v":0},{"$f":"'ダブルス　選手名簿'!H415","v":0},{"$f":"'ダブルス　選手名簿'!I415","v":0}]
[22414,{"$f":"'ダブルス　選手名簿'!G416","v":0},{"$f":"'ダブルス　選手名簿'!H416","v":0},{"$f":"'ダブルス　選手名簿'!I416","v":0}]
[22415,{"$f":"'ダブルス　選手名簿'!G417","v":0},{"$f":"'ダブルス　選手名簿'!H417","v":0},{"$f":"'ダブルス　選手名簿'!I417","v":0}]
[22416,{"$f":"'ダブルス　選手名簿'!G418","v":0},{"$f":"'ダブルス　選手名簿'!H418","v":0},{"$f":"'ダブルス　選手名簿'!I418","v":0}]
[22417,{"$f":"'ダブルス　選手名簿'!G419","v":0},{"$f":"'ダブルス　選手名簿'!H419","v":0},{"$f":"'ダブルス　選手名簿'!I419","v":0}]
[22418,{"$f":"'ダブルス　選手名簿'!G420","v":0},{"$f":"'ダブルス　選手名簿'!H420","v":0},{"$f":"'ダブルス　選手名簿'!I420","v":0}]
[22419,{"$f":"'ダブルス　選手名簿'!G421","v":0},{"$f":"'ダブルス　選手名簿'!H421","v":0},{"$f":"'ダブルス　選手名簿'!I421","v":0}]
[22420,{"$f":"'ダブルス　選手名簿'!G422","v":0},{"$f":"'ダブルス　選手名簿'!H422","v":0},{"$f":"'ダブルス　選手名簿'!I422","v":0}]
[22421,{"$f":"'ダブルス　選手名簿'!G423","v":0},{"$f":"'ダブルス　選手名簿'!H423","v":0},{"$f":"'ダブルス　選手名簿'!I423","v":0}]
[22422,{"$f":"'ダブルス　選手名簿'!G424","v":0},{"$f":"'ダブルス　選手名簿'!H424","v":0},{"$f":"'ダブルス　選手名簿'!I424","v":0}]
[22423,{"$f":"'ダブルス　選手名簿'!G425","v":0},{"$f":"'ダブルス　選手名簿'!H425","v":0},{"$f":"'ダブルス　選手名簿'!I425","v":0}]
[22424,{"$f":"'ダブルス　選手名簿'!G426","v":0},{"$f":"'ダブルス　選手名簿'!H426","v":0},{"$f":"'ダブルス　選手名簿'!I426","v":0}]
[22425,{"$f":"'ダブルス　選手名簿'!G427","v":0},{"$f":"'ダブルス　選手名簿'!H427","v":0},{"$f":"'ダブルス　選手名簿'!I427","v":0}]
[22426,{"$f":"'ダブルス　選手名簿'!G428","v":0},{"$f":"'ダブルス　選手名簿'!H428","v":0},{"$f":"'ダブルス　選手名簿'!I428","v":0}]
[22427,{"$f":"'ダブルス　選手名簿'!G429","v":0},{"$f":"'ダブルス　選手名簿'!H429","v":0},{"$f":"'ダブルス　選手名簿'!I429","v":0}]
[22428,{"$f":"'ダブルス　選手名簿'!G430","v":0},{"$f":"'ダブルス　選手名簿'!H430","v":0},{"$f":"'ダブルス　選手名簿'!I430","v":0}]
[22429,{"$f":"'ダブルス　選手名簿'!G431","v":0},{"$f":"'ダブルス　選手名簿'!H431","v":0},{"$f":"'ダブルス　選手名簿'!I431","v":0}]
[22430,{"$f":"'ダブルス　選手名簿'!G432","v":0},{"$f":"'ダブルス　選手名簿'!H432","v":0},{"$f":"'ダブルス　選手名簿'!I432","v":0}]
[22431,{"$f":"'ダブルス　選手名簿'!G433","v":0},{"$f":"'ダブルス　選手名簿'!H433","v":0},{"$f":"'ダブルス　選手名簿'!I433","v":0}]
[22432,{"$f":"'ダブルス　選手名簿'!G434","v":0},{"$f":"'ダブルス　選手名簿'!H434","v":0},{"$f":"'ダブルス　選手名簿'!I434","v":0}]
[22433,{"$f":"'ダブルス　選手名簿'!G435","v":0},{"$f":"'ダブルス　選手名簿'!H435","v":0},{"$f":"'ダブルス　選手名簿'!I435","v":0}]
[22434,{"$f":"'ダブルス　選手名簿'!G436","v":0},{"$f":"'ダブルス　選手名簿'!H436","v":0},{"$f":"'ダブルス　選手名簿'!I436","v":0}]
[22435,{"$f":"'ダブルス　選手名簿'!G437","v":0},{"$f":"'ダブルス　選手名簿'!H437","v":0},{"$f":"'ダブルス　選手名簿'!I437","v":0}]
[22436,{"$f":"'ダブルス　選手名簿'!G438","v":0},{"$f":"'ダブルス　選手名簿'!H438","v":0},{"$f":"'ダブルス　選手名簿'!I438","v":0}]
[22437,{"$f":"'ダブルス　選手名簿'!G439","v":0},{"$f":"'ダブルス　選手名簿'!H439","v":0},{"$f":"'ダブルス　選手名簿'!I439","v":0}]
[22438,{"$f":"'ダブルス　選手名簿'!G440","v":0},{"$f":"'ダブルス　選手名簿'!H440","v":0},{"$f":"'ダブルス　選手名簿'!I440","v":0}]
[22439,{"$f":"'ダブルス　選手名簿'!G441","v":0},{"$f":"'ダブルス　選手名簿'!H441","v":0},{"$f":"'ダブルス　選手名簿'!I441","v":0}]
[22440,{"$f":"'ダブルス　選手名簿'!G442","v":0},{"$f":"'ダブルス　選手名簿'!H442","v":0},{"$f":"'ダブルス　選手名簿'!I442","v":0}]
[22441,{"$f":"'ダブルス　選手名簿'!G443","v":0},{"$f":"'ダブルス　選手名簿'!H443","v":0},{"$f":"'ダブルス　選手名簿'!I443","v":0}]
[22442,{"$f":"'ダブルス　選手名簿'!G444","v":0},{"$f":"'ダブルス　選手名簿'!H444","v":0},{"$f":"'ダブルス　選手名簿'!I444","v":0}]
[22443,{"$f":"'ダブルス　選手名簿'!G445","v":0},{"$f":"'ダブルス　選手名簿'!H445","v":0},{"$f":"'ダブルス　選手名簿'!I445","v":0}]
[22444,{"$f":"'ダブルス　選手名簿'!G446","v":0},{"$f":"'ダブルス　選手名簿'!H446","v":0},{"$f":"'ダブルス　選手名簿'!I446","v":0}]
[22445,{"$f":"'ダブルス　選手名簿'!G447","v":0},{"$f":"'ダブルス　選手名簿'!H447","v":0},{"$f":"'ダブルス　選手名簿'!I447","v":0}]
[22446,{"$f":"'ダブルス　選手名簿'!G448","v":0},{"$f":"'ダブルス　選手名簿'!H448","v":0},{"$f":"'ダブルス　選手名簿'!I448","v":0}]
[22447,{"$f":"'ダブルス　選手名簿'!G449","v":0},{"$f":"'ダブルス　選手名簿'!H449","v":0},{"$f":"'ダブルス　選手名簿'!I449","v":0}]
[22448,{"$f":"'ダブルス　選手名簿'!G450","v":0},{"$f":"'ダブルス　選手名簿'!H450","v":0},{"$f":"'ダブルス　選手名簿'!I450","v":0}]
[22449,{"$f":"'ダブルス　選手名簿'!G451","v":0},{"$f":"'ダブルス　選手名簿'!H451","v":0},{"$f":"'ダブルス　選手名簿'!I451","v":0}]
[22450,{"$f":"'ダブルス　選手名簿'!G452","v":0},{"$f":"'ダブルス　選手名簿'!H452","v":0},{"$f":"'ダブルス　選手名簿'!I452","v":0}]

{"sheet":"参照","index":4,"n_rows":19,"n_cols":2,"rows_kept":19,"cut":false,"hidden":true,"merged":[]}
[]
["個人戦"]
[1,"シングルス"]
[2,"ダブルス"]
[]
["性別"]
[1,"男子"]
[2,"女子"]
[]
["○回戦"]
[1,"１"]
[2,"２"]
[3,"３"]
[4,"４"]
[5,"５"]
[6,"６"]
[7,"準決勝"]
[8,"決　勝"]
[9,"決定戦"]